BEGIN:VCALENDAR
VERSION:2.0
PRODID:-//The Dirt - ECPv6.15.20//NONSGML v1.0//EN
CALSCALE:GREGORIAN
METHOD:PUBLISH
X-WR-CALNAME:The Dirt
X-ORIGINAL-URL:https://thedirt.online
X-WR-CALDESC:Events for The Dirt
REFRESH-INTERVAL;VALUE=DURATION:PT1H
X-Robots-Tag:noindex
X-PUBLISHED-TTL:PT1H
BEGIN:VTIMEZONE
TZID:America/Los_Angeles
BEGIN:DAYLIGHT
TZOFFSETFROM:-0800
TZOFFSETTO:-0700
TZNAME:PDT
DTSTART:20250309T100000
END:DAYLIGHT
BEGIN:STANDARD
TZOFFSETFROM:-0700
TZOFFSETTO:-0800
TZNAME:PST
DTSTART:20251102T090000
END:STANDARD
BEGIN:DAYLIGHT
TZOFFSETFROM:-0800
TZOFFSETTO:-0700
TZNAME:PDT
DTSTART:20260308T100000
END:DAYLIGHT
BEGIN:STANDARD
TZOFFSETFROM:-0700
TZOFFSETTO:-0800
TZNAME:PST
DTSTART:20261101T090000
END:STANDARD
BEGIN:DAYLIGHT
TZOFFSETFROM:-0800
TZOFFSETTO:-0700
TZNAME:PDT
DTSTART:20270314T100000
END:DAYLIGHT
BEGIN:STANDARD
TZOFFSETFROM:-0700
TZOFFSETTO:-0800
TZNAME:PST
DTSTART:20271107T090000
END:STANDARD
END:VTIMEZONE
BEGIN:VEVENT
DTSTART;TZID=America/Los_Angeles:20260422T190000
DTEND;TZID=America/Los_Angeles:20260422T200000
DTSTAMP:20260423T062040
CREATED:20260403T155434Z
LAST-MODIFIED:20260403T155434Z
UID:10077223-1776884400-1776888000@thedirt.online
SUMMARY:Open Jam Session
DESCRIPTION:Come join our weekly Jam Session at Watermelon Music\, hosted by Friends of Watermelon Music. We play a wide array of music\, including classic rock\, contemporary rock\, indie rock\, pop\, folk\, blues\, and much more! All instrumentation and shill levels welcomed! \nThere is a drum set\, keyboard\, and vocal mic/amp available at the store to play on. Please bring your own amp if you need one. \nWhile technically all ages\, we recommend 18 and over. Attendance is FREE with a suggested donation of $5 to Friends of Watermelon Music.
URL:https://thedirt.online/event/open-jam-session/2026-04-22/
LOCATION:Watermelon Music\, 1970 Lake Blvd.\, Suite 1
CATEGORIES:Community,Music
ATTACH;FMTTYPE=image/png:https://thedirt.online/wp-content/uploads/2026/04/FOWMM.png
GEO:40.6349471;-122.4051228
X-APPLE-STRUCTURED-LOCATION;VALUE=URI;X-ADDRESS=Watermelon Music 1970 Lake Blvd. Suite 1;X-APPLE-RADIUS=500;X-TITLE=1970 Lake Blvd.\, Suite 1:geo:-122.4051228,40.6349471
END:VEVENT
BEGIN:VEVENT
DTSTART;TZID=America/Los_Angeles:20260421T170000
DTEND;TZID=America/Los_Angeles:20260421T190000
DTSTAMP:20260423T062040
CREATED:20250726T165456Z
LAST-MODIFIED:20250726T165456Z
UID:10063094-1776790800-1776798000@thedirt.online
SUMMARY:Guitar Circle
DESCRIPTION:Every Tuesday at the Watermelon Music building.  All ages and experience levels welcome! \nThis guitar circle is FREE\, but we do suggest making a donation to help support The Friends of Watermelon Music and their mission to enrich lives of the community through music.
URL:https://thedirt.online/event/guitar-circle/2026-04-21/
LOCATION:Watermelon Music\, 1970 Lake Blvd.\, Suite 1
CATEGORIES:Community,Music
ATTACH;FMTTYPE=image/png:https://thedirt.online/wp-content/uploads/2025/07/FOWMM.png
GEO:40.6349471;-122.4051228
X-APPLE-STRUCTURED-LOCATION;VALUE=URI;X-ADDRESS=Watermelon Music 1970 Lake Blvd. Suite 1;X-APPLE-RADIUS=500;X-TITLE=1970 Lake Blvd.\, Suite 1:geo:-122.4051228,40.6349471
END:VEVENT
BEGIN:VEVENT
DTSTART;TZID=America/Los_Angeles:20260415T190000
DTEND;TZID=America/Los_Angeles:20260415T200000
DTSTAMP:20260423T062040
CREATED:20260403T155434Z
LAST-MODIFIED:20260403T155434Z
UID:10077222-1776279600-1776283200@thedirt.online
SUMMARY:Open Jam Session
DESCRIPTION:Come join our weekly Jam Session at Watermelon Music\, hosted by Friends of Watermelon Music. We play a wide array of music\, including classic rock\, contemporary rock\, indie rock\, pop\, folk\, blues\, and much more! All instrumentation and shill levels welcomed! \nThere is a drum set\, keyboard\, and vocal mic/amp available at the store to play on. Please bring your own amp if you need one. \nWhile technically all ages\, we recommend 18 and over. Attendance is FREE with a suggested donation of $5 to Friends of Watermelon Music.
URL:https://thedirt.online/event/open-jam-session/2026-04-15/
LOCATION:Watermelon Music\, 1970 Lake Blvd.\, Suite 1
CATEGORIES:Community,Music
ATTACH;FMTTYPE=image/png:https://thedirt.online/wp-content/uploads/2026/04/FOWMM.png
GEO:40.6349471;-122.4051228
X-APPLE-STRUCTURED-LOCATION;VALUE=URI;X-ADDRESS=Watermelon Music 1970 Lake Blvd. Suite 1;X-APPLE-RADIUS=500;X-TITLE=1970 Lake Blvd.\, Suite 1:geo:-122.4051228,40.6349471
END:VEVENT
BEGIN:VEVENT
DTSTART;TZID=America/Los_Angeles:20260414T170000
DTEND;TZID=America/Los_Angeles:20260414T190000
DTSTAMP:20260423T062040
CREATED:20250726T165456Z
LAST-MODIFIED:20250726T165456Z
UID:10063093-1776186000-1776193200@thedirt.online
SUMMARY:Guitar Circle
DESCRIPTION:Every Tuesday at the Watermelon Music building.  All ages and experience levels welcome! \nThis guitar circle is FREE\, but we do suggest making a donation to help support The Friends of Watermelon Music and their mission to enrich lives of the community through music.
URL:https://thedirt.online/event/guitar-circle/2026-04-14/
LOCATION:Watermelon Music\, 1970 Lake Blvd.\, Suite 1
CATEGORIES:Community,Music
ATTACH;FMTTYPE=image/png:https://thedirt.online/wp-content/uploads/2025/07/FOWMM.png
GEO:40.6349471;-122.4051228
X-APPLE-STRUCTURED-LOCATION;VALUE=URI;X-ADDRESS=Watermelon Music 1970 Lake Blvd. Suite 1;X-APPLE-RADIUS=500;X-TITLE=1970 Lake Blvd.\, Suite 1:geo:-122.4051228,40.6349471
END:VEVENT
BEGIN:VEVENT
DTSTART;TZID=America/Los_Angeles:20260408T190000
DTEND;TZID=America/Los_Angeles:20260408T200000
DTSTAMP:20260423T062040
CREATED:20260403T155434Z
LAST-MODIFIED:20260403T155434Z
UID:10077221-1775674800-1775678400@thedirt.online
SUMMARY:Open Jam Session
DESCRIPTION:Come join our weekly Jam Session at Watermelon Music\, hosted by Friends of Watermelon Music. We play a wide array of music\, including classic rock\, contemporary rock\, indie rock\, pop\, folk\, blues\, and much more! All instrumentation and shill levels welcomed! \nThere is a drum set\, keyboard\, and vocal mic/amp available at the store to play on. Please bring your own amp if you need one. \nWhile technically all ages\, we recommend 18 and over. Attendance is FREE with a suggested donation of $5 to Friends of Watermelon Music.
URL:https://thedirt.online/event/open-jam-session/2026-04-08/
LOCATION:Watermelon Music\, 1970 Lake Blvd.\, Suite 1
CATEGORIES:Community,Music
ATTACH;FMTTYPE=image/png:https://thedirt.online/wp-content/uploads/2026/04/FOWMM.png
GEO:40.6349471;-122.4051228
X-APPLE-STRUCTURED-LOCATION;VALUE=URI;X-ADDRESS=Watermelon Music 1970 Lake Blvd. Suite 1;X-APPLE-RADIUS=500;X-TITLE=1970 Lake Blvd.\, Suite 1:geo:-122.4051228,40.6349471
END:VEVENT
BEGIN:VEVENT
DTSTART;TZID=America/Los_Angeles:20260407T170000
DTEND;TZID=America/Los_Angeles:20260407T190000
DTSTAMP:20260423T062040
CREATED:20250726T165456Z
LAST-MODIFIED:20250726T165456Z
UID:10063092-1775581200-1775588400@thedirt.online
SUMMARY:Guitar Circle
DESCRIPTION:Every Tuesday at the Watermelon Music building.  All ages and experience levels welcome! \nThis guitar circle is FREE\, but we do suggest making a donation to help support The Friends of Watermelon Music and their mission to enrich lives of the community through music.
URL:https://thedirt.online/event/guitar-circle/2026-04-07/
LOCATION:Watermelon Music\, 1970 Lake Blvd.\, Suite 1
CATEGORIES:Community,Music
ATTACH;FMTTYPE=image/png:https://thedirt.online/wp-content/uploads/2025/07/FOWMM.png
GEO:40.6349471;-122.4051228
X-APPLE-STRUCTURED-LOCATION;VALUE=URI;X-ADDRESS=Watermelon Music 1970 Lake Blvd. Suite 1;X-APPLE-RADIUS=500;X-TITLE=1970 Lake Blvd.\, Suite 1:geo:-122.4051228,40.6349471
END:VEVENT
BEGIN:VEVENT
DTSTART;TZID=America/Los_Angeles:20260331T170000
DTEND;TZID=America/Los_Angeles:20260331T190000
DTSTAMP:20260423T062040
CREATED:20250726T165456Z
LAST-MODIFIED:20250726T165456Z
UID:10063091-1774976400-1774983600@thedirt.online
SUMMARY:Guitar Circle
DESCRIPTION:Every Tuesday at the Watermelon Music building.  All ages and experience levels welcome! \nThis guitar circle is FREE\, but we do suggest making a donation to help support The Friends of Watermelon Music and their mission to enrich lives of the community through music.
URL:https://thedirt.online/event/guitar-circle/2026-03-31/
LOCATION:Watermelon Music\, 1970 Lake Blvd.\, Suite 1
CATEGORIES:Community,Music
ATTACH;FMTTYPE=image/png:https://thedirt.online/wp-content/uploads/2025/07/FOWMM.png
GEO:40.6349471;-122.4051228
X-APPLE-STRUCTURED-LOCATION;VALUE=URI;X-ADDRESS=Watermelon Music 1970 Lake Blvd. Suite 1;X-APPLE-RADIUS=500;X-TITLE=1970 Lake Blvd.\, Suite 1:geo:-122.4051228,40.6349471
END:VEVENT
BEGIN:VEVENT
DTSTART;TZID=America/Los_Angeles:20260324T170000
DTEND;TZID=America/Los_Angeles:20260324T190000
DTSTAMP:20260423T062040
CREATED:20260225T001616Z
LAST-MODIFIED:20260225T001628Z
UID:10063090-1774371600-1774378800@thedirt.online
SUMMARY:Guitar Circle
DESCRIPTION:Every Tuesday at the Watermelon Music building.  All ages and experience levels welcome! \nThis guitar circle is FREE\, but we do suggest making a donation to help support The Friends of Watermelon Music and their mission to enrich lives of the community through music.
URL:https://thedirt.online/event/guitar-circle-2/
LOCATION:Watermelon Music\, 1970 Lake Blvd.\, Suite 1
CATEGORIES:Community,Music
ATTACH;FMTTYPE=image/png:https://thedirt.online/wp-content/uploads/2025/07/FOWMM.png
GEO:40.6349471;-122.4051228
X-APPLE-STRUCTURED-LOCATION;VALUE=URI;X-ADDRESS=Watermelon Music 1970 Lake Blvd. Suite 1;X-APPLE-RADIUS=500;X-TITLE=1970 Lake Blvd.\, Suite 1:geo:-122.4051228,40.6349471
END:VEVENT
BEGIN:VEVENT
DTSTART;TZID=America/Los_Angeles:20260324T170000
DTEND;TZID=America/Los_Angeles:20260324T190000
DTSTAMP:20260423T062041
CREATED:20250726T165456Z
LAST-MODIFIED:20250726T165456Z
UID:10075634-1774371600-1774378800@thedirt.online
SUMMARY:Guitar Circle
DESCRIPTION:Every Tuesday at the Watermelon Music building.  All ages and experience levels welcome! \nThis guitar circle is FREE\, but we do suggest making a donation to help support The Friends of Watermelon Music and their mission to enrich lives of the community through music.
URL:https://thedirt.online/event/guitar-circle/2026-03-24/
LOCATION:Watermelon Music\, 1970 Lake Blvd.\, Suite 1
CATEGORIES:Community,Music
ATTACH;FMTTYPE=image/png:https://thedirt.online/wp-content/uploads/2025/07/FOWMM.png
GEO:40.6349471;-122.4051228
X-APPLE-STRUCTURED-LOCATION;VALUE=URI;X-ADDRESS=Watermelon Music 1970 Lake Blvd. Suite 1;X-APPLE-RADIUS=500;X-TITLE=1970 Lake Blvd.\, Suite 1:geo:-122.4051228,40.6349471
END:VEVENT
BEGIN:VEVENT
DTSTART;TZID=America/Los_Angeles:20260317T170000
DTEND;TZID=America/Los_Angeles:20260317T190000
DTSTAMP:20260423T062041
CREATED:20250726T165456Z
LAST-MODIFIED:20250726T165456Z
UID:10063089-1773766800-1773774000@thedirt.online
SUMMARY:Guitar Circle
DESCRIPTION:Every Tuesday at the Watermelon Music building.  All ages and experience levels welcome! \nThis guitar circle is FREE\, but we do suggest making a donation to help support The Friends of Watermelon Music and their mission to enrich lives of the community through music.
URL:https://thedirt.online/event/guitar-circle/2026-03-17/
LOCATION:Watermelon Music\, 1970 Lake Blvd.\, Suite 1
CATEGORIES:Community,Music
ATTACH;FMTTYPE=image/png:https://thedirt.online/wp-content/uploads/2025/07/FOWMM.png
GEO:40.6349471;-122.4051228
X-APPLE-STRUCTURED-LOCATION;VALUE=URI;X-ADDRESS=Watermelon Music 1970 Lake Blvd. Suite 1;X-APPLE-RADIUS=500;X-TITLE=1970 Lake Blvd.\, Suite 1:geo:-122.4051228,40.6349471
END:VEVENT
BEGIN:VEVENT
DTSTART;TZID=America/Los_Angeles:20260310T170000
DTEND;TZID=America/Los_Angeles:20260310T190000
DTSTAMP:20260423T062041
CREATED:20250726T165456Z
LAST-MODIFIED:20250726T165456Z
UID:10063088-1773162000-1773169200@thedirt.online
SUMMARY:Guitar Circle
DESCRIPTION:Every Tuesday at the Watermelon Music building.  All ages and experience levels welcome! \nThis guitar circle is FREE\, but we do suggest making a donation to help support The Friends of Watermelon Music and their mission to enrich lives of the community through music.
URL:https://thedirt.online/event/guitar-circle/2026-03-10/
LOCATION:Watermelon Music\, 1970 Lake Blvd.\, Suite 1
CATEGORIES:Community,Music
ATTACH;FMTTYPE=image/png:https://thedirt.online/wp-content/uploads/2025/07/FOWMM.png
GEO:40.6349471;-122.4051228
X-APPLE-STRUCTURED-LOCATION;VALUE=URI;X-ADDRESS=Watermelon Music 1970 Lake Blvd. Suite 1;X-APPLE-RADIUS=500;X-TITLE=1970 Lake Blvd.\, Suite 1:geo:-122.4051228,40.6349471
END:VEVENT
BEGIN:VEVENT
DTSTART;TZID=America/Los_Angeles:20260303T170000
DTEND;TZID=America/Los_Angeles:20260303T190000
DTSTAMP:20260423T062041
CREATED:20250726T165456Z
LAST-MODIFIED:20250726T165456Z
UID:10063087-1772557200-1772564400@thedirt.online
SUMMARY:Guitar Circle
DESCRIPTION:Every Tuesday at the Watermelon Music building.  All ages and experience levels welcome! \nThis guitar circle is FREE\, but we do suggest making a donation to help support The Friends of Watermelon Music and their mission to enrich lives of the community through music.
URL:https://thedirt.online/event/guitar-circle/2026-03-03/
LOCATION:Watermelon Music\, 1970 Lake Blvd.\, Suite 1
CATEGORIES:Community,Music
ATTACH;FMTTYPE=image/png:https://thedirt.online/wp-content/uploads/2025/07/FOWMM.png
GEO:40.6349471;-122.4051228
X-APPLE-STRUCTURED-LOCATION;VALUE=URI;X-ADDRESS=Watermelon Music 1970 Lake Blvd. Suite 1;X-APPLE-RADIUS=500;X-TITLE=1970 Lake Blvd.\, Suite 1:geo:-122.4051228,40.6349471
END:VEVENT
BEGIN:VEVENT
DTSTART;TZID=America/Los_Angeles:20260224T170000
DTEND;TZID=America/Los_Angeles:20260224T190000
DTSTAMP:20260423T062041
CREATED:20250726T165456Z
LAST-MODIFIED:20250726T165456Z
UID:10063086-1771952400-1771959600@thedirt.online
SUMMARY:Guitar Circle
DESCRIPTION:Every Tuesday at the Watermelon Music building.  All ages and experience levels welcome! \nThis guitar circle is FREE\, but we do suggest making a donation to help support The Friends of Watermelon Music and their mission to enrich lives of the community through music.
URL:https://thedirt.online/event/guitar-circle/2026-02-24/
LOCATION:Watermelon Music\, 1970 Lake Blvd.\, Suite 1
CATEGORIES:Community,Music
ATTACH;FMTTYPE=image/png:https://thedirt.online/wp-content/uploads/2025/07/FOWMM.png
GEO:40.6349471;-122.4051228
X-APPLE-STRUCTURED-LOCATION;VALUE=URI;X-ADDRESS=Watermelon Music 1970 Lake Blvd. Suite 1;X-APPLE-RADIUS=500;X-TITLE=1970 Lake Blvd.\, Suite 1:geo:-122.4051228,40.6349471
END:VEVENT
BEGIN:VEVENT
DTSTART;TZID=America/Los_Angeles:20260217T170000
DTEND;TZID=America/Los_Angeles:20260217T190000
DTSTAMP:20260423T062041
CREATED:20250726T165456Z
LAST-MODIFIED:20250726T165456Z
UID:10063085-1771347600-1771354800@thedirt.online
SUMMARY:Guitar Circle
DESCRIPTION:Every Tuesday at the Watermelon Music building.  All ages and experience levels welcome! \nThis guitar circle is FREE\, but we do suggest making a donation to help support The Friends of Watermelon Music and their mission to enrich lives of the community through music.
URL:https://thedirt.online/event/guitar-circle/2026-02-17/
LOCATION:Watermelon Music\, 1970 Lake Blvd.\, Suite 1
CATEGORIES:Community,Music
ATTACH;FMTTYPE=image/png:https://thedirt.online/wp-content/uploads/2025/07/FOWMM.png
GEO:40.6349471;-122.4051228
X-APPLE-STRUCTURED-LOCATION;VALUE=URI;X-ADDRESS=Watermelon Music 1970 Lake Blvd. Suite 1;X-APPLE-RADIUS=500;X-TITLE=1970 Lake Blvd.\, Suite 1:geo:-122.4051228,40.6349471
END:VEVENT
BEGIN:VEVENT
DTSTART;TZID=America/Los_Angeles:20260210T170000
DTEND;TZID=America/Los_Angeles:20260210T190000
DTSTAMP:20260423T062041
CREATED:20250726T165456Z
LAST-MODIFIED:20250726T165456Z
UID:10063084-1770742800-1770750000@thedirt.online
SUMMARY:Guitar Circle
DESCRIPTION:Every Tuesday at the Watermelon Music building.  All ages and experience levels welcome! \nThis guitar circle is FREE\, but we do suggest making a donation to help support The Friends of Watermelon Music and their mission to enrich lives of the community through music.
URL:https://thedirt.online/event/guitar-circle/2026-02-10/
LOCATION:Watermelon Music\, 1970 Lake Blvd.\, Suite 1
CATEGORIES:Community,Music
ATTACH;FMTTYPE=image/png:https://thedirt.online/wp-content/uploads/2025/07/FOWMM.png
GEO:40.6349471;-122.4051228
X-APPLE-STRUCTURED-LOCATION;VALUE=URI;X-ADDRESS=Watermelon Music 1970 Lake Blvd. Suite 1;X-APPLE-RADIUS=500;X-TITLE=1970 Lake Blvd.\, Suite 1:geo:-122.4051228,40.6349471
END:VEVENT
BEGIN:VEVENT
DTSTART;TZID=America/Los_Angeles:20260207T100000
DTEND;TZID=America/Los_Angeles:20260207T120000
DTSTAMP:20260423T062041
CREATED:20260124T033758Z
LAST-MODIFIED:20260124T033758Z
UID:10072261-1770458400-1770465600@thedirt.online
SUMMARY:$5 per pound Sheet Music Blowout!
DESCRIPTION:Select from our clearance sheet music titles and pay $5 per pound!!! Estimated savings of about 90%!!! \nIndividual Artists and Bands\nMethod books\nMusicals\nClassical Composers\nMovie Music\nCollections\n+MORE
URL:https://thedirt.online/event/5-per-pound-sheet-music-blowout/
LOCATION:Watermelon Music\, 1970 Lake Blvd.\, Suite 1
CATEGORIES:Music
ATTACH;FMTTYPE=image/jpeg:https://thedirt.online/wp-content/uploads/2026/01/books.jpg
ORGANIZER;CN="Watermelon Music":MAILTO:watermelonmusicdavis@gmail.com
GEO:40.6349471;-122.4051228
X-APPLE-STRUCTURED-LOCATION;VALUE=URI;X-ADDRESS=Watermelon Music 1970 Lake Blvd. Suite 1;X-APPLE-RADIUS=500;X-TITLE=1970 Lake Blvd.\, Suite 1:geo:-122.4051228,40.6349471
END:VEVENT
BEGIN:VEVENT
DTSTART;TZID=America/Los_Angeles:20260203T170000
DTEND;TZID=America/Los_Angeles:20260203T190000
DTSTAMP:20260423T062041
CREATED:20250726T165456Z
LAST-MODIFIED:20250726T165456Z
UID:10063083-1770138000-1770145200@thedirt.online
SUMMARY:Guitar Circle
DESCRIPTION:Every Tuesday at the Watermelon Music building.  All ages and experience levels welcome! \nThis guitar circle is FREE\, but we do suggest making a donation to help support The Friends of Watermelon Music and their mission to enrich lives of the community through music.
URL:https://thedirt.online/event/guitar-circle/2026-02-03/
LOCATION:Watermelon Music\, 1970 Lake Blvd.\, Suite 1
CATEGORIES:Community,Music
ATTACH;FMTTYPE=image/png:https://thedirt.online/wp-content/uploads/2025/07/FOWMM.png
GEO:40.6349471;-122.4051228
X-APPLE-STRUCTURED-LOCATION;VALUE=URI;X-ADDRESS=Watermelon Music 1970 Lake Blvd. Suite 1;X-APPLE-RADIUS=500;X-TITLE=1970 Lake Blvd.\, Suite 1:geo:-122.4051228,40.6349471
END:VEVENT
BEGIN:VEVENT
DTSTART;TZID=America/Los_Angeles:20260127T170000
DTEND;TZID=America/Los_Angeles:20260127T190000
DTSTAMP:20260423T062041
CREATED:20250726T165456Z
LAST-MODIFIED:20250726T165456Z
UID:10063082-1769533200-1769540400@thedirt.online
SUMMARY:Guitar Circle
DESCRIPTION:Every Tuesday at the Watermelon Music building.  All ages and experience levels welcome! \nThis guitar circle is FREE\, but we do suggest making a donation to help support The Friends of Watermelon Music and their mission to enrich lives of the community through music.
URL:https://thedirt.online/event/guitar-circle/2026-01-27/
LOCATION:Watermelon Music\, 1970 Lake Blvd.\, Suite 1
CATEGORIES:Community,Music
ATTACH;FMTTYPE=image/png:https://thedirt.online/wp-content/uploads/2025/07/FOWMM.png
GEO:40.6349471;-122.4051228
X-APPLE-STRUCTURED-LOCATION;VALUE=URI;X-ADDRESS=Watermelon Music 1970 Lake Blvd. Suite 1;X-APPLE-RADIUS=500;X-TITLE=1970 Lake Blvd.\, Suite 1:geo:-122.4051228,40.6349471
END:VEVENT
END:VCALENDAR