BEGIN:VCALENDAR
VERSION:2.0
PRODID:-//The Dirt - ECPv6.15.20//NONSGML v1.0//EN
CALSCALE:GREGORIAN
METHOD:PUBLISH
X-ORIGINAL-URL:https://thedirt.online
X-WR-CALDESC:Events for The Dirt
REFRESH-INTERVAL;VALUE=DURATION:PT1H
X-Robots-Tag:noindex
X-PUBLISHED-TTL:PT1H
BEGIN:VTIMEZONE
TZID:America/Los_Angeles
BEGIN:DAYLIGHT
TZOFFSETFROM:-0800
TZOFFSETTO:-0700
TZNAME:PDT
DTSTART:20250309T100000
END:DAYLIGHT
BEGIN:STANDARD
TZOFFSETFROM:-0700
TZOFFSETTO:-0800
TZNAME:PST
DTSTART:20251102T090000
END:STANDARD
BEGIN:DAYLIGHT
TZOFFSETFROM:-0800
TZOFFSETTO:-0700
TZNAME:PDT
DTSTART:20260308T100000
END:DAYLIGHT
BEGIN:STANDARD
TZOFFSETFROM:-0700
TZOFFSETTO:-0800
TZNAME:PST
DTSTART:20261101T090000
END:STANDARD
BEGIN:DAYLIGHT
TZOFFSETFROM:-0800
TZOFFSETTO:-0700
TZNAME:PDT
DTSTART:20270314T100000
END:DAYLIGHT
BEGIN:STANDARD
TZOFFSETFROM:-0700
TZOFFSETTO:-0800
TZNAME:PST
DTSTART:20271107T090000
END:STANDARD
END:VTIMEZONE
BEGIN:VEVENT
DTSTART;TZID=America/Los_Angeles:20260206T120000
DTEND;TZID=America/Los_Angeles:20260206T160000
DTSTAMP:20260419T181310
CREATED:20251210T225628Z
LAST-MODIFIED:20251210T225628Z
UID:10069346-1770379200-1770393600@thedirt.online
SUMMARY:Village Homes: A Radical Plan
DESCRIPTION:“Village Homes: A Radical Plan” celebrates the 50th anniversary of an innovative west Davis neighborhood community. Curated by Professor Timothy McNeil and guest curator Adrienne McGraw\, the installation showcases the vision\, concepts\, and development behind the project and its goals. This ground-breaking exhibition will feature original objects\, archival photographs\, plans and drawings\, a part-built section of a typical 1970s house in Village Homes recreating a living space and demonstrating the passive solar features\, and an interactive three-dimensional site plan of the neighborhood’s unique landscape. Other highlights include a 30-minute documentary film about the community.
URL:https://thedirt.online/event/village-homes-a-radical-plan/2026-02-06/
LOCATION:UC Davis Design Museum\, Cruess Hall\, #124\, Davis\, 95616\, United States
CATEGORIES:Community
ATTACH;FMTTYPE=image/jpeg:https://thedirt.online/wp-content/uploads/2025/12/Aerial-view-of-Village-Homes-late-1970s-phot-from-Judy-Corbett-Archive-scaled.jpg
END:VEVENT
BEGIN:VEVENT
DTSTART;TZID=America/Los_Angeles:20260205T120000
DTEND;TZID=America/Los_Angeles:20260205T160000
DTSTAMP:20260419T181310
CREATED:20251210T225628Z
LAST-MODIFIED:20251210T225628Z
UID:10069345-1770292800-1770307200@thedirt.online
SUMMARY:Village Homes: A Radical Plan
DESCRIPTION:“Village Homes: A Radical Plan” celebrates the 50th anniversary of an innovative west Davis neighborhood community. Curated by Professor Timothy McNeil and guest curator Adrienne McGraw\, the installation showcases the vision\, concepts\, and development behind the project and its goals. This ground-breaking exhibition will feature original objects\, archival photographs\, plans and drawings\, a part-built section of a typical 1970s house in Village Homes recreating a living space and demonstrating the passive solar features\, and an interactive three-dimensional site plan of the neighborhood’s unique landscape. Other highlights include a 30-minute documentary film about the community.
URL:https://thedirt.online/event/village-homes-a-radical-plan/2026-02-05/
LOCATION:UC Davis Design Museum\, Cruess Hall\, #124\, Davis\, 95616\, United States
CATEGORIES:Community
ATTACH;FMTTYPE=image/jpeg:https://thedirt.online/wp-content/uploads/2025/12/Aerial-view-of-Village-Homes-late-1970s-phot-from-Judy-Corbett-Archive-scaled.jpg
END:VEVENT
BEGIN:VEVENT
DTSTART;TZID=America/Los_Angeles:20260204T120000
DTEND;TZID=America/Los_Angeles:20260204T160000
DTSTAMP:20260419T181310
CREATED:20251210T225628Z
LAST-MODIFIED:20251210T225628Z
UID:10069344-1770206400-1770220800@thedirt.online
SUMMARY:Village Homes: A Radical Plan
DESCRIPTION:“Village Homes: A Radical Plan” celebrates the 50th anniversary of an innovative west Davis neighborhood community. Curated by Professor Timothy McNeil and guest curator Adrienne McGraw\, the installation showcases the vision\, concepts\, and development behind the project and its goals. This ground-breaking exhibition will feature original objects\, archival photographs\, plans and drawings\, a part-built section of a typical 1970s house in Village Homes recreating a living space and demonstrating the passive solar features\, and an interactive three-dimensional site plan of the neighborhood’s unique landscape. Other highlights include a 30-minute documentary film about the community.
URL:https://thedirt.online/event/village-homes-a-radical-plan/2026-02-04/
LOCATION:UC Davis Design Museum\, Cruess Hall\, #124\, Davis\, 95616\, United States
CATEGORIES:Community
ATTACH;FMTTYPE=image/jpeg:https://thedirt.online/wp-content/uploads/2025/12/Aerial-view-of-Village-Homes-late-1970s-phot-from-Judy-Corbett-Archive-scaled.jpg
END:VEVENT
BEGIN:VEVENT
DTSTART;TZID=America/Los_Angeles:20260203T120000
DTEND;TZID=America/Los_Angeles:20260203T160000
DTSTAMP:20260419T181310
CREATED:20251210T225628Z
LAST-MODIFIED:20251210T225628Z
UID:10069343-1770120000-1770134400@thedirt.online
SUMMARY:Village Homes: A Radical Plan
DESCRIPTION:“Village Homes: A Radical Plan” celebrates the 50th anniversary of an innovative west Davis neighborhood community. Curated by Professor Timothy McNeil and guest curator Adrienne McGraw\, the installation showcases the vision\, concepts\, and development behind the project and its goals. This ground-breaking exhibition will feature original objects\, archival photographs\, plans and drawings\, a part-built section of a typical 1970s house in Village Homes recreating a living space and demonstrating the passive solar features\, and an interactive three-dimensional site plan of the neighborhood’s unique landscape. Other highlights include a 30-minute documentary film about the community.
URL:https://thedirt.online/event/village-homes-a-radical-plan/2026-02-03/
LOCATION:UC Davis Design Museum\, Cruess Hall\, #124\, Davis\, 95616\, United States
CATEGORIES:Community
ATTACH;FMTTYPE=image/jpeg:https://thedirt.online/wp-content/uploads/2025/12/Aerial-view-of-Village-Homes-late-1970s-phot-from-Judy-Corbett-Archive-scaled.jpg
END:VEVENT
BEGIN:VEVENT
DTSTART;TZID=America/Los_Angeles:20260202T120000
DTEND;TZID=America/Los_Angeles:20260202T160000
DTSTAMP:20260419T181310
CREATED:20251210T225628Z
LAST-MODIFIED:20251210T225628Z
UID:10069342-1770033600-1770048000@thedirt.online
SUMMARY:Village Homes: A Radical Plan
DESCRIPTION:“Village Homes: A Radical Plan” celebrates the 50th anniversary of an innovative west Davis neighborhood community. Curated by Professor Timothy McNeil and guest curator Adrienne McGraw\, the installation showcases the vision\, concepts\, and development behind the project and its goals. This ground-breaking exhibition will feature original objects\, archival photographs\, plans and drawings\, a part-built section of a typical 1970s house in Village Homes recreating a living space and demonstrating the passive solar features\, and an interactive three-dimensional site plan of the neighborhood’s unique landscape. Other highlights include a 30-minute documentary film about the community.
URL:https://thedirt.online/event/village-homes-a-radical-plan/2026-02-02/
LOCATION:UC Davis Design Museum\, Cruess Hall\, #124\, Davis\, 95616\, United States
CATEGORIES:Community
ATTACH;FMTTYPE=image/jpeg:https://thedirt.online/wp-content/uploads/2025/12/Aerial-view-of-Village-Homes-late-1970s-phot-from-Judy-Corbett-Archive-scaled.jpg
END:VEVENT
BEGIN:VEVENT
DTSTART;TZID=America/Los_Angeles:20260130T120000
DTEND;TZID=America/Los_Angeles:20260130T160000
DTSTAMP:20260419T181310
CREATED:20251210T225628Z
LAST-MODIFIED:20251210T225628Z
UID:10069341-1769774400-1769788800@thedirt.online
SUMMARY:Village Homes: A Radical Plan
DESCRIPTION:“Village Homes: A Radical Plan” celebrates the 50th anniversary of an innovative west Davis neighborhood community. Curated by Professor Timothy McNeil and guest curator Adrienne McGraw\, the installation showcases the vision\, concepts\, and development behind the project and its goals. This ground-breaking exhibition will feature original objects\, archival photographs\, plans and drawings\, a part-built section of a typical 1970s house in Village Homes recreating a living space and demonstrating the passive solar features\, and an interactive three-dimensional site plan of the neighborhood’s unique landscape. Other highlights include a 30-minute documentary film about the community.
URL:https://thedirt.online/event/village-homes-a-radical-plan/2026-01-30/
LOCATION:UC Davis Design Museum\, Cruess Hall\, #124\, Davis\, 95616\, United States
CATEGORIES:Community
ATTACH;FMTTYPE=image/jpeg:https://thedirt.online/wp-content/uploads/2025/12/Aerial-view-of-Village-Homes-late-1970s-phot-from-Judy-Corbett-Archive-scaled.jpg
END:VEVENT
BEGIN:VEVENT
DTSTART;TZID=America/Los_Angeles:20260129T120000
DTEND;TZID=America/Los_Angeles:20260129T160000
DTSTAMP:20260419T181310
CREATED:20251210T225628Z
LAST-MODIFIED:20251210T225628Z
UID:10069340-1769688000-1769702400@thedirt.online
SUMMARY:Village Homes: A Radical Plan
DESCRIPTION:“Village Homes: A Radical Plan” celebrates the 50th anniversary of an innovative west Davis neighborhood community. Curated by Professor Timothy McNeil and guest curator Adrienne McGraw\, the installation showcases the vision\, concepts\, and development behind the project and its goals. This ground-breaking exhibition will feature original objects\, archival photographs\, plans and drawings\, a part-built section of a typical 1970s house in Village Homes recreating a living space and demonstrating the passive solar features\, and an interactive three-dimensional site plan of the neighborhood’s unique landscape. Other highlights include a 30-minute documentary film about the community.
URL:https://thedirt.online/event/village-homes-a-radical-plan/2026-01-29/
LOCATION:UC Davis Design Museum\, Cruess Hall\, #124\, Davis\, 95616\, United States
CATEGORIES:Community
ATTACH;FMTTYPE=image/jpeg:https://thedirt.online/wp-content/uploads/2025/12/Aerial-view-of-Village-Homes-late-1970s-phot-from-Judy-Corbett-Archive-scaled.jpg
END:VEVENT
BEGIN:VEVENT
DTSTART;TZID=America/Los_Angeles:20260128T120000
DTEND;TZID=America/Los_Angeles:20260128T160000
DTSTAMP:20260419T181310
CREATED:20251210T225628Z
LAST-MODIFIED:20251210T225628Z
UID:10069339-1769601600-1769616000@thedirt.online
SUMMARY:Village Homes: A Radical Plan
DESCRIPTION:“Village Homes: A Radical Plan” celebrates the 50th anniversary of an innovative west Davis neighborhood community. Curated by Professor Timothy McNeil and guest curator Adrienne McGraw\, the installation showcases the vision\, concepts\, and development behind the project and its goals. This ground-breaking exhibition will feature original objects\, archival photographs\, plans and drawings\, a part-built section of a typical 1970s house in Village Homes recreating a living space and demonstrating the passive solar features\, and an interactive three-dimensional site plan of the neighborhood’s unique landscape. Other highlights include a 30-minute documentary film about the community.
URL:https://thedirt.online/event/village-homes-a-radical-plan/2026-01-28/
LOCATION:UC Davis Design Museum\, Cruess Hall\, #124\, Davis\, 95616\, United States
CATEGORIES:Community
ATTACH;FMTTYPE=image/jpeg:https://thedirt.online/wp-content/uploads/2025/12/Aerial-view-of-Village-Homes-late-1970s-phot-from-Judy-Corbett-Archive-scaled.jpg
END:VEVENT
BEGIN:VEVENT
DTSTART;TZID=America/Los_Angeles:20260127T120000
DTEND;TZID=America/Los_Angeles:20260127T160000
DTSTAMP:20260419T181310
CREATED:20251210T225628Z
LAST-MODIFIED:20251210T225628Z
UID:10069338-1769515200-1769529600@thedirt.online
SUMMARY:Village Homes: A Radical Plan
DESCRIPTION:“Village Homes: A Radical Plan” celebrates the 50th anniversary of an innovative west Davis neighborhood community. Curated by Professor Timothy McNeil and guest curator Adrienne McGraw\, the installation showcases the vision\, concepts\, and development behind the project and its goals. This ground-breaking exhibition will feature original objects\, archival photographs\, plans and drawings\, a part-built section of a typical 1970s house in Village Homes recreating a living space and demonstrating the passive solar features\, and an interactive three-dimensional site plan of the neighborhood’s unique landscape. Other highlights include a 30-minute documentary film about the community.
URL:https://thedirt.online/event/village-homes-a-radical-plan/2026-01-27/
LOCATION:UC Davis Design Museum\, Cruess Hall\, #124\, Davis\, 95616\, United States
CATEGORIES:Community
ATTACH;FMTTYPE=image/jpeg:https://thedirt.online/wp-content/uploads/2025/12/Aerial-view-of-Village-Homes-late-1970s-phot-from-Judy-Corbett-Archive-scaled.jpg
END:VEVENT
BEGIN:VEVENT
DTSTART;TZID=America/Los_Angeles:20260126T120000
DTEND;TZID=America/Los_Angeles:20260126T160000
DTSTAMP:20260419T181310
CREATED:20251210T225628Z
LAST-MODIFIED:20251210T225628Z
UID:10069337-1769428800-1769443200@thedirt.online
SUMMARY:Village Homes: A Radical Plan
DESCRIPTION:“Village Homes: A Radical Plan” celebrates the 50th anniversary of an innovative west Davis neighborhood community. Curated by Professor Timothy McNeil and guest curator Adrienne McGraw\, the installation showcases the vision\, concepts\, and development behind the project and its goals. This ground-breaking exhibition will feature original objects\, archival photographs\, plans and drawings\, a part-built section of a typical 1970s house in Village Homes recreating a living space and demonstrating the passive solar features\, and an interactive three-dimensional site plan of the neighborhood’s unique landscape. Other highlights include a 30-minute documentary film about the community.
URL:https://thedirt.online/event/village-homes-a-radical-plan/2026-01-26/
LOCATION:UC Davis Design Museum\, Cruess Hall\, #124\, Davis\, 95616\, United States
CATEGORIES:Community
ATTACH;FMTTYPE=image/jpeg:https://thedirt.online/wp-content/uploads/2025/12/Aerial-view-of-Village-Homes-late-1970s-phot-from-Judy-Corbett-Archive-scaled.jpg
END:VEVENT
BEGIN:VEVENT
DTSTART;TZID=America/Los_Angeles:20260123T120000
DTEND;TZID=America/Los_Angeles:20260123T160000
DTSTAMP:20260419T181310
CREATED:20251210T225628Z
LAST-MODIFIED:20251210T225628Z
UID:10069336-1769169600-1769184000@thedirt.online
SUMMARY:Village Homes: A Radical Plan
DESCRIPTION:“Village Homes: A Radical Plan” celebrates the 50th anniversary of an innovative west Davis neighborhood community. Curated by Professor Timothy McNeil and guest curator Adrienne McGraw\, the installation showcases the vision\, concepts\, and development behind the project and its goals. This ground-breaking exhibition will feature original objects\, archival photographs\, plans and drawings\, a part-built section of a typical 1970s house in Village Homes recreating a living space and demonstrating the passive solar features\, and an interactive three-dimensional site plan of the neighborhood’s unique landscape. Other highlights include a 30-minute documentary film about the community.
URL:https://thedirt.online/event/village-homes-a-radical-plan/2026-01-23/
LOCATION:UC Davis Design Museum\, Cruess Hall\, #124\, Davis\, 95616\, United States
CATEGORIES:Community
ATTACH;FMTTYPE=image/jpeg:https://thedirt.online/wp-content/uploads/2025/12/Aerial-view-of-Village-Homes-late-1970s-phot-from-Judy-Corbett-Archive-scaled.jpg
END:VEVENT
BEGIN:VEVENT
DTSTART;TZID=America/Los_Angeles:20260122T120000
DTEND;TZID=America/Los_Angeles:20260122T160000
DTSTAMP:20260419T181310
CREATED:20251230T175457Z
LAST-MODIFIED:20251230T175458Z
UID:10069335-1769083200-1769097600@thedirt.online
SUMMARY:Village Homes: A Radical Plan
DESCRIPTION:“Village Homes: A Radical Plan” celebrates the 50th anniversary of an innovative west Davis neighborhood community. Curated by Professor Timothy McNeil and guest curator Adrienne McGraw\, the installation showcases the vision\, concepts\, and development behind the project and its goals. This ground-breaking exhibition will feature original objects\, archival photographs\, plans and drawings\, a part-built section of a typical 1970s house in Village Homes recreating a living space and demonstrating the passive solar features\, and an interactive three-dimensional site plan of the neighborhood’s unique landscape. Other highlights include a 30-minute documentary film about the community.
URL:https://thedirt.online/event/village-homes-a-radical-plan-2/
LOCATION:UC Davis Design Museum\, Cruess Hall\, #124\, Davis\, 95616\, United States
CATEGORIES:Community
ATTACH;FMTTYPE=image/jpeg:https://thedirt.online/wp-content/uploads/2025/12/Aerial-view-of-Village-Homes-late-1970s-phot-from-Judy-Corbett-Archive-scaled.jpg
END:VEVENT
BEGIN:VEVENT
DTSTART;TZID=America/Los_Angeles:20260121T120000
DTEND;TZID=America/Los_Angeles:20260121T160000
DTSTAMP:20260419T181310
CREATED:20251210T225628Z
LAST-MODIFIED:20251210T225628Z
UID:10069334-1768996800-1769011200@thedirt.online
SUMMARY:Village Homes: A Radical Plan
DESCRIPTION:“Village Homes: A Radical Plan” celebrates the 50th anniversary of an innovative west Davis neighborhood community. Curated by Professor Timothy McNeil and guest curator Adrienne McGraw\, the installation showcases the vision\, concepts\, and development behind the project and its goals. This ground-breaking exhibition will feature original objects\, archival photographs\, plans and drawings\, a part-built section of a typical 1970s house in Village Homes recreating a living space and demonstrating the passive solar features\, and an interactive three-dimensional site plan of the neighborhood’s unique landscape. Other highlights include a 30-minute documentary film about the community.
URL:https://thedirt.online/event/village-homes-a-radical-plan/2026-01-21/
LOCATION:UC Davis Design Museum\, Cruess Hall\, #124\, Davis\, 95616\, United States
CATEGORIES:Community
ATTACH;FMTTYPE=image/jpeg:https://thedirt.online/wp-content/uploads/2025/12/Aerial-view-of-Village-Homes-late-1970s-phot-from-Judy-Corbett-Archive-scaled.jpg
END:VEVENT
BEGIN:VEVENT
DTSTART;TZID=America/Los_Angeles:20260120T120000
DTEND;TZID=America/Los_Angeles:20260120T160000
DTSTAMP:20260419T181310
CREATED:20251210T225628Z
LAST-MODIFIED:20251210T225628Z
UID:10069333-1768910400-1768924800@thedirt.online
SUMMARY:Village Homes: A Radical Plan
DESCRIPTION:“Village Homes: A Radical Plan” celebrates the 50th anniversary of an innovative west Davis neighborhood community. Curated by Professor Timothy McNeil and guest curator Adrienne McGraw\, the installation showcases the vision\, concepts\, and development behind the project and its goals. This ground-breaking exhibition will feature original objects\, archival photographs\, plans and drawings\, a part-built section of a typical 1970s house in Village Homes recreating a living space and demonstrating the passive solar features\, and an interactive three-dimensional site plan of the neighborhood’s unique landscape. Other highlights include a 30-minute documentary film about the community.
URL:https://thedirt.online/event/village-homes-a-radical-plan/2026-01-20/
LOCATION:UC Davis Design Museum\, Cruess Hall\, #124\, Davis\, 95616\, United States
CATEGORIES:Community
ATTACH;FMTTYPE=image/jpeg:https://thedirt.online/wp-content/uploads/2025/12/Aerial-view-of-Village-Homes-late-1970s-phot-from-Judy-Corbett-Archive-scaled.jpg
END:VEVENT
END:VCALENDAR