BEGIN:VCALENDAR
VERSION:2.0
PRODID:-//The Dirt - ECPv6.15.20//NONSGML v1.0//EN
CALSCALE:GREGORIAN
METHOD:PUBLISH
X-WR-CALNAME:The Dirt
X-ORIGINAL-URL:https://thedirt.online
X-WR-CALDESC:Events for The Dirt
REFRESH-INTERVAL;VALUE=DURATION:PT1H
X-Robots-Tag:noindex
X-PUBLISHED-TTL:PT1H
BEGIN:VTIMEZONE
TZID:America/Los_Angeles
BEGIN:DAYLIGHT
TZOFFSETFROM:-0800
TZOFFSETTO:-0700
TZNAME:PDT
DTSTART:20250309T100000
END:DAYLIGHT
BEGIN:STANDARD
TZOFFSETFROM:-0700
TZOFFSETTO:-0800
TZNAME:PST
DTSTART:20251102T090000
END:STANDARD
BEGIN:DAYLIGHT
TZOFFSETFROM:-0800
TZOFFSETTO:-0700
TZNAME:PDT
DTSTART:20260308T100000
END:DAYLIGHT
BEGIN:STANDARD
TZOFFSETFROM:-0700
TZOFFSETTO:-0800
TZNAME:PST
DTSTART:20261101T090000
END:STANDARD
BEGIN:DAYLIGHT
TZOFFSETFROM:-0800
TZOFFSETTO:-0700
TZNAME:PDT
DTSTART:20270314T100000
END:DAYLIGHT
BEGIN:STANDARD
TZOFFSETFROM:-0700
TZOFFSETTO:-0800
TZNAME:PST
DTSTART:20271107T090000
END:STANDARD
END:VTIMEZONE
BEGIN:VEVENT
DTSTART;TZID=America/Los_Angeles:20260418T083000
DTEND;TZID=America/Los_Angeles:20260418T120000
DTSTAMP:20260423T105542
CREATED:20260323T215412Z
LAST-MODIFIED:20260323T215412Z
UID:10076780-1776501000-1776513600@thedirt.online
SUMMARY:Healthy Aging Forum 2026
DESCRIPTION:UC Davis OLLI and UC Davis Health Mini Medical School are proud to partner to present the 2026 Healthy Aging Forum at Aggie Square. This forum features UC Davis faculty presenting on the US POINTER study\, a clinical trial demonstrating how lifestyle programs can improve cognition in older adults. Additional presentations will explore how meaning and purpose support overall well-being\, and the role of mobility and exercise in longevity. This is a FREE event with limited seating. Complimentary bus transportation from OLLI to Aggie Square and back is available to the first 44 registrants. Register via UC Davis OLLI at https://ucdavis.co1.qualtrics.com/jfe/form/SV_3V4UzjRysTXFBiu. \n 
URL:https://thedirt.online/event/healthy-aging-forum-2026/
LOCATION:UC Davis Aggie Square\, 2800 49th Street\, Sacramento\, CA\, 95817\, United States
CATEGORIES:Community
END:VEVENT
END:VCALENDAR