BEGIN:VCALENDAR
VERSION:2.0
PRODID:-//The Dirt - ECPv6.15.20//NONSGML v1.0//EN
CALSCALE:GREGORIAN
METHOD:PUBLISH
X-ORIGINAL-URL:https://thedirt.online
X-WR-CALDESC:Events for The Dirt
REFRESH-INTERVAL;VALUE=DURATION:PT1H
X-Robots-Tag:noindex
X-PUBLISHED-TTL:PT1H
BEGIN:VTIMEZONE
TZID:America/Los_Angeles
BEGIN:DAYLIGHT
TZOFFSETFROM:-0800
TZOFFSETTO:-0700
TZNAME:PDT
DTSTART:20300310T100000
END:DAYLIGHT
BEGIN:STANDARD
TZOFFSETFROM:-0700
TZOFFSETTO:-0800
TZNAME:PST
DTSTART:20301103T090000
END:STANDARD
BEGIN:DAYLIGHT
TZOFFSETFROM:-0800
TZOFFSETTO:-0700
TZNAME:PDT
DTSTART:20310309T100000
END:DAYLIGHT
BEGIN:STANDARD
TZOFFSETFROM:-0700
TZOFFSETTO:-0800
TZNAME:PST
DTSTART:20311102T090000
END:STANDARD
BEGIN:DAYLIGHT
TZOFFSETFROM:-0800
TZOFFSETTO:-0700
TZNAME:PDT
DTSTART:20320314T100000
END:DAYLIGHT
BEGIN:STANDARD
TZOFFSETFROM:-0700
TZOFFSETTO:-0800
TZNAME:PST
DTSTART:20321107T090000
END:STANDARD
END:VTIMEZONE
BEGIN:VEVENT
DTSTART;TZID=America/Los_Angeles:20310219T100000
DTEND;TZID=America/Los_Angeles:20310219T113000
DTSTAMP:20260421T205641
CREATED:20260217T024901Z
LAST-MODIFIED:20260217T024901Z
UID:10075561-1929261600-1929267000@thedirt.online
SUMMARY:UpENDing Parkinson's at Rocknasium
DESCRIPTION:UpENDing Parkinson’s at Rocknasium \nWednesdays\, 10-11:30 AM \nRocknasium is hosting UpENDing Parkinson’s\, a non-profit that provides guided rock climbing to those living with Parkinson’s. Entrance is free\, and rental gear is $10. Those interested may register as a climber here.
URL:https://thedirt.online/event/upending-parkinsons-at-rocknasium/2031-02-19/
LOCATION:Rocknasium the Climbing Gym\, 720 Olive Drive\, Suite S\, Davis\, 95616\, United States
CATEGORIES:Community,Fitness
ATTACH;FMTTYPE=image/jpeg:https://thedirt.online/wp-content/uploads/2026/02/UpEndPark-6-scaled.jpg
END:VEVENT
END:VCALENDAR