BEGIN:VCALENDAR
VERSION:2.0
PRODID:-//The Dirt - ECPv6.15.20//NONSGML v1.0//EN
CALSCALE:GREGORIAN
METHOD:PUBLISH
X-ORIGINAL-URL:https://thedirt.online
X-WR-CALDESC:Events for The Dirt
REFRESH-INTERVAL;VALUE=DURATION:PT1H
X-Robots-Tag:noindex
X-PUBLISHED-TTL:PT1H
BEGIN:VTIMEZONE
TZID:America/Los_Angeles
BEGIN:DAYLIGHT
TZOFFSETFROM:-0800
TZOFFSETTO:-0700
TZNAME:PDT
DTSTART:20290311T100000
END:DAYLIGHT
BEGIN:STANDARD
TZOFFSETFROM:-0700
TZOFFSETTO:-0800
TZNAME:PST
DTSTART:20291104T090000
END:STANDARD
BEGIN:DAYLIGHT
TZOFFSETFROM:-0800
TZOFFSETTO:-0700
TZNAME:PDT
DTSTART:20300310T100000
END:DAYLIGHT
BEGIN:STANDARD
TZOFFSETFROM:-0700
TZOFFSETTO:-0800
TZNAME:PST
DTSTART:20301103T090000
END:STANDARD
BEGIN:DAYLIGHT
TZOFFSETFROM:-0800
TZOFFSETTO:-0700
TZNAME:PDT
DTSTART:20310309T100000
END:DAYLIGHT
BEGIN:STANDARD
TZOFFSETFROM:-0700
TZOFFSETTO:-0800
TZNAME:PST
DTSTART:20311102T090000
END:STANDARD
BEGIN:DAYLIGHT
TZOFFSETFROM:-0800
TZOFFSETTO:-0700
TZNAME:PDT
DTSTART:20320314T100000
END:DAYLIGHT
BEGIN:STANDARD
TZOFFSETFROM:-0700
TZOFFSETTO:-0800
TZNAME:PST
DTSTART:20321107T090000
END:STANDARD
END:VTIMEZONE
BEGIN:VEVENT
DTSTART;TZID=America/Los_Angeles:20300612T100000
DTEND;TZID=America/Los_Angeles:20300612T113000
DTSTAMP:20260421T163753
CREATED:20260217T024901Z
LAST-MODIFIED:20260217T024901Z
UID:10074981-1907488800-1907494200@thedirt.online
SUMMARY:UpENDing Parkinson's at Rocknasium
DESCRIPTION:UpENDing Parkinson’s at Rocknasium \nWednesdays\, 10-11:30 AM \nRocknasium is hosting UpENDing Parkinson’s\, a non-profit that provides guided rock climbing to those living with Parkinson’s. Entrance is free\, and rental gear is $10. Those interested may register as a climber here.
URL:https://thedirt.online/event/upending-parkinsons-at-rocknasium/2030-06-12/
LOCATION:Rocknasium the Climbing Gym\, 720 Olive Drive\, Suite S\, Davis\, 95616\, United States
CATEGORIES:Community,Fitness
ATTACH;FMTTYPE=image/jpeg:https://thedirt.online/wp-content/uploads/2026/02/UpEndPark-6-scaled.jpg
END:VEVENT
BEGIN:VEVENT
DTSTART;TZID=America/Los_Angeles:20300619T100000
DTEND;TZID=America/Los_Angeles:20300619T113000
DTSTAMP:20260421T163753
CREATED:20260217T024901Z
LAST-MODIFIED:20260217T024901Z
UID:10074982-1908093600-1908099000@thedirt.online
SUMMARY:UpENDing Parkinson's at Rocknasium
DESCRIPTION:UpENDing Parkinson’s at Rocknasium \nWednesdays\, 10-11:30 AM \nRocknasium is hosting UpENDing Parkinson’s\, a non-profit that provides guided rock climbing to those living with Parkinson’s. Entrance is free\, and rental gear is $10. Those interested may register as a climber here.
URL:https://thedirt.online/event/upending-parkinsons-at-rocknasium/2030-06-19/
LOCATION:Rocknasium the Climbing Gym\, 720 Olive Drive\, Suite S\, Davis\, 95616\, United States
CATEGORIES:Community,Fitness
ATTACH;FMTTYPE=image/jpeg:https://thedirt.online/wp-content/uploads/2026/02/UpEndPark-6-scaled.jpg
END:VEVENT
BEGIN:VEVENT
DTSTART;TZID=America/Los_Angeles:20300626T100000
DTEND;TZID=America/Los_Angeles:20300626T113000
DTSTAMP:20260421T163753
CREATED:20260217T024901Z
LAST-MODIFIED:20260217T024901Z
UID:10074983-1908698400-1908703800@thedirt.online
SUMMARY:UpENDing Parkinson's at Rocknasium
DESCRIPTION:UpENDing Parkinson’s at Rocknasium \nWednesdays\, 10-11:30 AM \nRocknasium is hosting UpENDing Parkinson’s\, a non-profit that provides guided rock climbing to those living with Parkinson’s. Entrance is free\, and rental gear is $10. Those interested may register as a climber here.
URL:https://thedirt.online/event/upending-parkinsons-at-rocknasium/2030-06-26/
LOCATION:Rocknasium the Climbing Gym\, 720 Olive Drive\, Suite S\, Davis\, 95616\, United States
CATEGORIES:Community,Fitness
ATTACH;FMTTYPE=image/jpeg:https://thedirt.online/wp-content/uploads/2026/02/UpEndPark-6-scaled.jpg
END:VEVENT
BEGIN:VEVENT
DTSTART;TZID=America/Los_Angeles:20300703T100000
DTEND;TZID=America/Los_Angeles:20300703T113000
DTSTAMP:20260421T163753
CREATED:20260217T024901Z
LAST-MODIFIED:20260217T024901Z
UID:10074984-1909303200-1909308600@thedirt.online
SUMMARY:UpENDing Parkinson's at Rocknasium
DESCRIPTION:UpENDing Parkinson’s at Rocknasium \nWednesdays\, 10-11:30 AM \nRocknasium is hosting UpENDing Parkinson’s\, a non-profit that provides guided rock climbing to those living with Parkinson’s. Entrance is free\, and rental gear is $10. Those interested may register as a climber here.
URL:https://thedirt.online/event/upending-parkinsons-at-rocknasium/2030-07-03/
LOCATION:Rocknasium the Climbing Gym\, 720 Olive Drive\, Suite S\, Davis\, 95616\, United States
CATEGORIES:Community,Fitness
ATTACH;FMTTYPE=image/jpeg:https://thedirt.online/wp-content/uploads/2026/02/UpEndPark-6-scaled.jpg
END:VEVENT
BEGIN:VEVENT
DTSTART;TZID=America/Los_Angeles:20300710T100000
DTEND;TZID=America/Los_Angeles:20300710T113000
DTSTAMP:20260421T163753
CREATED:20260217T024901Z
LAST-MODIFIED:20260217T024901Z
UID:10074985-1909908000-1909913400@thedirt.online
SUMMARY:UpENDing Parkinson's at Rocknasium
DESCRIPTION:UpENDing Parkinson’s at Rocknasium \nWednesdays\, 10-11:30 AM \nRocknasium is hosting UpENDing Parkinson’s\, a non-profit that provides guided rock climbing to those living with Parkinson’s. Entrance is free\, and rental gear is $10. Those interested may register as a climber here.
URL:https://thedirt.online/event/upending-parkinsons-at-rocknasium/2030-07-10/
LOCATION:Rocknasium the Climbing Gym\, 720 Olive Drive\, Suite S\, Davis\, 95616\, United States
CATEGORIES:Community,Fitness
ATTACH;FMTTYPE=image/jpeg:https://thedirt.online/wp-content/uploads/2026/02/UpEndPark-6-scaled.jpg
END:VEVENT
BEGIN:VEVENT
DTSTART;TZID=America/Los_Angeles:20300717T100000
DTEND;TZID=America/Los_Angeles:20300717T113000
DTSTAMP:20260421T163753
CREATED:20260217T024901Z
LAST-MODIFIED:20260217T024901Z
UID:10074986-1910512800-1910518200@thedirt.online
SUMMARY:UpENDing Parkinson's at Rocknasium
DESCRIPTION:UpENDing Parkinson’s at Rocknasium \nWednesdays\, 10-11:30 AM \nRocknasium is hosting UpENDing Parkinson’s\, a non-profit that provides guided rock climbing to those living with Parkinson’s. Entrance is free\, and rental gear is $10. Those interested may register as a climber here.
URL:https://thedirt.online/event/upending-parkinsons-at-rocknasium/2030-07-17/
LOCATION:Rocknasium the Climbing Gym\, 720 Olive Drive\, Suite S\, Davis\, 95616\, United States
CATEGORIES:Community,Fitness
ATTACH;FMTTYPE=image/jpeg:https://thedirt.online/wp-content/uploads/2026/02/UpEndPark-6-scaled.jpg
END:VEVENT
BEGIN:VEVENT
DTSTART;TZID=America/Los_Angeles:20300724T100000
DTEND;TZID=America/Los_Angeles:20300724T113000
DTSTAMP:20260421T163753
CREATED:20260217T024901Z
LAST-MODIFIED:20260217T024901Z
UID:10074987-1911117600-1911123000@thedirt.online
SUMMARY:UpENDing Parkinson's at Rocknasium
DESCRIPTION:UpENDing Parkinson’s at Rocknasium \nWednesdays\, 10-11:30 AM \nRocknasium is hosting UpENDing Parkinson’s\, a non-profit that provides guided rock climbing to those living with Parkinson’s. Entrance is free\, and rental gear is $10. Those interested may register as a climber here.
URL:https://thedirt.online/event/upending-parkinsons-at-rocknasium/2030-07-24/
LOCATION:Rocknasium the Climbing Gym\, 720 Olive Drive\, Suite S\, Davis\, 95616\, United States
CATEGORIES:Community,Fitness
ATTACH;FMTTYPE=image/jpeg:https://thedirt.online/wp-content/uploads/2026/02/UpEndPark-6-scaled.jpg
END:VEVENT
BEGIN:VEVENT
DTSTART;TZID=America/Los_Angeles:20300731T100000
DTEND;TZID=America/Los_Angeles:20300731T113000
DTSTAMP:20260421T163753
CREATED:20260217T024901Z
LAST-MODIFIED:20260217T024901Z
UID:10074988-1911722400-1911727800@thedirt.online
SUMMARY:UpENDing Parkinson's at Rocknasium
DESCRIPTION:UpENDing Parkinson’s at Rocknasium \nWednesdays\, 10-11:30 AM \nRocknasium is hosting UpENDing Parkinson’s\, a non-profit that provides guided rock climbing to those living with Parkinson’s. Entrance is free\, and rental gear is $10. Those interested may register as a climber here.
URL:https://thedirt.online/event/upending-parkinsons-at-rocknasium/2030-07-31/
LOCATION:Rocknasium the Climbing Gym\, 720 Olive Drive\, Suite S\, Davis\, 95616\, United States
CATEGORIES:Community,Fitness
ATTACH;FMTTYPE=image/jpeg:https://thedirt.online/wp-content/uploads/2026/02/UpEndPark-6-scaled.jpg
END:VEVENT
BEGIN:VEVENT
DTSTART;TZID=America/Los_Angeles:20300807T100000
DTEND;TZID=America/Los_Angeles:20300807T113000
DTSTAMP:20260421T163753
CREATED:20260217T024901Z
LAST-MODIFIED:20260217T024901Z
UID:10074989-1912327200-1912332600@thedirt.online
SUMMARY:UpENDing Parkinson's at Rocknasium
DESCRIPTION:UpENDing Parkinson’s at Rocknasium \nWednesdays\, 10-11:30 AM \nRocknasium is hosting UpENDing Parkinson’s\, a non-profit that provides guided rock climbing to those living with Parkinson’s. Entrance is free\, and rental gear is $10. Those interested may register as a climber here.
URL:https://thedirt.online/event/upending-parkinsons-at-rocknasium/2030-08-07/
LOCATION:Rocknasium the Climbing Gym\, 720 Olive Drive\, Suite S\, Davis\, 95616\, United States
CATEGORIES:Community,Fitness
ATTACH;FMTTYPE=image/jpeg:https://thedirt.online/wp-content/uploads/2026/02/UpEndPark-6-scaled.jpg
END:VEVENT
BEGIN:VEVENT
DTSTART;TZID=America/Los_Angeles:20300814T100000
DTEND;TZID=America/Los_Angeles:20300814T113000
DTSTAMP:20260421T163753
CREATED:20260217T024901Z
LAST-MODIFIED:20260217T024901Z
UID:10074990-1912932000-1912937400@thedirt.online
SUMMARY:UpENDing Parkinson's at Rocknasium
DESCRIPTION:UpENDing Parkinson’s at Rocknasium \nWednesdays\, 10-11:30 AM \nRocknasium is hosting UpENDing Parkinson’s\, a non-profit that provides guided rock climbing to those living with Parkinson’s. Entrance is free\, and rental gear is $10. Those interested may register as a climber here.
URL:https://thedirt.online/event/upending-parkinsons-at-rocknasium/2030-08-14/
LOCATION:Rocknasium the Climbing Gym\, 720 Olive Drive\, Suite S\, Davis\, 95616\, United States
CATEGORIES:Community,Fitness
ATTACH;FMTTYPE=image/jpeg:https://thedirt.online/wp-content/uploads/2026/02/UpEndPark-6-scaled.jpg
END:VEVENT
BEGIN:VEVENT
DTSTART;TZID=America/Los_Angeles:20300821T100000
DTEND;TZID=America/Los_Angeles:20300821T113000
DTSTAMP:20260421T163753
CREATED:20260217T024901Z
LAST-MODIFIED:20260217T024901Z
UID:10074991-1913536800-1913542200@thedirt.online
SUMMARY:UpENDing Parkinson's at Rocknasium
DESCRIPTION:UpENDing Parkinson’s at Rocknasium \nWednesdays\, 10-11:30 AM \nRocknasium is hosting UpENDing Parkinson’s\, a non-profit that provides guided rock climbing to those living with Parkinson’s. Entrance is free\, and rental gear is $10. Those interested may register as a climber here.
URL:https://thedirt.online/event/upending-parkinsons-at-rocknasium/2030-08-21/
LOCATION:Rocknasium the Climbing Gym\, 720 Olive Drive\, Suite S\, Davis\, 95616\, United States
CATEGORIES:Community,Fitness
ATTACH;FMTTYPE=image/jpeg:https://thedirt.online/wp-content/uploads/2026/02/UpEndPark-6-scaled.jpg
END:VEVENT
BEGIN:VEVENT
DTSTART;TZID=America/Los_Angeles:20300828T100000
DTEND;TZID=America/Los_Angeles:20300828T113000
DTSTAMP:20260421T163753
CREATED:20260217T024901Z
LAST-MODIFIED:20260217T024901Z
UID:10074992-1914141600-1914147000@thedirt.online
SUMMARY:UpENDing Parkinson's at Rocknasium
DESCRIPTION:UpENDing Parkinson’s at Rocknasium \nWednesdays\, 10-11:30 AM \nRocknasium is hosting UpENDing Parkinson’s\, a non-profit that provides guided rock climbing to those living with Parkinson’s. Entrance is free\, and rental gear is $10. Those interested may register as a climber here.
URL:https://thedirt.online/event/upending-parkinsons-at-rocknasium/2030-08-28/
LOCATION:Rocknasium the Climbing Gym\, 720 Olive Drive\, Suite S\, Davis\, 95616\, United States
CATEGORIES:Community,Fitness
ATTACH;FMTTYPE=image/jpeg:https://thedirt.online/wp-content/uploads/2026/02/UpEndPark-6-scaled.jpg
END:VEVENT
BEGIN:VEVENT
DTSTART;TZID=America/Los_Angeles:20300904T100000
DTEND;TZID=America/Los_Angeles:20300904T113000
DTSTAMP:20260421T163753
CREATED:20260217T024901Z
LAST-MODIFIED:20260217T024901Z
UID:10074993-1914746400-1914751800@thedirt.online
SUMMARY:UpENDing Parkinson's at Rocknasium
DESCRIPTION:UpENDing Parkinson’s at Rocknasium \nWednesdays\, 10-11:30 AM \nRocknasium is hosting UpENDing Parkinson’s\, a non-profit that provides guided rock climbing to those living with Parkinson’s. Entrance is free\, and rental gear is $10. Those interested may register as a climber here.
URL:https://thedirt.online/event/upending-parkinsons-at-rocknasium/2030-09-04/
LOCATION:Rocknasium the Climbing Gym\, 720 Olive Drive\, Suite S\, Davis\, 95616\, United States
CATEGORIES:Community,Fitness
ATTACH;FMTTYPE=image/jpeg:https://thedirt.online/wp-content/uploads/2026/02/UpEndPark-6-scaled.jpg
END:VEVENT
BEGIN:VEVENT
DTSTART;TZID=America/Los_Angeles:20300911T100000
DTEND;TZID=America/Los_Angeles:20300911T113000
DTSTAMP:20260421T163753
CREATED:20260217T024901Z
LAST-MODIFIED:20260217T024901Z
UID:10074994-1915351200-1915356600@thedirt.online
SUMMARY:UpENDing Parkinson's at Rocknasium
DESCRIPTION:UpENDing Parkinson’s at Rocknasium \nWednesdays\, 10-11:30 AM \nRocknasium is hosting UpENDing Parkinson’s\, a non-profit that provides guided rock climbing to those living with Parkinson’s. Entrance is free\, and rental gear is $10. Those interested may register as a climber here.
URL:https://thedirt.online/event/upending-parkinsons-at-rocknasium/2030-09-11/
LOCATION:Rocknasium the Climbing Gym\, 720 Olive Drive\, Suite S\, Davis\, 95616\, United States
CATEGORIES:Community,Fitness
ATTACH;FMTTYPE=image/jpeg:https://thedirt.online/wp-content/uploads/2026/02/UpEndPark-6-scaled.jpg
END:VEVENT
BEGIN:VEVENT
DTSTART;TZID=America/Los_Angeles:20300918T100000
DTEND;TZID=America/Los_Angeles:20300918T113000
DTSTAMP:20260421T163753
CREATED:20260217T024901Z
LAST-MODIFIED:20260217T024901Z
UID:10074995-1915956000-1915961400@thedirt.online
SUMMARY:UpENDing Parkinson's at Rocknasium
DESCRIPTION:UpENDing Parkinson’s at Rocknasium \nWednesdays\, 10-11:30 AM \nRocknasium is hosting UpENDing Parkinson’s\, a non-profit that provides guided rock climbing to those living with Parkinson’s. Entrance is free\, and rental gear is $10. Those interested may register as a climber here.
URL:https://thedirt.online/event/upending-parkinsons-at-rocknasium/2030-09-18/
LOCATION:Rocknasium the Climbing Gym\, 720 Olive Drive\, Suite S\, Davis\, 95616\, United States
CATEGORIES:Community,Fitness
ATTACH;FMTTYPE=image/jpeg:https://thedirt.online/wp-content/uploads/2026/02/UpEndPark-6-scaled.jpg
END:VEVENT
BEGIN:VEVENT
DTSTART;TZID=America/Los_Angeles:20300925T100000
DTEND;TZID=America/Los_Angeles:20300925T113000
DTSTAMP:20260421T163753
CREATED:20260217T024901Z
LAST-MODIFIED:20260217T024901Z
UID:10074996-1916560800-1916566200@thedirt.online
SUMMARY:UpENDing Parkinson's at Rocknasium
DESCRIPTION:UpENDing Parkinson’s at Rocknasium \nWednesdays\, 10-11:30 AM \nRocknasium is hosting UpENDing Parkinson’s\, a non-profit that provides guided rock climbing to those living with Parkinson’s. Entrance is free\, and rental gear is $10. Those interested may register as a climber here.
URL:https://thedirt.online/event/upending-parkinsons-at-rocknasium/2030-09-25/
LOCATION:Rocknasium the Climbing Gym\, 720 Olive Drive\, Suite S\, Davis\, 95616\, United States
CATEGORIES:Community,Fitness
ATTACH;FMTTYPE=image/jpeg:https://thedirt.online/wp-content/uploads/2026/02/UpEndPark-6-scaled.jpg
END:VEVENT
BEGIN:VEVENT
DTSTART;TZID=America/Los_Angeles:20301002T100000
DTEND;TZID=America/Los_Angeles:20301002T113000
DTSTAMP:20260421T163753
CREATED:20260217T024901Z
LAST-MODIFIED:20260217T024901Z
UID:10074997-1917165600-1917171000@thedirt.online
SUMMARY:UpENDing Parkinson's at Rocknasium
DESCRIPTION:UpENDing Parkinson’s at Rocknasium \nWednesdays\, 10-11:30 AM \nRocknasium is hosting UpENDing Parkinson’s\, a non-profit that provides guided rock climbing to those living with Parkinson’s. Entrance is free\, and rental gear is $10. Those interested may register as a climber here.
URL:https://thedirt.online/event/upending-parkinsons-at-rocknasium/2030-10-02/
LOCATION:Rocknasium the Climbing Gym\, 720 Olive Drive\, Suite S\, Davis\, 95616\, United States
CATEGORIES:Community,Fitness
ATTACH;FMTTYPE=image/jpeg:https://thedirt.online/wp-content/uploads/2026/02/UpEndPark-6-scaled.jpg
END:VEVENT
BEGIN:VEVENT
DTSTART;TZID=America/Los_Angeles:20301009T100000
DTEND;TZID=America/Los_Angeles:20301009T113000
DTSTAMP:20260421T163753
CREATED:20260217T024901Z
LAST-MODIFIED:20260217T024901Z
UID:10074998-1917770400-1917775800@thedirt.online
SUMMARY:UpENDing Parkinson's at Rocknasium
DESCRIPTION:UpENDing Parkinson’s at Rocknasium \nWednesdays\, 10-11:30 AM \nRocknasium is hosting UpENDing Parkinson’s\, a non-profit that provides guided rock climbing to those living with Parkinson’s. Entrance is free\, and rental gear is $10. Those interested may register as a climber here.
URL:https://thedirt.online/event/upending-parkinsons-at-rocknasium/2030-10-09/
LOCATION:Rocknasium the Climbing Gym\, 720 Olive Drive\, Suite S\, Davis\, 95616\, United States
CATEGORIES:Community,Fitness
ATTACH;FMTTYPE=image/jpeg:https://thedirt.online/wp-content/uploads/2026/02/UpEndPark-6-scaled.jpg
END:VEVENT
BEGIN:VEVENT
DTSTART;TZID=America/Los_Angeles:20301016T100000
DTEND;TZID=America/Los_Angeles:20301016T113000
DTSTAMP:20260421T163753
CREATED:20260217T024901Z
LAST-MODIFIED:20260217T024901Z
UID:10074999-1918375200-1918380600@thedirt.online
SUMMARY:UpENDing Parkinson's at Rocknasium
DESCRIPTION:UpENDing Parkinson’s at Rocknasium \nWednesdays\, 10-11:30 AM \nRocknasium is hosting UpENDing Parkinson’s\, a non-profit that provides guided rock climbing to those living with Parkinson’s. Entrance is free\, and rental gear is $10. Those interested may register as a climber here.
URL:https://thedirt.online/event/upending-parkinsons-at-rocknasium/2030-10-16/
LOCATION:Rocknasium the Climbing Gym\, 720 Olive Drive\, Suite S\, Davis\, 95616\, United States
CATEGORIES:Community,Fitness
ATTACH;FMTTYPE=image/jpeg:https://thedirt.online/wp-content/uploads/2026/02/UpEndPark-6-scaled.jpg
END:VEVENT
BEGIN:VEVENT
DTSTART;TZID=America/Los_Angeles:20301023T100000
DTEND;TZID=America/Los_Angeles:20301023T113000
DTSTAMP:20260421T163754
CREATED:20260217T024901Z
LAST-MODIFIED:20260217T024901Z
UID:10075000-1918980000-1918985400@thedirt.online
SUMMARY:UpENDing Parkinson's at Rocknasium
DESCRIPTION:UpENDing Parkinson’s at Rocknasium \nWednesdays\, 10-11:30 AM \nRocknasium is hosting UpENDing Parkinson’s\, a non-profit that provides guided rock climbing to those living with Parkinson’s. Entrance is free\, and rental gear is $10. Those interested may register as a climber here.
URL:https://thedirt.online/event/upending-parkinsons-at-rocknasium/2030-10-23/
LOCATION:Rocknasium the Climbing Gym\, 720 Olive Drive\, Suite S\, Davis\, 95616\, United States
CATEGORIES:Community,Fitness
ATTACH;FMTTYPE=image/jpeg:https://thedirt.online/wp-content/uploads/2026/02/UpEndPark-6-scaled.jpg
END:VEVENT
BEGIN:VEVENT
DTSTART;TZID=America/Los_Angeles:20301030T100000
DTEND;TZID=America/Los_Angeles:20301030T113000
DTSTAMP:20260421T163754
CREATED:20260217T024901Z
LAST-MODIFIED:20260217T024901Z
UID:10075001-1919584800-1919590200@thedirt.online
SUMMARY:UpENDing Parkinson's at Rocknasium
DESCRIPTION:UpENDing Parkinson’s at Rocknasium \nWednesdays\, 10-11:30 AM \nRocknasium is hosting UpENDing Parkinson’s\, a non-profit that provides guided rock climbing to those living with Parkinson’s. Entrance is free\, and rental gear is $10. Those interested may register as a climber here.
URL:https://thedirt.online/event/upending-parkinsons-at-rocknasium/2030-10-30/
LOCATION:Rocknasium the Climbing Gym\, 720 Olive Drive\, Suite S\, Davis\, 95616\, United States
CATEGORIES:Community,Fitness
ATTACH;FMTTYPE=image/jpeg:https://thedirt.online/wp-content/uploads/2026/02/UpEndPark-6-scaled.jpg
END:VEVENT
BEGIN:VEVENT
DTSTART;TZID=America/Los_Angeles:20301106T100000
DTEND;TZID=America/Los_Angeles:20301106T113000
DTSTAMP:20260421T163754
CREATED:20260217T024901Z
LAST-MODIFIED:20260217T024901Z
UID:10075002-1920189600-1920195000@thedirt.online
SUMMARY:UpENDing Parkinson's at Rocknasium
DESCRIPTION:UpENDing Parkinson’s at Rocknasium \nWednesdays\, 10-11:30 AM \nRocknasium is hosting UpENDing Parkinson’s\, a non-profit that provides guided rock climbing to those living with Parkinson’s. Entrance is free\, and rental gear is $10. Those interested may register as a climber here.
URL:https://thedirt.online/event/upending-parkinsons-at-rocknasium/2030-11-06/
LOCATION:Rocknasium the Climbing Gym\, 720 Olive Drive\, Suite S\, Davis\, 95616\, United States
CATEGORIES:Community,Fitness
ATTACH;FMTTYPE=image/jpeg:https://thedirt.online/wp-content/uploads/2026/02/UpEndPark-6-scaled.jpg
END:VEVENT
BEGIN:VEVENT
DTSTART;TZID=America/Los_Angeles:20301113T100000
DTEND;TZID=America/Los_Angeles:20301113T113000
DTSTAMP:20260421T163754
CREATED:20260217T024901Z
LAST-MODIFIED:20260217T024901Z
UID:10075003-1920794400-1920799800@thedirt.online
SUMMARY:UpENDing Parkinson's at Rocknasium
DESCRIPTION:UpENDing Parkinson’s at Rocknasium \nWednesdays\, 10-11:30 AM \nRocknasium is hosting UpENDing Parkinson’s\, a non-profit that provides guided rock climbing to those living with Parkinson’s. Entrance is free\, and rental gear is $10. Those interested may register as a climber here.
URL:https://thedirt.online/event/upending-parkinsons-at-rocknasium/2030-11-13/
LOCATION:Rocknasium the Climbing Gym\, 720 Olive Drive\, Suite S\, Davis\, 95616\, United States
CATEGORIES:Community,Fitness
ATTACH;FMTTYPE=image/jpeg:https://thedirt.online/wp-content/uploads/2026/02/UpEndPark-6-scaled.jpg
END:VEVENT
BEGIN:VEVENT
DTSTART;TZID=America/Los_Angeles:20301120T100000
DTEND;TZID=America/Los_Angeles:20301120T113000
DTSTAMP:20260421T163754
CREATED:20260217T024901Z
LAST-MODIFIED:20260217T024901Z
UID:10075004-1921399200-1921404600@thedirt.online
SUMMARY:UpENDing Parkinson's at Rocknasium
DESCRIPTION:UpENDing Parkinson’s at Rocknasium \nWednesdays\, 10-11:30 AM \nRocknasium is hosting UpENDing Parkinson’s\, a non-profit that provides guided rock climbing to those living with Parkinson’s. Entrance is free\, and rental gear is $10. Those interested may register as a climber here.
URL:https://thedirt.online/event/upending-parkinsons-at-rocknasium/2030-11-20/
LOCATION:Rocknasium the Climbing Gym\, 720 Olive Drive\, Suite S\, Davis\, 95616\, United States
CATEGORIES:Community,Fitness
ATTACH;FMTTYPE=image/jpeg:https://thedirt.online/wp-content/uploads/2026/02/UpEndPark-6-scaled.jpg
END:VEVENT
BEGIN:VEVENT
DTSTART;TZID=America/Los_Angeles:20301127T100000
DTEND;TZID=America/Los_Angeles:20301127T113000
DTSTAMP:20260421T163754
CREATED:20260217T024901Z
LAST-MODIFIED:20260217T024901Z
UID:10075005-1922004000-1922009400@thedirt.online
SUMMARY:UpENDing Parkinson's at Rocknasium
DESCRIPTION:UpENDing Parkinson’s at Rocknasium \nWednesdays\, 10-11:30 AM \nRocknasium is hosting UpENDing Parkinson’s\, a non-profit that provides guided rock climbing to those living with Parkinson’s. Entrance is free\, and rental gear is $10. Those interested may register as a climber here.
URL:https://thedirt.online/event/upending-parkinsons-at-rocknasium/2030-11-27/
LOCATION:Rocknasium the Climbing Gym\, 720 Olive Drive\, Suite S\, Davis\, 95616\, United States
CATEGORIES:Community,Fitness
ATTACH;FMTTYPE=image/jpeg:https://thedirt.online/wp-content/uploads/2026/02/UpEndPark-6-scaled.jpg
END:VEVENT
BEGIN:VEVENT
DTSTART;TZID=America/Los_Angeles:20301204T100000
DTEND;TZID=America/Los_Angeles:20301204T113000
DTSTAMP:20260421T163754
CREATED:20260217T024901Z
LAST-MODIFIED:20260217T024901Z
UID:10075006-1922608800-1922614200@thedirt.online
SUMMARY:UpENDing Parkinson's at Rocknasium
DESCRIPTION:UpENDing Parkinson’s at Rocknasium \nWednesdays\, 10-11:30 AM \nRocknasium is hosting UpENDing Parkinson’s\, a non-profit that provides guided rock climbing to those living with Parkinson’s. Entrance is free\, and rental gear is $10. Those interested may register as a climber here.
URL:https://thedirt.online/event/upending-parkinsons-at-rocknasium/2030-12-04/
LOCATION:Rocknasium the Climbing Gym\, 720 Olive Drive\, Suite S\, Davis\, 95616\, United States
CATEGORIES:Community,Fitness
ATTACH;FMTTYPE=image/jpeg:https://thedirt.online/wp-content/uploads/2026/02/UpEndPark-6-scaled.jpg
END:VEVENT
BEGIN:VEVENT
DTSTART;TZID=America/Los_Angeles:20301211T100000
DTEND;TZID=America/Los_Angeles:20301211T113000
DTSTAMP:20260421T163754
CREATED:20260217T024901Z
LAST-MODIFIED:20260217T024901Z
UID:10075007-1923213600-1923219000@thedirt.online
SUMMARY:UpENDing Parkinson's at Rocknasium
DESCRIPTION:UpENDing Parkinson’s at Rocknasium \nWednesdays\, 10-11:30 AM \nRocknasium is hosting UpENDing Parkinson’s\, a non-profit that provides guided rock climbing to those living with Parkinson’s. Entrance is free\, and rental gear is $10. Those interested may register as a climber here.
URL:https://thedirt.online/event/upending-parkinsons-at-rocknasium/2030-12-11/
LOCATION:Rocknasium the Climbing Gym\, 720 Olive Drive\, Suite S\, Davis\, 95616\, United States
CATEGORIES:Community,Fitness
ATTACH;FMTTYPE=image/jpeg:https://thedirt.online/wp-content/uploads/2026/02/UpEndPark-6-scaled.jpg
END:VEVENT
BEGIN:VEVENT
DTSTART;TZID=America/Los_Angeles:20301218T100000
DTEND;TZID=America/Los_Angeles:20301218T113000
DTSTAMP:20260421T163754
CREATED:20260217T024901Z
LAST-MODIFIED:20260217T024901Z
UID:10075008-1923818400-1923823800@thedirt.online
SUMMARY:UpENDing Parkinson's at Rocknasium
DESCRIPTION:UpENDing Parkinson’s at Rocknasium \nWednesdays\, 10-11:30 AM \nRocknasium is hosting UpENDing Parkinson’s\, a non-profit that provides guided rock climbing to those living with Parkinson’s. Entrance is free\, and rental gear is $10. Those interested may register as a climber here.
URL:https://thedirt.online/event/upending-parkinsons-at-rocknasium/2030-12-18/
LOCATION:Rocknasium the Climbing Gym\, 720 Olive Drive\, Suite S\, Davis\, 95616\, United States
CATEGORIES:Community,Fitness
ATTACH;FMTTYPE=image/jpeg:https://thedirt.online/wp-content/uploads/2026/02/UpEndPark-6-scaled.jpg
END:VEVENT
BEGIN:VEVENT
DTSTART;TZID=America/Los_Angeles:20301225T100000
DTEND;TZID=America/Los_Angeles:20301225T113000
DTSTAMP:20260421T163754
CREATED:20260217T024901Z
LAST-MODIFIED:20260217T024901Z
UID:10075009-1924423200-1924428600@thedirt.online
SUMMARY:UpENDing Parkinson's at Rocknasium
DESCRIPTION:UpENDing Parkinson’s at Rocknasium \nWednesdays\, 10-11:30 AM \nRocknasium is hosting UpENDing Parkinson’s\, a non-profit that provides guided rock climbing to those living with Parkinson’s. Entrance is free\, and rental gear is $10. Those interested may register as a climber here.
URL:https://thedirt.online/event/upending-parkinsons-at-rocknasium/2030-12-25/
LOCATION:Rocknasium the Climbing Gym\, 720 Olive Drive\, Suite S\, Davis\, 95616\, United States
CATEGORIES:Community,Fitness
ATTACH;FMTTYPE=image/jpeg:https://thedirt.online/wp-content/uploads/2026/02/UpEndPark-6-scaled.jpg
END:VEVENT
BEGIN:VEVENT
DTSTART;TZID=America/Los_Angeles:20310101T100000
DTEND;TZID=America/Los_Angeles:20310101T113000
DTSTAMP:20260421T163754
CREATED:20260217T024901Z
LAST-MODIFIED:20260217T024901Z
UID:10075010-1925028000-1925033400@thedirt.online
SUMMARY:UpENDing Parkinson's at Rocknasium
DESCRIPTION:UpENDing Parkinson’s at Rocknasium \nWednesdays\, 10-11:30 AM \nRocknasium is hosting UpENDing Parkinson’s\, a non-profit that provides guided rock climbing to those living with Parkinson’s. Entrance is free\, and rental gear is $10. Those interested may register as a climber here.
URL:https://thedirt.online/event/upending-parkinsons-at-rocknasium/2031-01-01/
LOCATION:Rocknasium the Climbing Gym\, 720 Olive Drive\, Suite S\, Davis\, 95616\, United States
CATEGORIES:Community,Fitness
ATTACH;FMTTYPE=image/jpeg:https://thedirt.online/wp-content/uploads/2026/02/UpEndPark-6-scaled.jpg
END:VEVENT
END:VCALENDAR