BEGIN:VCALENDAR
VERSION:2.0
PRODID:-//The Dirt - ECPv6.15.20//NONSGML v1.0//EN
CALSCALE:GREGORIAN
METHOD:PUBLISH
X-WR-CALNAME:The Dirt
X-ORIGINAL-URL:https://thedirt.online
X-WR-CALDESC:Events for The Dirt
REFRESH-INTERVAL;VALUE=DURATION:PT1H
X-Robots-Tag:noindex
X-PUBLISHED-TTL:PT1H
BEGIN:VTIMEZONE
TZID:America/Los_Angeles
BEGIN:DAYLIGHT
TZOFFSETFROM:-0800
TZOFFSETTO:-0700
TZNAME:PDT
DTSTART:20280312T100000
END:DAYLIGHT
BEGIN:STANDARD
TZOFFSETFROM:-0700
TZOFFSETTO:-0800
TZNAME:PST
DTSTART:20281105T090000
END:STANDARD
BEGIN:DAYLIGHT
TZOFFSETFROM:-0800
TZOFFSETTO:-0700
TZNAME:PDT
DTSTART:20290311T100000
END:DAYLIGHT
BEGIN:STANDARD
TZOFFSETFROM:-0700
TZOFFSETTO:-0800
TZNAME:PST
DTSTART:20291104T090000
END:STANDARD
BEGIN:DAYLIGHT
TZOFFSETFROM:-0800
TZOFFSETTO:-0700
TZNAME:PDT
DTSTART:20300310T100000
END:DAYLIGHT
BEGIN:STANDARD
TZOFFSETFROM:-0700
TZOFFSETTO:-0800
TZNAME:PST
DTSTART:20301103T090000
END:STANDARD
BEGIN:DAYLIGHT
TZOFFSETFROM:-0800
TZOFFSETTO:-0700
TZNAME:PDT
DTSTART:20310309T100000
END:DAYLIGHT
BEGIN:STANDARD
TZOFFSETFROM:-0700
TZOFFSETTO:-0800
TZNAME:PST
DTSTART:20311102T090000
END:STANDARD
END:VTIMEZONE
BEGIN:VEVENT
DTSTART;TZID=America/Los_Angeles:20291226T100000
DTEND;TZID=America/Los_Angeles:20291226T113000
DTSTAMP:20260421T141631
CREATED:20260217T024901Z
LAST-MODIFIED:20260217T024901Z
UID:10074957-1892973600-1892979000@thedirt.online
SUMMARY:UpENDing Parkinson's at Rocknasium
DESCRIPTION:UpENDing Parkinson’s at Rocknasium \nWednesdays\, 10-11:30 AM \nRocknasium is hosting UpENDing Parkinson’s\, a non-profit that provides guided rock climbing to those living with Parkinson’s. Entrance is free\, and rental gear is $10. Those interested may register as a climber here.
URL:https://thedirt.online/event/upending-parkinsons-at-rocknasium/2029-12-26/
LOCATION:Rocknasium the Climbing Gym\, 720 Olive Drive\, Suite S\, Davis\, 95616\, United States
CATEGORIES:Community,Fitness
ATTACH;FMTTYPE=image/jpeg:https://thedirt.online/wp-content/uploads/2026/02/UpEndPark-6-scaled.jpg
END:VEVENT
BEGIN:VEVENT
DTSTART;TZID=America/Los_Angeles:20300102T100000
DTEND;TZID=America/Los_Angeles:20300102T113000
DTSTAMP:20260421T141631
CREATED:20260217T024901Z
LAST-MODIFIED:20260217T024901Z
UID:10074958-1893578400-1893583800@thedirt.online
SUMMARY:UpENDing Parkinson's at Rocknasium
DESCRIPTION:UpENDing Parkinson’s at Rocknasium \nWednesdays\, 10-11:30 AM \nRocknasium is hosting UpENDing Parkinson’s\, a non-profit that provides guided rock climbing to those living with Parkinson’s. Entrance is free\, and rental gear is $10. Those interested may register as a climber here.
URL:https://thedirt.online/event/upending-parkinsons-at-rocknasium/2030-01-02/
LOCATION:Rocknasium the Climbing Gym\, 720 Olive Drive\, Suite S\, Davis\, 95616\, United States
CATEGORIES:Community,Fitness
ATTACH;FMTTYPE=image/jpeg:https://thedirt.online/wp-content/uploads/2026/02/UpEndPark-6-scaled.jpg
END:VEVENT
BEGIN:VEVENT
DTSTART;TZID=America/Los_Angeles:20300109T100000
DTEND;TZID=America/Los_Angeles:20300109T113000
DTSTAMP:20260421T141631
CREATED:20260217T024901Z
LAST-MODIFIED:20260217T024901Z
UID:10074959-1894183200-1894188600@thedirt.online
SUMMARY:UpENDing Parkinson's at Rocknasium
DESCRIPTION:UpENDing Parkinson’s at Rocknasium \nWednesdays\, 10-11:30 AM \nRocknasium is hosting UpENDing Parkinson’s\, a non-profit that provides guided rock climbing to those living with Parkinson’s. Entrance is free\, and rental gear is $10. Those interested may register as a climber here.
URL:https://thedirt.online/event/upending-parkinsons-at-rocknasium/2030-01-09/
LOCATION:Rocknasium the Climbing Gym\, 720 Olive Drive\, Suite S\, Davis\, 95616\, United States
CATEGORIES:Community,Fitness
ATTACH;FMTTYPE=image/jpeg:https://thedirt.online/wp-content/uploads/2026/02/UpEndPark-6-scaled.jpg
END:VEVENT
BEGIN:VEVENT
DTSTART;TZID=America/Los_Angeles:20300116T100000
DTEND;TZID=America/Los_Angeles:20300116T113000
DTSTAMP:20260421T141631
CREATED:20260217T024901Z
LAST-MODIFIED:20260217T024901Z
UID:10074960-1894788000-1894793400@thedirt.online
SUMMARY:UpENDing Parkinson's at Rocknasium
DESCRIPTION:UpENDing Parkinson’s at Rocknasium \nWednesdays\, 10-11:30 AM \nRocknasium is hosting UpENDing Parkinson’s\, a non-profit that provides guided rock climbing to those living with Parkinson’s. Entrance is free\, and rental gear is $10. Those interested may register as a climber here.
URL:https://thedirt.online/event/upending-parkinsons-at-rocknasium/2030-01-16/
LOCATION:Rocknasium the Climbing Gym\, 720 Olive Drive\, Suite S\, Davis\, 95616\, United States
CATEGORIES:Community,Fitness
ATTACH;FMTTYPE=image/jpeg:https://thedirt.online/wp-content/uploads/2026/02/UpEndPark-6-scaled.jpg
END:VEVENT
BEGIN:VEVENT
DTSTART;TZID=America/Los_Angeles:20300123T100000
DTEND;TZID=America/Los_Angeles:20300123T113000
DTSTAMP:20260421T141631
CREATED:20260217T024901Z
LAST-MODIFIED:20260217T024901Z
UID:10074961-1895392800-1895398200@thedirt.online
SUMMARY:UpENDing Parkinson's at Rocknasium
DESCRIPTION:UpENDing Parkinson’s at Rocknasium \nWednesdays\, 10-11:30 AM \nRocknasium is hosting UpENDing Parkinson’s\, a non-profit that provides guided rock climbing to those living with Parkinson’s. Entrance is free\, and rental gear is $10. Those interested may register as a climber here.
URL:https://thedirt.online/event/upending-parkinsons-at-rocknasium/2030-01-23/
LOCATION:Rocknasium the Climbing Gym\, 720 Olive Drive\, Suite S\, Davis\, 95616\, United States
CATEGORIES:Community,Fitness
ATTACH;FMTTYPE=image/jpeg:https://thedirt.online/wp-content/uploads/2026/02/UpEndPark-6-scaled.jpg
END:VEVENT
BEGIN:VEVENT
DTSTART;TZID=America/Los_Angeles:20300130T100000
DTEND;TZID=America/Los_Angeles:20300130T113000
DTSTAMP:20260421T141631
CREATED:20260217T024901Z
LAST-MODIFIED:20260217T024901Z
UID:10074962-1895997600-1896003000@thedirt.online
SUMMARY:UpENDing Parkinson's at Rocknasium
DESCRIPTION:UpENDing Parkinson’s at Rocknasium \nWednesdays\, 10-11:30 AM \nRocknasium is hosting UpENDing Parkinson’s\, a non-profit that provides guided rock climbing to those living with Parkinson’s. Entrance is free\, and rental gear is $10. Those interested may register as a climber here.
URL:https://thedirt.online/event/upending-parkinsons-at-rocknasium/2030-01-30/
LOCATION:Rocknasium the Climbing Gym\, 720 Olive Drive\, Suite S\, Davis\, 95616\, United States
CATEGORIES:Community,Fitness
ATTACH;FMTTYPE=image/jpeg:https://thedirt.online/wp-content/uploads/2026/02/UpEndPark-6-scaled.jpg
END:VEVENT
BEGIN:VEVENT
DTSTART;TZID=America/Los_Angeles:20300206T100000
DTEND;TZID=America/Los_Angeles:20300206T113000
DTSTAMP:20260421T141631
CREATED:20260217T024901Z
LAST-MODIFIED:20260217T024901Z
UID:10074963-1896602400-1896607800@thedirt.online
SUMMARY:UpENDing Parkinson's at Rocknasium
DESCRIPTION:UpENDing Parkinson’s at Rocknasium \nWednesdays\, 10-11:30 AM \nRocknasium is hosting UpENDing Parkinson’s\, a non-profit that provides guided rock climbing to those living with Parkinson’s. Entrance is free\, and rental gear is $10. Those interested may register as a climber here.
URL:https://thedirt.online/event/upending-parkinsons-at-rocknasium/2030-02-06/
LOCATION:Rocknasium the Climbing Gym\, 720 Olive Drive\, Suite S\, Davis\, 95616\, United States
CATEGORIES:Community,Fitness
ATTACH;FMTTYPE=image/jpeg:https://thedirt.online/wp-content/uploads/2026/02/UpEndPark-6-scaled.jpg
END:VEVENT
BEGIN:VEVENT
DTSTART;TZID=America/Los_Angeles:20300213T100000
DTEND;TZID=America/Los_Angeles:20300213T113000
DTSTAMP:20260421T141631
CREATED:20260217T024901Z
LAST-MODIFIED:20260217T024901Z
UID:10074964-1897207200-1897212600@thedirt.online
SUMMARY:UpENDing Parkinson's at Rocknasium
DESCRIPTION:UpENDing Parkinson’s at Rocknasium \nWednesdays\, 10-11:30 AM \nRocknasium is hosting UpENDing Parkinson’s\, a non-profit that provides guided rock climbing to those living with Parkinson’s. Entrance is free\, and rental gear is $10. Those interested may register as a climber here.
URL:https://thedirt.online/event/upending-parkinsons-at-rocknasium/2030-02-13/
LOCATION:Rocknasium the Climbing Gym\, 720 Olive Drive\, Suite S\, Davis\, 95616\, United States
CATEGORIES:Community,Fitness
ATTACH;FMTTYPE=image/jpeg:https://thedirt.online/wp-content/uploads/2026/02/UpEndPark-6-scaled.jpg
END:VEVENT
BEGIN:VEVENT
DTSTART;TZID=America/Los_Angeles:20300220T100000
DTEND;TZID=America/Los_Angeles:20300220T113000
DTSTAMP:20260421T141631
CREATED:20260217T024901Z
LAST-MODIFIED:20260217T024901Z
UID:10074965-1897812000-1897817400@thedirt.online
SUMMARY:UpENDing Parkinson's at Rocknasium
DESCRIPTION:UpENDing Parkinson’s at Rocknasium \nWednesdays\, 10-11:30 AM \nRocknasium is hosting UpENDing Parkinson’s\, a non-profit that provides guided rock climbing to those living with Parkinson’s. Entrance is free\, and rental gear is $10. Those interested may register as a climber here.
URL:https://thedirt.online/event/upending-parkinsons-at-rocknasium/2030-02-20/
LOCATION:Rocknasium the Climbing Gym\, 720 Olive Drive\, Suite S\, Davis\, 95616\, United States
CATEGORIES:Community,Fitness
ATTACH;FMTTYPE=image/jpeg:https://thedirt.online/wp-content/uploads/2026/02/UpEndPark-6-scaled.jpg
END:VEVENT
BEGIN:VEVENT
DTSTART;TZID=America/Los_Angeles:20300227T100000
DTEND;TZID=America/Los_Angeles:20300227T113000
DTSTAMP:20260421T141631
CREATED:20260217T024901Z
LAST-MODIFIED:20260217T024901Z
UID:10074966-1898416800-1898422200@thedirt.online
SUMMARY:UpENDing Parkinson's at Rocknasium
DESCRIPTION:UpENDing Parkinson’s at Rocknasium \nWednesdays\, 10-11:30 AM \nRocknasium is hosting UpENDing Parkinson’s\, a non-profit that provides guided rock climbing to those living with Parkinson’s. Entrance is free\, and rental gear is $10. Those interested may register as a climber here.
URL:https://thedirt.online/event/upending-parkinsons-at-rocknasium/2030-02-27/
LOCATION:Rocknasium the Climbing Gym\, 720 Olive Drive\, Suite S\, Davis\, 95616\, United States
CATEGORIES:Community,Fitness
ATTACH;FMTTYPE=image/jpeg:https://thedirt.online/wp-content/uploads/2026/02/UpEndPark-6-scaled.jpg
END:VEVENT
BEGIN:VEVENT
DTSTART;TZID=America/Los_Angeles:20300306T100000
DTEND;TZID=America/Los_Angeles:20300306T113000
DTSTAMP:20260421T141631
CREATED:20260217T024901Z
LAST-MODIFIED:20260217T024901Z
UID:10074967-1899021600-1899027000@thedirt.online
SUMMARY:UpENDing Parkinson's at Rocknasium
DESCRIPTION:UpENDing Parkinson’s at Rocknasium \nWednesdays\, 10-11:30 AM \nRocknasium is hosting UpENDing Parkinson’s\, a non-profit that provides guided rock climbing to those living with Parkinson’s. Entrance is free\, and rental gear is $10. Those interested may register as a climber here.
URL:https://thedirt.online/event/upending-parkinsons-at-rocknasium/2030-03-06/
LOCATION:Rocknasium the Climbing Gym\, 720 Olive Drive\, Suite S\, Davis\, 95616\, United States
CATEGORIES:Community,Fitness
ATTACH;FMTTYPE=image/jpeg:https://thedirt.online/wp-content/uploads/2026/02/UpEndPark-6-scaled.jpg
END:VEVENT
BEGIN:VEVENT
DTSTART;TZID=America/Los_Angeles:20300313T100000
DTEND;TZID=America/Los_Angeles:20300313T113000
DTSTAMP:20260421T141631
CREATED:20260217T024901Z
LAST-MODIFIED:20260217T024901Z
UID:10074968-1899626400-1899631800@thedirt.online
SUMMARY:UpENDing Parkinson's at Rocknasium
DESCRIPTION:UpENDing Parkinson’s at Rocknasium \nWednesdays\, 10-11:30 AM \nRocknasium is hosting UpENDing Parkinson’s\, a non-profit that provides guided rock climbing to those living with Parkinson’s. Entrance is free\, and rental gear is $10. Those interested may register as a climber here.
URL:https://thedirt.online/event/upending-parkinsons-at-rocknasium/2030-03-13/
LOCATION:Rocknasium the Climbing Gym\, 720 Olive Drive\, Suite S\, Davis\, 95616\, United States
CATEGORIES:Community,Fitness
ATTACH;FMTTYPE=image/jpeg:https://thedirt.online/wp-content/uploads/2026/02/UpEndPark-6-scaled.jpg
END:VEVENT
BEGIN:VEVENT
DTSTART;TZID=America/Los_Angeles:20300320T100000
DTEND;TZID=America/Los_Angeles:20300320T113000
DTSTAMP:20260421T141631
CREATED:20260217T024901Z
LAST-MODIFIED:20260217T024901Z
UID:10074969-1900231200-1900236600@thedirt.online
SUMMARY:UpENDing Parkinson's at Rocknasium
DESCRIPTION:UpENDing Parkinson’s at Rocknasium \nWednesdays\, 10-11:30 AM \nRocknasium is hosting UpENDing Parkinson’s\, a non-profit that provides guided rock climbing to those living with Parkinson’s. Entrance is free\, and rental gear is $10. Those interested may register as a climber here.
URL:https://thedirt.online/event/upending-parkinsons-at-rocknasium/2030-03-20/
LOCATION:Rocknasium the Climbing Gym\, 720 Olive Drive\, Suite S\, Davis\, 95616\, United States
CATEGORIES:Community,Fitness
ATTACH;FMTTYPE=image/jpeg:https://thedirt.online/wp-content/uploads/2026/02/UpEndPark-6-scaled.jpg
END:VEVENT
BEGIN:VEVENT
DTSTART;TZID=America/Los_Angeles:20300327T100000
DTEND;TZID=America/Los_Angeles:20300327T113000
DTSTAMP:20260421T141631
CREATED:20260217T024901Z
LAST-MODIFIED:20260217T024901Z
UID:10074970-1900836000-1900841400@thedirt.online
SUMMARY:UpENDing Parkinson's at Rocknasium
DESCRIPTION:UpENDing Parkinson’s at Rocknasium \nWednesdays\, 10-11:30 AM \nRocknasium is hosting UpENDing Parkinson’s\, a non-profit that provides guided rock climbing to those living with Parkinson’s. Entrance is free\, and rental gear is $10. Those interested may register as a climber here.
URL:https://thedirt.online/event/upending-parkinsons-at-rocknasium/2030-03-27/
LOCATION:Rocknasium the Climbing Gym\, 720 Olive Drive\, Suite S\, Davis\, 95616\, United States
CATEGORIES:Community,Fitness
ATTACH;FMTTYPE=image/jpeg:https://thedirt.online/wp-content/uploads/2026/02/UpEndPark-6-scaled.jpg
END:VEVENT
BEGIN:VEVENT
DTSTART;TZID=America/Los_Angeles:20300403T100000
DTEND;TZID=America/Los_Angeles:20300403T113000
DTSTAMP:20260421T141631
CREATED:20260217T024901Z
LAST-MODIFIED:20260217T024901Z
UID:10074971-1901440800-1901446200@thedirt.online
SUMMARY:UpENDing Parkinson's at Rocknasium
DESCRIPTION:UpENDing Parkinson’s at Rocknasium \nWednesdays\, 10-11:30 AM \nRocknasium is hosting UpENDing Parkinson’s\, a non-profit that provides guided rock climbing to those living with Parkinson’s. Entrance is free\, and rental gear is $10. Those interested may register as a climber here.
URL:https://thedirt.online/event/upending-parkinsons-at-rocknasium/2030-04-03/
LOCATION:Rocknasium the Climbing Gym\, 720 Olive Drive\, Suite S\, Davis\, 95616\, United States
CATEGORIES:Community,Fitness
ATTACH;FMTTYPE=image/jpeg:https://thedirt.online/wp-content/uploads/2026/02/UpEndPark-6-scaled.jpg
END:VEVENT
BEGIN:VEVENT
DTSTART;TZID=America/Los_Angeles:20300410T100000
DTEND;TZID=America/Los_Angeles:20300410T113000
DTSTAMP:20260421T141631
CREATED:20260217T024901Z
LAST-MODIFIED:20260217T024901Z
UID:10074972-1902045600-1902051000@thedirt.online
SUMMARY:UpENDing Parkinson's at Rocknasium
DESCRIPTION:UpENDing Parkinson’s at Rocknasium \nWednesdays\, 10-11:30 AM \nRocknasium is hosting UpENDing Parkinson’s\, a non-profit that provides guided rock climbing to those living with Parkinson’s. Entrance is free\, and rental gear is $10. Those interested may register as a climber here.
URL:https://thedirt.online/event/upending-parkinsons-at-rocknasium/2030-04-10/
LOCATION:Rocknasium the Climbing Gym\, 720 Olive Drive\, Suite S\, Davis\, 95616\, United States
CATEGORIES:Community,Fitness
ATTACH;FMTTYPE=image/jpeg:https://thedirt.online/wp-content/uploads/2026/02/UpEndPark-6-scaled.jpg
END:VEVENT
BEGIN:VEVENT
DTSTART;TZID=America/Los_Angeles:20300417T100000
DTEND;TZID=America/Los_Angeles:20300417T113000
DTSTAMP:20260421T141631
CREATED:20260217T024901Z
LAST-MODIFIED:20260217T024901Z
UID:10074973-1902650400-1902655800@thedirt.online
SUMMARY:UpENDing Parkinson's at Rocknasium
DESCRIPTION:UpENDing Parkinson’s at Rocknasium \nWednesdays\, 10-11:30 AM \nRocknasium is hosting UpENDing Parkinson’s\, a non-profit that provides guided rock climbing to those living with Parkinson’s. Entrance is free\, and rental gear is $10. Those interested may register as a climber here.
URL:https://thedirt.online/event/upending-parkinsons-at-rocknasium/2030-04-17/
LOCATION:Rocknasium the Climbing Gym\, 720 Olive Drive\, Suite S\, Davis\, 95616\, United States
CATEGORIES:Community,Fitness
ATTACH;FMTTYPE=image/jpeg:https://thedirt.online/wp-content/uploads/2026/02/UpEndPark-6-scaled.jpg
END:VEVENT
BEGIN:VEVENT
DTSTART;TZID=America/Los_Angeles:20300424T100000
DTEND;TZID=America/Los_Angeles:20300424T113000
DTSTAMP:20260421T141631
CREATED:20260217T024901Z
LAST-MODIFIED:20260217T024901Z
UID:10074974-1903255200-1903260600@thedirt.online
SUMMARY:UpENDing Parkinson's at Rocknasium
DESCRIPTION:UpENDing Parkinson’s at Rocknasium \nWednesdays\, 10-11:30 AM \nRocknasium is hosting UpENDing Parkinson’s\, a non-profit that provides guided rock climbing to those living with Parkinson’s. Entrance is free\, and rental gear is $10. Those interested may register as a climber here.
URL:https://thedirt.online/event/upending-parkinsons-at-rocknasium/2030-04-24/
LOCATION:Rocknasium the Climbing Gym\, 720 Olive Drive\, Suite S\, Davis\, 95616\, United States
CATEGORIES:Community,Fitness
ATTACH;FMTTYPE=image/jpeg:https://thedirt.online/wp-content/uploads/2026/02/UpEndPark-6-scaled.jpg
END:VEVENT
BEGIN:VEVENT
DTSTART;TZID=America/Los_Angeles:20300501T100000
DTEND;TZID=America/Los_Angeles:20300501T113000
DTSTAMP:20260421T141631
CREATED:20260217T024901Z
LAST-MODIFIED:20260217T024901Z
UID:10074975-1903860000-1903865400@thedirt.online
SUMMARY:UpENDing Parkinson's at Rocknasium
DESCRIPTION:UpENDing Parkinson’s at Rocknasium \nWednesdays\, 10-11:30 AM \nRocknasium is hosting UpENDing Parkinson’s\, a non-profit that provides guided rock climbing to those living with Parkinson’s. Entrance is free\, and rental gear is $10. Those interested may register as a climber here.
URL:https://thedirt.online/event/upending-parkinsons-at-rocknasium/2030-05-01/
LOCATION:Rocknasium the Climbing Gym\, 720 Olive Drive\, Suite S\, Davis\, 95616\, United States
CATEGORIES:Community,Fitness
ATTACH;FMTTYPE=image/jpeg:https://thedirt.online/wp-content/uploads/2026/02/UpEndPark-6-scaled.jpg
END:VEVENT
BEGIN:VEVENT
DTSTART;TZID=America/Los_Angeles:20300508T100000
DTEND;TZID=America/Los_Angeles:20300508T113000
DTSTAMP:20260421T141631
CREATED:20260217T024901Z
LAST-MODIFIED:20260217T024901Z
UID:10074976-1904464800-1904470200@thedirt.online
SUMMARY:UpENDing Parkinson's at Rocknasium
DESCRIPTION:UpENDing Parkinson’s at Rocknasium \nWednesdays\, 10-11:30 AM \nRocknasium is hosting UpENDing Parkinson’s\, a non-profit that provides guided rock climbing to those living with Parkinson’s. Entrance is free\, and rental gear is $10. Those interested may register as a climber here.
URL:https://thedirt.online/event/upending-parkinsons-at-rocknasium/2030-05-08/
LOCATION:Rocknasium the Climbing Gym\, 720 Olive Drive\, Suite S\, Davis\, 95616\, United States
CATEGORIES:Community,Fitness
ATTACH;FMTTYPE=image/jpeg:https://thedirt.online/wp-content/uploads/2026/02/UpEndPark-6-scaled.jpg
END:VEVENT
BEGIN:VEVENT
DTSTART;TZID=America/Los_Angeles:20300515T100000
DTEND;TZID=America/Los_Angeles:20300515T113000
DTSTAMP:20260421T141631
CREATED:20260217T024901Z
LAST-MODIFIED:20260217T024901Z
UID:10074977-1905069600-1905075000@thedirt.online
SUMMARY:UpENDing Parkinson's at Rocknasium
DESCRIPTION:UpENDing Parkinson’s at Rocknasium \nWednesdays\, 10-11:30 AM \nRocknasium is hosting UpENDing Parkinson’s\, a non-profit that provides guided rock climbing to those living with Parkinson’s. Entrance is free\, and rental gear is $10. Those interested may register as a climber here.
URL:https://thedirt.online/event/upending-parkinsons-at-rocknasium/2030-05-15/
LOCATION:Rocknasium the Climbing Gym\, 720 Olive Drive\, Suite S\, Davis\, 95616\, United States
CATEGORIES:Community,Fitness
ATTACH;FMTTYPE=image/jpeg:https://thedirt.online/wp-content/uploads/2026/02/UpEndPark-6-scaled.jpg
END:VEVENT
BEGIN:VEVENT
DTSTART;TZID=America/Los_Angeles:20300522T100000
DTEND;TZID=America/Los_Angeles:20300522T113000
DTSTAMP:20260421T141631
CREATED:20260217T024901Z
LAST-MODIFIED:20260217T024901Z
UID:10074978-1905674400-1905679800@thedirt.online
SUMMARY:UpENDing Parkinson's at Rocknasium
DESCRIPTION:UpENDing Parkinson’s at Rocknasium \nWednesdays\, 10-11:30 AM \nRocknasium is hosting UpENDing Parkinson’s\, a non-profit that provides guided rock climbing to those living with Parkinson’s. Entrance is free\, and rental gear is $10. Those interested may register as a climber here.
URL:https://thedirt.online/event/upending-parkinsons-at-rocknasium/2030-05-22/
LOCATION:Rocknasium the Climbing Gym\, 720 Olive Drive\, Suite S\, Davis\, 95616\, United States
CATEGORIES:Community,Fitness
ATTACH;FMTTYPE=image/jpeg:https://thedirt.online/wp-content/uploads/2026/02/UpEndPark-6-scaled.jpg
END:VEVENT
BEGIN:VEVENT
DTSTART;TZID=America/Los_Angeles:20300529T100000
DTEND;TZID=America/Los_Angeles:20300529T113000
DTSTAMP:20260421T141631
CREATED:20260217T024901Z
LAST-MODIFIED:20260217T024901Z
UID:10074979-1906279200-1906284600@thedirt.online
SUMMARY:UpENDing Parkinson's at Rocknasium
DESCRIPTION:UpENDing Parkinson’s at Rocknasium \nWednesdays\, 10-11:30 AM \nRocknasium is hosting UpENDing Parkinson’s\, a non-profit that provides guided rock climbing to those living with Parkinson’s. Entrance is free\, and rental gear is $10. Those interested may register as a climber here.
URL:https://thedirt.online/event/upending-parkinsons-at-rocknasium/2030-05-29/
LOCATION:Rocknasium the Climbing Gym\, 720 Olive Drive\, Suite S\, Davis\, 95616\, United States
CATEGORIES:Community,Fitness
ATTACH;FMTTYPE=image/jpeg:https://thedirt.online/wp-content/uploads/2026/02/UpEndPark-6-scaled.jpg
END:VEVENT
BEGIN:VEVENT
DTSTART;TZID=America/Los_Angeles:20300605T100000
DTEND;TZID=America/Los_Angeles:20300605T113000
DTSTAMP:20260421T141631
CREATED:20260217T024901Z
LAST-MODIFIED:20260217T024901Z
UID:10074980-1906884000-1906889400@thedirt.online
SUMMARY:UpENDing Parkinson's at Rocknasium
DESCRIPTION:UpENDing Parkinson’s at Rocknasium \nWednesdays\, 10-11:30 AM \nRocknasium is hosting UpENDing Parkinson’s\, a non-profit that provides guided rock climbing to those living with Parkinson’s. Entrance is free\, and rental gear is $10. Those interested may register as a climber here.
URL:https://thedirt.online/event/upending-parkinsons-at-rocknasium/2030-06-05/
LOCATION:Rocknasium the Climbing Gym\, 720 Olive Drive\, Suite S\, Davis\, 95616\, United States
CATEGORIES:Community,Fitness
ATTACH;FMTTYPE=image/jpeg:https://thedirt.online/wp-content/uploads/2026/02/UpEndPark-6-scaled.jpg
END:VEVENT
BEGIN:VEVENT
DTSTART;TZID=America/Los_Angeles:20300612T100000
DTEND;TZID=America/Los_Angeles:20300612T113000
DTSTAMP:20260421T141631
CREATED:20260217T024901Z
LAST-MODIFIED:20260217T024901Z
UID:10074981-1907488800-1907494200@thedirt.online
SUMMARY:UpENDing Parkinson's at Rocknasium
DESCRIPTION:UpENDing Parkinson’s at Rocknasium \nWednesdays\, 10-11:30 AM \nRocknasium is hosting UpENDing Parkinson’s\, a non-profit that provides guided rock climbing to those living with Parkinson’s. Entrance is free\, and rental gear is $10. Those interested may register as a climber here.
URL:https://thedirt.online/event/upending-parkinsons-at-rocknasium/2030-06-12/
LOCATION:Rocknasium the Climbing Gym\, 720 Olive Drive\, Suite S\, Davis\, 95616\, United States
CATEGORIES:Community,Fitness
ATTACH;FMTTYPE=image/jpeg:https://thedirt.online/wp-content/uploads/2026/02/UpEndPark-6-scaled.jpg
END:VEVENT
BEGIN:VEVENT
DTSTART;TZID=America/Los_Angeles:20300619T100000
DTEND;TZID=America/Los_Angeles:20300619T113000
DTSTAMP:20260421T141631
CREATED:20260217T024901Z
LAST-MODIFIED:20260217T024901Z
UID:10074982-1908093600-1908099000@thedirt.online
SUMMARY:UpENDing Parkinson's at Rocknasium
DESCRIPTION:UpENDing Parkinson’s at Rocknasium \nWednesdays\, 10-11:30 AM \nRocknasium is hosting UpENDing Parkinson’s\, a non-profit that provides guided rock climbing to those living with Parkinson’s. Entrance is free\, and rental gear is $10. Those interested may register as a climber here.
URL:https://thedirt.online/event/upending-parkinsons-at-rocknasium/2030-06-19/
LOCATION:Rocknasium the Climbing Gym\, 720 Olive Drive\, Suite S\, Davis\, 95616\, United States
CATEGORIES:Community,Fitness
ATTACH;FMTTYPE=image/jpeg:https://thedirt.online/wp-content/uploads/2026/02/UpEndPark-6-scaled.jpg
END:VEVENT
BEGIN:VEVENT
DTSTART;TZID=America/Los_Angeles:20300626T100000
DTEND;TZID=America/Los_Angeles:20300626T113000
DTSTAMP:20260421T141631
CREATED:20260217T024901Z
LAST-MODIFIED:20260217T024901Z
UID:10074983-1908698400-1908703800@thedirt.online
SUMMARY:UpENDing Parkinson's at Rocknasium
DESCRIPTION:UpENDing Parkinson’s at Rocknasium \nWednesdays\, 10-11:30 AM \nRocknasium is hosting UpENDing Parkinson’s\, a non-profit that provides guided rock climbing to those living with Parkinson’s. Entrance is free\, and rental gear is $10. Those interested may register as a climber here.
URL:https://thedirt.online/event/upending-parkinsons-at-rocknasium/2030-06-26/
LOCATION:Rocknasium the Climbing Gym\, 720 Olive Drive\, Suite S\, Davis\, 95616\, United States
CATEGORIES:Community,Fitness
ATTACH;FMTTYPE=image/jpeg:https://thedirt.online/wp-content/uploads/2026/02/UpEndPark-6-scaled.jpg
END:VEVENT
BEGIN:VEVENT
DTSTART;TZID=America/Los_Angeles:20300703T100000
DTEND;TZID=America/Los_Angeles:20300703T113000
DTSTAMP:20260421T141631
CREATED:20260217T024901Z
LAST-MODIFIED:20260217T024901Z
UID:10074984-1909303200-1909308600@thedirt.online
SUMMARY:UpENDing Parkinson's at Rocknasium
DESCRIPTION:UpENDing Parkinson’s at Rocknasium \nWednesdays\, 10-11:30 AM \nRocknasium is hosting UpENDing Parkinson’s\, a non-profit that provides guided rock climbing to those living with Parkinson’s. Entrance is free\, and rental gear is $10. Those interested may register as a climber here.
URL:https://thedirt.online/event/upending-parkinsons-at-rocknasium/2030-07-03/
LOCATION:Rocknasium the Climbing Gym\, 720 Olive Drive\, Suite S\, Davis\, 95616\, United States
CATEGORIES:Community,Fitness
ATTACH;FMTTYPE=image/jpeg:https://thedirt.online/wp-content/uploads/2026/02/UpEndPark-6-scaled.jpg
END:VEVENT
BEGIN:VEVENT
DTSTART;TZID=America/Los_Angeles:20300710T100000
DTEND;TZID=America/Los_Angeles:20300710T113000
DTSTAMP:20260421T141631
CREATED:20260217T024901Z
LAST-MODIFIED:20260217T024901Z
UID:10074985-1909908000-1909913400@thedirt.online
SUMMARY:UpENDing Parkinson's at Rocknasium
DESCRIPTION:UpENDing Parkinson’s at Rocknasium \nWednesdays\, 10-11:30 AM \nRocknasium is hosting UpENDing Parkinson’s\, a non-profit that provides guided rock climbing to those living with Parkinson’s. Entrance is free\, and rental gear is $10. Those interested may register as a climber here.
URL:https://thedirt.online/event/upending-parkinsons-at-rocknasium/2030-07-10/
LOCATION:Rocknasium the Climbing Gym\, 720 Olive Drive\, Suite S\, Davis\, 95616\, United States
CATEGORIES:Community,Fitness
ATTACH;FMTTYPE=image/jpeg:https://thedirt.online/wp-content/uploads/2026/02/UpEndPark-6-scaled.jpg
END:VEVENT
BEGIN:VEVENT
DTSTART;TZID=America/Los_Angeles:20300717T100000
DTEND;TZID=America/Los_Angeles:20300717T113000
DTSTAMP:20260421T141631
CREATED:20260217T024901Z
LAST-MODIFIED:20260217T024901Z
UID:10074986-1910512800-1910518200@thedirt.online
SUMMARY:UpENDing Parkinson's at Rocknasium
DESCRIPTION:UpENDing Parkinson’s at Rocknasium \nWednesdays\, 10-11:30 AM \nRocknasium is hosting UpENDing Parkinson’s\, a non-profit that provides guided rock climbing to those living with Parkinson’s. Entrance is free\, and rental gear is $10. Those interested may register as a climber here.
URL:https://thedirt.online/event/upending-parkinsons-at-rocknasium/2030-07-17/
LOCATION:Rocknasium the Climbing Gym\, 720 Olive Drive\, Suite S\, Davis\, 95616\, United States
CATEGORIES:Community,Fitness
ATTACH;FMTTYPE=image/jpeg:https://thedirt.online/wp-content/uploads/2026/02/UpEndPark-6-scaled.jpg
END:VEVENT
END:VCALENDAR