BEGIN:VCALENDAR
VERSION:2.0
PRODID:-//The Dirt - ECPv6.15.20//NONSGML v1.0//EN
CALSCALE:GREGORIAN
METHOD:PUBLISH
X-ORIGINAL-URL:https://thedirt.online
X-WR-CALDESC:Events for The Dirt
REFRESH-INTERVAL;VALUE=DURATION:PT1H
X-Robots-Tag:noindex
X-PUBLISHED-TTL:PT1H
BEGIN:VTIMEZONE
TZID:America/Los_Angeles
BEGIN:DAYLIGHT
TZOFFSETFROM:-0800
TZOFFSETTO:-0700
TZNAME:PDT
DTSTART:20250309T100000
END:DAYLIGHT
BEGIN:STANDARD
TZOFFSETFROM:-0700
TZOFFSETTO:-0800
TZNAME:PST
DTSTART:20251102T090000
END:STANDARD
BEGIN:DAYLIGHT
TZOFFSETFROM:-0800
TZOFFSETTO:-0700
TZNAME:PDT
DTSTART:20260308T100000
END:DAYLIGHT
BEGIN:STANDARD
TZOFFSETFROM:-0700
TZOFFSETTO:-0800
TZNAME:PST
DTSTART:20261101T090000
END:STANDARD
BEGIN:DAYLIGHT
TZOFFSETFROM:-0800
TZOFFSETTO:-0700
TZNAME:PDT
DTSTART:20270314T100000
END:DAYLIGHT
BEGIN:STANDARD
TZOFFSETFROM:-0700
TZOFFSETTO:-0800
TZNAME:PST
DTSTART:20271107T090000
END:STANDARD
END:VTIMEZONE
BEGIN:VEVENT
DTSTART;TZID=America/Los_Angeles:20260528T120000
DTEND;TZID=America/Los_Angeles:20260528T200000
DTSTAMP:20260425T061510
CREATED:20260410T171000Z
LAST-MODIFIED:20260425T064103Z
UID:10077594-1779969600-1779998400@thedirt.online
SUMMARY:Kids\, Teen\, + Maternity Consignment Pop-Up
DESCRIPTION:Parents save 50-90% on quality kids\, teen\, & maternity at JBF Vacaville Fairfield’s huge consignment pop-up! Never overpay for something your kids will outgrow again. Shop\, sell\, and save smart May 28-31 only! \nParents\, here’s what you can expect to find at our Spring into Summer event:\nClothes for babies\, kids + teens\nMaternity items\nShoes\nToys\, books + games\nStrollers and car seats\nBaby gear\nCamping + outdoor\nSwimwear + swim toys\nTravel gear\n& more! \nHow to shop:\nJoin us on Presale Day (5/28) for first access to the biggest selection we have to offer! Presale shopping is limited—get tickets & reserve your spot to shop. You can also choose to shop for free during public hours\, but you still need to get a ticket on our website ($3 at the door without a ticket). Children are always free to join you! Get tickets on our website\, vacaville.jbfsale.com. \nGot your ticket? Get ready to shop! We pop-up twice a year so you can get everything for the season ahead. \nReady to sell items you no longer need? Join more than 100 local families making money and clearing clutter—plus you get FIRST access to the merchandise & the BEST deals as a perk! Get more info at vacaville.jbfsale.com \n  \n 
URL:https://thedirt.online/event/kids-teen-maternity-consignment-pop-up/2026-05-28/
LOCATION:JBF Vacaville Fairfield\, 6391 Leisure Town Rd.\, Vacaville\, CA\, 95687\, United States
CATEGORIES:Bring the Kids,Community,Shopping
ORGANIZER;CN="Just Between Friends Vacaville":MAILTO:elenahickey@jbfsale.com
END:VEVENT
BEGIN:VEVENT
DTSTART;TZID=America/Los_Angeles:20260529T100000
DTEND;TZID=America/Los_Angeles:20260529T200000
DTSTAMP:20260425T061511
CREATED:20260410T171000Z
LAST-MODIFIED:20260425T064103Z
UID:10078364-1780048800-1780084800@thedirt.online
SUMMARY:Kids\, Teen\, + Maternity Consignment Pop-Up
DESCRIPTION:Parents save 50-90% on quality kids\, teen\, & maternity at JBF Vacaville Fairfield’s huge consignment pop-up! Never overpay for something your kids will outgrow again. Shop\, sell\, and save smart May 28-31 only! \nParents\, here’s what you can expect to find at our Spring into Summer event:\nClothes for babies\, kids + teens\nMaternity items\nShoes\nToys\, books + games\nStrollers and car seats\nBaby gear\nCamping + outdoor\nSwimwear + swim toys\nTravel gear\n& more! \nHow to shop:\nJoin us on Presale Day (5/28) for first access to the biggest selection we have to offer! Presale shopping is limited—get tickets & reserve your spot to shop. You can also choose to shop for free during public hours\, but you still need to get a ticket on our website ($3 at the door without a ticket). Children are always free to join you! Get tickets on our website\, vacaville.jbfsale.com. \nGot your ticket? Get ready to shop! We pop-up twice a year so you can get everything for the season ahead. \nReady to sell items you no longer need? Join more than 100 local families making money and clearing clutter—plus you get FIRST access to the merchandise & the BEST deals as a perk! Get more info at vacaville.jbfsale.com \n  \n 
URL:https://thedirt.online/event/kids-teen-maternity-consignment-pop-up/2026-05-29/
LOCATION:JBF Vacaville Fairfield\, 6391 Leisure Town Rd.\, Vacaville\, CA\, 95687\, United States
CATEGORIES:Bring the Kids,Community,Shopping
ORGANIZER;CN="Just Between Friends Vacaville":MAILTO:elenahickey@jbfsale.com
END:VEVENT
BEGIN:VEVENT
DTSTART;TZID=America/Los_Angeles:20260530T080000
DTEND;TZID=America/Los_Angeles:20260530T200000
DTSTAMP:20260425T061511
CREATED:20260410T171000Z
LAST-MODIFIED:20260425T064103Z
UID:10078365-1780128000-1780171200@thedirt.online
SUMMARY:Kids\, Teen\, + Maternity Consignment Pop-Up
DESCRIPTION:Parents save 50-90% on quality kids\, teen\, & maternity at JBF Vacaville Fairfield’s huge consignment pop-up! Never overpay for something your kids will outgrow again. Shop\, sell\, and save smart May 28-31 only! \nParents\, here’s what you can expect to find at our Spring into Summer event:\nClothes for babies\, kids + teens\nMaternity items\nShoes\nToys\, books + games\nStrollers and car seats\nBaby gear\nCamping + outdoor\nSwimwear + swim toys\nTravel gear\n& more! \nHow to shop:\nJoin us on Presale Day (5/28) for first access to the biggest selection we have to offer! Presale shopping is limited—get tickets & reserve your spot to shop. You can also choose to shop for free during public hours\, but you still need to get a ticket on our website ($3 at the door without a ticket). Children are always free to join you! Get tickets on our website\, vacaville.jbfsale.com. \nGot your ticket? Get ready to shop! We pop-up twice a year so you can get everything for the season ahead. \nReady to sell items you no longer need? Join more than 100 local families making money and clearing clutter—plus you get FIRST access to the merchandise & the BEST deals as a perk! Get more info at vacaville.jbfsale.com \n  \n 
URL:https://thedirt.online/event/kids-teen-maternity-consignment-pop-up/2026-05-30/
LOCATION:JBF Vacaville Fairfield\, 6391 Leisure Town Rd.\, Vacaville\, CA\, 95687\, United States
CATEGORIES:Bring the Kids,Community,Shopping
ORGANIZER;CN="Just Between Friends Vacaville":MAILTO:elenahickey@jbfsale.com
END:VEVENT
BEGIN:VEVENT
DTSTART;TZID=America/Los_Angeles:20260531T080000
DTEND;TZID=America/Los_Angeles:20260531T130000
DTSTAMP:20260425T061511
CREATED:20260410T171000Z
LAST-MODIFIED:20260425T064103Z
UID:10078366-1780214400-1780232400@thedirt.online
SUMMARY:Kids\, Teen\, + Maternity Consignment Pop-Up
DESCRIPTION:Parents save 50-90% on quality kids\, teen\, & maternity at JBF Vacaville Fairfield’s huge consignment pop-up! Never overpay for something your kids will outgrow again. Shop\, sell\, and save smart May 28-31 only! \nParents\, here’s what you can expect to find at our Spring into Summer event:\nClothes for babies\, kids + teens\nMaternity items\nShoes\nToys\, books + games\nStrollers and car seats\nBaby gear\nCamping + outdoor\nSwimwear + swim toys\nTravel gear\n& more! \nHow to shop:\nJoin us on Presale Day (5/28) for first access to the biggest selection we have to offer! Presale shopping is limited—get tickets & reserve your spot to shop. You can also choose to shop for free during public hours\, but you still need to get a ticket on our website ($3 at the door without a ticket). Children are always free to join you! Get tickets on our website\, vacaville.jbfsale.com. \nGot your ticket? Get ready to shop! We pop-up twice a year so you can get everything for the season ahead. \nReady to sell items you no longer need? Join more than 100 local families making money and clearing clutter—plus you get FIRST access to the merchandise & the BEST deals as a perk! Get more info at vacaville.jbfsale.com \n  \n 
URL:https://thedirt.online/event/kids-teen-maternity-consignment-pop-up/2026-05-31/
LOCATION:JBF Vacaville Fairfield\, 6391 Leisure Town Rd.\, Vacaville\, CA\, 95687\, United States
CATEGORIES:Bring the Kids,Community,Shopping
ORGANIZER;CN="Just Between Friends Vacaville":MAILTO:elenahickey@jbfsale.com
END:VEVENT
END:VCALENDAR