BEGIN:VCALENDAR
VERSION:2.0
PRODID:-//The Dirt - ECPv6.15.20//NONSGML v1.0//EN
CALSCALE:GREGORIAN
METHOD:PUBLISH
X-ORIGINAL-URL:https://thedirt.online
X-WR-CALDESC:Events for The Dirt
REFRESH-INTERVAL;VALUE=DURATION:PT1H
X-Robots-Tag:noindex
X-PUBLISHED-TTL:PT1H
BEGIN:VTIMEZONE
TZID:America/Los_Angeles
BEGIN:DAYLIGHT
TZOFFSETFROM:-0800
TZOFFSETTO:-0700
TZNAME:PDT
DTSTART:20250309T100000
END:DAYLIGHT
BEGIN:STANDARD
TZOFFSETFROM:-0700
TZOFFSETTO:-0800
TZNAME:PST
DTSTART:20251102T090000
END:STANDARD
BEGIN:DAYLIGHT
TZOFFSETFROM:-0800
TZOFFSETTO:-0700
TZNAME:PDT
DTSTART:20260308T100000
END:DAYLIGHT
BEGIN:STANDARD
TZOFFSETFROM:-0700
TZOFFSETTO:-0800
TZNAME:PST
DTSTART:20261101T090000
END:STANDARD
BEGIN:DAYLIGHT
TZOFFSETFROM:-0800
TZOFFSETTO:-0700
TZNAME:PDT
DTSTART:20270314T100000
END:DAYLIGHT
BEGIN:STANDARD
TZOFFSETFROM:-0700
TZOFFSETTO:-0800
TZNAME:PST
DTSTART:20271107T090000
END:STANDARD
END:VTIMEZONE
BEGIN:VEVENT
DTSTART;TZID=America/Los_Angeles:20260405T090000
DTEND;TZID=America/Los_Angeles:20260405T123000
DTSTAMP:20260423T065509
CREATED:20260311T044606Z
LAST-MODIFIED:20260311T044606Z
UID:10075938-1775379600-1775392200@thedirt.online
SUMMARY:Easter Sunday 2026
DESCRIPTION:Join us at First Baptist Church in Davis as we celebrate the hope\, joy\, and new life of the Resurrection on Easter Sunday 2026. Whether you are a long-time member of our community or visiting for the first time\, we invite you to experience a morning of powerful worship\, biblical teaching\, and warm fellowship. \nEaster Morning Schedule\nWe are offering two identical worship services to accommodate our community: \n9:00 AM – Early Worship Service (Worship Center) \n10:00 AM – Community Easter Brunch (Fellowship Hall/Courtyard) \n11:00 AM – Second Worship Service (Worship Center) \nNote: Our Kids Sunday school classes will only be held during the 11:00 AM service. We encourage families attending at 9:00 AM to worship together in the main service. \nhttps://www.fbcdavis.org/event-details/easter-sunday-2
URL:https://thedirt.online/event/easter-sunday-2026/
LOCATION:FBC Davis\, 38141 Russell Blvd\, Davis\, CA\, 95616\, United States
ATTACH;FMTTYPE=image/jpeg:https://thedirt.online/wp-content/uploads/2026/03/P18628652-scaled.jpeg
ORGANIZER;CN="FBC Davis":MAILTO:info@fbcdavis.org
END:VEVENT
END:VCALENDAR