BEGIN:VCALENDAR
VERSION:2.0
PRODID:-//The Dirt - ECPv6.15.20//NONSGML v1.0//EN
CALSCALE:GREGORIAN
METHOD:PUBLISH
X-WR-CALNAME:The Dirt
X-ORIGINAL-URL:https://thedirt.online
X-WR-CALDESC:Events for The Dirt
REFRESH-INTERVAL;VALUE=DURATION:PT1H
X-Robots-Tag:noindex
X-PUBLISHED-TTL:PT1H
BEGIN:VTIMEZONE
TZID:America/Los_Angeles
BEGIN:DAYLIGHT
TZOFFSETFROM:-0800
TZOFFSETTO:-0700
TZNAME:PDT
DTSTART:20250309T100000
END:DAYLIGHT
BEGIN:STANDARD
TZOFFSETFROM:-0700
TZOFFSETTO:-0800
TZNAME:PST
DTSTART:20251102T090000
END:STANDARD
BEGIN:DAYLIGHT
TZOFFSETFROM:-0800
TZOFFSETTO:-0700
TZNAME:PDT
DTSTART:20260308T100000
END:DAYLIGHT
BEGIN:STANDARD
TZOFFSETFROM:-0700
TZOFFSETTO:-0800
TZNAME:PST
DTSTART:20261101T090000
END:STANDARD
BEGIN:DAYLIGHT
TZOFFSETFROM:-0800
TZOFFSETTO:-0700
TZNAME:PDT
DTSTART:20270314T100000
END:DAYLIGHT
BEGIN:STANDARD
TZOFFSETFROM:-0700
TZOFFSETTO:-0800
TZNAME:PST
DTSTART:20271107T090000
END:STANDARD
END:VTIMEZONE
BEGIN:VEVENT
DTSTART;TZID=America/Los_Angeles:20260411T173000
DTEND;TZID=America/Los_Angeles:20260411T190000
DTSTAMP:20260424T001713
CREATED:20260311T185951Z
LAST-MODIFIED:20260325T011617Z
UID:10075975-1775928600-1775934000@thedirt.online
SUMMARY:Brewing stories: fundraiser for our immigrant neighbors
DESCRIPTION:A fundraising evening of beer tasting and banter with the ‘Pope of Foam’\, UCD Emeritus Professor of Malting and Brewing Sciences\, Charlie Bamforth. \nTicket includes tasting a range of beers and a talk. \n100% of proceeds go to the Yolo Interfaith Immigration Network.
URL:https://thedirt.online/event/brewing-stories-fundraiser-for-our-immigrant-neighbors/
LOCATION:Sudwerk Brewing Co  2001 2nd Street  Davis\, CA 95618\, 2001 2nd Street\, Davis\, CA\, 95618\, United States
ATTACH;FMTTYPE=image/png:https://thedirt.online/wp-content/uploads/2026/03/BrewingStories-Banner2-scaled.png
ORGANIZER;CN="The Episcopal Church of St. Martin":MAILTO:jan@churchofstmartin.org
GEO:38.5470763;-121.7253793
X-APPLE-STRUCTURED-LOCATION;VALUE=URI;X-ADDRESS=Sudwerk Brewing Co  2001 2nd Street  Davis CA 95618 2001 2nd Street Davis CA 95618 United States;X-APPLE-RADIUS=500;X-TITLE=2001 2nd Street:geo:-121.7253793,38.5470763
END:VEVENT
END:VCALENDAR