BEGIN:VCALENDAR
VERSION:2.0
PRODID:-//The Dirt - ECPv6.15.20//NONSGML v1.0//EN
CALSCALE:GREGORIAN
METHOD:PUBLISH
X-ORIGINAL-URL:https://thedirt.online
X-WR-CALDESC:Events for The Dirt
REFRESH-INTERVAL;VALUE=DURATION:PT1H
X-Robots-Tag:noindex
X-PUBLISHED-TTL:PT1H
BEGIN:VTIMEZONE
TZID:America/Los_Angeles
BEGIN:DAYLIGHT
TZOFFSETFROM:-0800
TZOFFSETTO:-0700
TZNAME:PDT
DTSTART:20250309T100000
END:DAYLIGHT
BEGIN:STANDARD
TZOFFSETFROM:-0700
TZOFFSETTO:-0800
TZNAME:PST
DTSTART:20251102T090000
END:STANDARD
BEGIN:DAYLIGHT
TZOFFSETFROM:-0800
TZOFFSETTO:-0700
TZNAME:PDT
DTSTART:20260308T100000
END:DAYLIGHT
BEGIN:STANDARD
TZOFFSETFROM:-0700
TZOFFSETTO:-0800
TZNAME:PST
DTSTART:20261101T090000
END:STANDARD
BEGIN:DAYLIGHT
TZOFFSETFROM:-0800
TZOFFSETTO:-0700
TZNAME:PDT
DTSTART:20270314T100000
END:DAYLIGHT
BEGIN:STANDARD
TZOFFSETFROM:-0700
TZOFFSETTO:-0800
TZNAME:PST
DTSTART:20271107T090000
END:STANDARD
END:VTIMEZONE
BEGIN:VEVENT
DTSTART;TZID=America/Los_Angeles:20260408T163000
DTEND;TZID=America/Los_Angeles:20260408T183000
DTSTAMP:20260423T100519
CREATED:20260313T043828Z
LAST-MODIFIED:20260325T031334Z
UID:10075987-1775665800-1775673000@thedirt.online
SUMMARY:The Davis Humanities Institute Presents "The Tallest Dwarf" Documentary Screening and Q&A with the Filmmaker
DESCRIPTION:“The Tallest Dwarf” charts filmmaker and UC Davis Professor of Cinema and Digital Media Julie Wyman’s quest to find her place within the little people (LP) community at a moment when dwarf identity is poised to radically change. The feature-length documentary premiered at the South by Southwest Film Festival (SXSW) in 2025 and will make its campus debut on April 8\, 2026\, followed by a conversation between the filmmaker and Mark Povinelli\, an actor\, lead participant in the film and former president of Little People of America. Reception and musical interlude by UCD music students to follow. \n“A beautiful manifesto that shows the power of body acceptance.” (Forbes) \nThe Davis Humanities Institute (DHI) fosters research and collaborations within and beyond the humanities and arts\, empowering scholars\, students and communities to engage with the most pressing global and local challenges. Bringing scholars and artists together on stage\, this screening of “The Tallest Dwarf” and conversation between Wyman and Povinelli will be an opportunity to see this mission in action. \nCome celebrate the relaunch of the DHI and get a preview of what’s to come for the Institute! \nEvent is scheduled for 4:30—6:30p with reception ending at 8p. \n*REGISTRATION requested!\nhttps://www.eventbrite.com/e/dhi-presents-the-tallest-dwarf-tickets-1980486184491?utm-campaign=social&utm-content=attendeeshare&utm-medium=discovery&utm-term=listing&utm-source=cp&aff=ebdsshcopyurl&utm_source=UC+Davis+College+of+Letters+and+Science&utm_campaign=03330bfd8b-EMAIL_CAMPAIGN_2026_02_18_05_47&utm_medium=email&utm_term=0_-03330bfd8b-469264257
URL:https://thedirt.online/event/the-davis-humanities-institute-presents-the-tallest-dwarf-documentary-screening-and-qa-with-the-filmmaker/
LOCATION:Ann E. Pitzer Center\, Hutchison Dr & Cushing Way\, Davis\, CA\, 95616\, United States
CATEGORIES:Art,Books & Talks,Community,Screen
ATTACH;FMTTYPE=image/png:https://thedirt.online/wp-content/uploads/2026/03/10_HWL-Cast-to-Camera__GabriellaGarciaPardo-1.png
END:VEVENT
END:VCALENDAR