BEGIN:VCALENDAR
VERSION:2.0
PRODID:-//The Dirt - ECPv6.15.20//NONSGML v1.0//EN
CALSCALE:GREGORIAN
METHOD:PUBLISH
X-ORIGINAL-URL:https://thedirt.online
X-WR-CALDESC:Events for The Dirt
REFRESH-INTERVAL;VALUE=DURATION:PT1H
X-Robots-Tag:noindex
X-PUBLISHED-TTL:PT1H
BEGIN:VTIMEZONE
TZID:America/Los_Angeles
BEGIN:DAYLIGHT
TZOFFSETFROM:-0800
TZOFFSETTO:-0700
TZNAME:PDT
DTSTART:20250309T100000
END:DAYLIGHT
BEGIN:STANDARD
TZOFFSETFROM:-0700
TZOFFSETTO:-0800
TZNAME:PST
DTSTART:20251102T090000
END:STANDARD
BEGIN:DAYLIGHT
TZOFFSETFROM:-0800
TZOFFSETTO:-0700
TZNAME:PDT
DTSTART:20260308T100000
END:DAYLIGHT
BEGIN:STANDARD
TZOFFSETFROM:-0700
TZOFFSETTO:-0800
TZNAME:PST
DTSTART:20261101T090000
END:STANDARD
BEGIN:DAYLIGHT
TZOFFSETFROM:-0800
TZOFFSETTO:-0700
TZNAME:PDT
DTSTART:20270314T100000
END:DAYLIGHT
BEGIN:STANDARD
TZOFFSETFROM:-0700
TZOFFSETTO:-0800
TZNAME:PST
DTSTART:20271107T090000
END:STANDARD
END:VTIMEZONE
BEGIN:VEVENT
DTSTART;TZID=America/Los_Angeles:20260404T080000
DTEND;TZID=America/Los_Angeles:20260404T110000
DTSTAMP:20260419T072058
CREATED:20260323T215619Z
LAST-MODIFIED:20260325T031110Z
UID:10076775-1775289600-1775300400@thedirt.online
SUMMARY:Davis Aquatic Masters Spring Reset with Thrive
DESCRIPTION:Whether you’re looking to build strength\, protect your joints\, or return to training after an injury\, Thrive is offering a Spring Reset Functional Movement Screen designed specifically for swimmers. \nYou’ll receive a 1-on-1 Functional Movement Screen with personalized feedback from Thrive’s professional trainers to help improve strength\, reduce stress on your body\, and lower your risk of injury. \nSpace is limited — only 6 spots available. \n$149 – Spring Reset Screen Package\n1-on-1 Functional Movement Screen\, personalized feedback\, take-home exercise plan\, and access to Thrive’s virtual exercise library. \n$249 – Spring Reset + Training Package\nEverything in the Screen Package plus 2 Thrive strength classes per week for 4 weeks. \n  \n 
URL:https://thedirt.online/event/davis-aquatic-masters-spring-reset-with-thrive/
CATEGORIES:Athletics,Fitness,Sports
ATTACH;FMTTYPE=image/jpeg:https://thedirt.online/wp-content/uploads/2026/03/IMG_4963.jpg
END:VEVENT
END:VCALENDAR