BEGIN:VCALENDAR
VERSION:2.0
PRODID:-//The Dirt - ECPv6.15.20//NONSGML v1.0//EN
CALSCALE:GREGORIAN
METHOD:PUBLISH
X-WR-CALNAME:The Dirt
X-ORIGINAL-URL:https://thedirt.online
X-WR-CALDESC:Events for The Dirt
REFRESH-INTERVAL;VALUE=DURATION:PT1H
X-Robots-Tag:noindex
X-PUBLISHED-TTL:PT1H
BEGIN:VTIMEZONE
TZID:America/Los_Angeles
BEGIN:DAYLIGHT
TZOFFSETFROM:-0800
TZOFFSETTO:-0700
TZNAME:PDT
DTSTART:20250309T100000
END:DAYLIGHT
BEGIN:STANDARD
TZOFFSETFROM:-0700
TZOFFSETTO:-0800
TZNAME:PST
DTSTART:20251102T090000
END:STANDARD
BEGIN:DAYLIGHT
TZOFFSETFROM:-0800
TZOFFSETTO:-0700
TZNAME:PDT
DTSTART:20260308T100000
END:DAYLIGHT
BEGIN:STANDARD
TZOFFSETFROM:-0700
TZOFFSETTO:-0800
TZNAME:PST
DTSTART:20261101T090000
END:STANDARD
BEGIN:DAYLIGHT
TZOFFSETFROM:-0800
TZOFFSETTO:-0700
TZNAME:PDT
DTSTART:20270314T100000
END:DAYLIGHT
BEGIN:STANDARD
TZOFFSETFROM:-0700
TZOFFSETTO:-0800
TZNAME:PST
DTSTART:20271107T090000
END:STANDARD
END:VTIMEZONE
BEGIN:VEVENT
DTSTART;TZID=America/Los_Angeles:20260130T173000
DTEND;TZID=America/Los_Angeles:20260130T200000
DTSTAMP:20260423T184143
CREATED:20251221T180452Z
LAST-MODIFIED:20260109T234708Z
UID:10070790-1769794200-1769803200@thedirt.online
SUMMARY:"Can't Look Away" Film Screening
DESCRIPTION:Can’t Look Away: The Case Against Social Media – A Film Screening and Q&A with Panel\nAdult (+18) Education \nExposing the dark side of social media and its devastating impact on young users\, CAN’T LOOK AWAY reveals how dangerous algorithms are fueling a crisis—and why urgent reform is needed. The stakes\ncouldn’t be higher. Smartphone Free Childhood US is hosting a special screening of the film at\nMary L. Stephens – Davis Branch Library on Friday January 30\, 2026 . #cantlookawaydoc #watchonjolt \nRated for audiences age 13. This film explores difficult subject matter and mature topics (such as death by suicide\, mental health issues\, self-harm\, drug use and abuse\, and tragic loss) which some viewers may find distressing. Viewer discretion advised. \nThe screening is open to the public and free to attend. RSVPs are not required\, but we kindly ask you to RSVP by email to rebootedtech2.0@gmail.com to accommodate all viewers. \nThis event is not sponsored by Yolo County Library and the presence of this group in the meeting room does not constitute Yolo County Library’s endorsement of the policies or beliefs of this group.
URL:https://thedirt.online/event/cant-look-away-film-screening/
LOCATION:Mary L. Stephens Davis Branch Library Blanchard Room\, 315 E 14th St\, Davis\, CA\, 95616\, United States
CATEGORIES:Community,Featured,Screen
ATTACH;FMTTYPE=image/png:https://thedirt.online/wp-content/uploads/2025/12/CantLookAway_Poster2v2_1x1.png
END:VEVENT
END:VCALENDAR