BEGIN:VCALENDAR
VERSION:2.0
PRODID:-//The Dirt - ECPv6.15.20//NONSGML v1.0//EN
CALSCALE:GREGORIAN
METHOD:PUBLISH
X-WR-CALNAME:The Dirt
X-ORIGINAL-URL:https://thedirt.online
X-WR-CALDESC:Events for The Dirt
REFRESH-INTERVAL;VALUE=DURATION:PT1H
X-Robots-Tag:noindex
X-PUBLISHED-TTL:PT1H
BEGIN:VTIMEZONE
TZID:America/Los_Angeles
BEGIN:DAYLIGHT
TZOFFSETFROM:-0800
TZOFFSETTO:-0700
TZNAME:PDT
DTSTART:20250309T100000
END:DAYLIGHT
BEGIN:STANDARD
TZOFFSETFROM:-0700
TZOFFSETTO:-0800
TZNAME:PST
DTSTART:20251102T090000
END:STANDARD
BEGIN:DAYLIGHT
TZOFFSETFROM:-0800
TZOFFSETTO:-0700
TZNAME:PDT
DTSTART:20260308T100000
END:DAYLIGHT
BEGIN:STANDARD
TZOFFSETFROM:-0700
TZOFFSETTO:-0800
TZNAME:PST
DTSTART:20261101T090000
END:STANDARD
BEGIN:DAYLIGHT
TZOFFSETFROM:-0800
TZOFFSETTO:-0700
TZNAME:PDT
DTSTART:20270314T100000
END:DAYLIGHT
BEGIN:STANDARD
TZOFFSETFROM:-0700
TZOFFSETTO:-0800
TZNAME:PST
DTSTART:20271107T090000
END:STANDARD
END:VTIMEZONE
BEGIN:VEVENT
DTSTART;TZID=America/Los_Angeles:20260422T100000
DTEND;TZID=America/Los_Angeles:20260422T113000
DTSTAMP:20260421T163917
CREATED:20260217T024901Z
LAST-MODIFIED:20260217T024901Z
UID:10074765-1776852000-1776857400@thedirt.online
SUMMARY:UpENDing Parkinson's at Rocknasium
DESCRIPTION:UpENDing Parkinson’s at Rocknasium \nWednesdays\, 10-11:30 AM \nRocknasium is hosting UpENDing Parkinson’s\, a non-profit that provides guided rock climbing to those living with Parkinson’s. Entrance is free\, and rental gear is $10. Those interested may register as a climber here.
URL:https://thedirt.online/event/upending-parkinsons-at-rocknasium/2026-04-22/
LOCATION:Rocknasium the Climbing Gym\, 720 Olive Drive\, Suite S\, Davis\, 95616\, United States
CATEGORIES:Community,Fitness
ATTACH;FMTTYPE=image/jpeg:https://thedirt.online/wp-content/uploads/2026/02/UpEndPark-6-scaled.jpg
END:VEVENT
BEGIN:VEVENT
DTSTART;TZID=America/Los_Angeles:20260429T100000
DTEND;TZID=America/Los_Angeles:20260429T113000
DTSTAMP:20260421T163917
CREATED:20260217T024901Z
LAST-MODIFIED:20260217T024901Z
UID:10074766-1777456800-1777462200@thedirt.online
SUMMARY:UpENDing Parkinson's at Rocknasium
DESCRIPTION:UpENDing Parkinson’s at Rocknasium \nWednesdays\, 10-11:30 AM \nRocknasium is hosting UpENDing Parkinson’s\, a non-profit that provides guided rock climbing to those living with Parkinson’s. Entrance is free\, and rental gear is $10. Those interested may register as a climber here.
URL:https://thedirt.online/event/upending-parkinsons-at-rocknasium/2026-04-29/
LOCATION:Rocknasium the Climbing Gym\, 720 Olive Drive\, Suite S\, Davis\, 95616\, United States
CATEGORIES:Community,Fitness
ATTACH;FMTTYPE=image/jpeg:https://thedirt.online/wp-content/uploads/2026/02/UpEndPark-6-scaled.jpg
END:VEVENT
BEGIN:VEVENT
DTSTART;TZID=America/Los_Angeles:20260506T100000
DTEND;TZID=America/Los_Angeles:20260506T113000
DTSTAMP:20260421T163917
CREATED:20260217T024901Z
LAST-MODIFIED:20260217T024901Z
UID:10074767-1778061600-1778067000@thedirt.online
SUMMARY:UpENDing Parkinson's at Rocknasium
DESCRIPTION:UpENDing Parkinson’s at Rocknasium \nWednesdays\, 10-11:30 AM \nRocknasium is hosting UpENDing Parkinson’s\, a non-profit that provides guided rock climbing to those living with Parkinson’s. Entrance is free\, and rental gear is $10. Those interested may register as a climber here.
URL:https://thedirt.online/event/upending-parkinsons-at-rocknasium/2026-05-06/
LOCATION:Rocknasium the Climbing Gym\, 720 Olive Drive\, Suite S\, Davis\, 95616\, United States
CATEGORIES:Community,Fitness
ATTACH;FMTTYPE=image/jpeg:https://thedirt.online/wp-content/uploads/2026/02/UpEndPark-6-scaled.jpg
END:VEVENT
BEGIN:VEVENT
DTSTART;TZID=America/Los_Angeles:20260513T100000
DTEND;TZID=America/Los_Angeles:20260513T113000
DTSTAMP:20260421T163917
CREATED:20260217T024901Z
LAST-MODIFIED:20260217T024901Z
UID:10074768-1778666400-1778671800@thedirt.online
SUMMARY:UpENDing Parkinson's at Rocknasium
DESCRIPTION:UpENDing Parkinson’s at Rocknasium \nWednesdays\, 10-11:30 AM \nRocknasium is hosting UpENDing Parkinson’s\, a non-profit that provides guided rock climbing to those living with Parkinson’s. Entrance is free\, and rental gear is $10. Those interested may register as a climber here.
URL:https://thedirt.online/event/upending-parkinsons-at-rocknasium/2026-05-13/
LOCATION:Rocknasium the Climbing Gym\, 720 Olive Drive\, Suite S\, Davis\, 95616\, United States
CATEGORIES:Community,Fitness
ATTACH;FMTTYPE=image/jpeg:https://thedirt.online/wp-content/uploads/2026/02/UpEndPark-6-scaled.jpg
END:VEVENT
BEGIN:VEVENT
DTSTART;TZID=America/Los_Angeles:20260520T100000
DTEND;TZID=America/Los_Angeles:20260520T113000
DTSTAMP:20260421T163917
CREATED:20260217T024901Z
LAST-MODIFIED:20260217T024901Z
UID:10074769-1779271200-1779276600@thedirt.online
SUMMARY:UpENDing Parkinson's at Rocknasium
DESCRIPTION:UpENDing Parkinson’s at Rocknasium \nWednesdays\, 10-11:30 AM \nRocknasium is hosting UpENDing Parkinson’s\, a non-profit that provides guided rock climbing to those living with Parkinson’s. Entrance is free\, and rental gear is $10. Those interested may register as a climber here.
URL:https://thedirt.online/event/upending-parkinsons-at-rocknasium/2026-05-20/
LOCATION:Rocknasium the Climbing Gym\, 720 Olive Drive\, Suite S\, Davis\, 95616\, United States
CATEGORIES:Community,Fitness
ATTACH;FMTTYPE=image/jpeg:https://thedirt.online/wp-content/uploads/2026/02/UpEndPark-6-scaled.jpg
END:VEVENT
BEGIN:VEVENT
DTSTART;TZID=America/Los_Angeles:20260527T100000
DTEND;TZID=America/Los_Angeles:20260527T113000
DTSTAMP:20260421T163917
CREATED:20260217T024901Z
LAST-MODIFIED:20260217T024901Z
UID:10074770-1779876000-1779881400@thedirt.online
SUMMARY:UpENDing Parkinson's at Rocknasium
DESCRIPTION:UpENDing Parkinson’s at Rocknasium \nWednesdays\, 10-11:30 AM \nRocknasium is hosting UpENDing Parkinson’s\, a non-profit that provides guided rock climbing to those living with Parkinson’s. Entrance is free\, and rental gear is $10. Those interested may register as a climber here.
URL:https://thedirt.online/event/upending-parkinsons-at-rocknasium/2026-05-27/
LOCATION:Rocknasium the Climbing Gym\, 720 Olive Drive\, Suite S\, Davis\, 95616\, United States
CATEGORIES:Community,Fitness
ATTACH;FMTTYPE=image/jpeg:https://thedirt.online/wp-content/uploads/2026/02/UpEndPark-6-scaled.jpg
END:VEVENT
BEGIN:VEVENT
DTSTART;TZID=America/Los_Angeles:20260603T100000
DTEND;TZID=America/Los_Angeles:20260603T113000
DTSTAMP:20260421T163917
CREATED:20260217T024901Z
LAST-MODIFIED:20260217T024901Z
UID:10074771-1780480800-1780486200@thedirt.online
SUMMARY:UpENDing Parkinson's at Rocknasium
DESCRIPTION:UpENDing Parkinson’s at Rocknasium \nWednesdays\, 10-11:30 AM \nRocknasium is hosting UpENDing Parkinson’s\, a non-profit that provides guided rock climbing to those living with Parkinson’s. Entrance is free\, and rental gear is $10. Those interested may register as a climber here.
URL:https://thedirt.online/event/upending-parkinsons-at-rocknasium/2026-06-03/
LOCATION:Rocknasium the Climbing Gym\, 720 Olive Drive\, Suite S\, Davis\, 95616\, United States
CATEGORIES:Community,Fitness
ATTACH;FMTTYPE=image/jpeg:https://thedirt.online/wp-content/uploads/2026/02/UpEndPark-6-scaled.jpg
END:VEVENT
BEGIN:VEVENT
DTSTART;TZID=America/Los_Angeles:20260610T100000
DTEND;TZID=America/Los_Angeles:20260610T113000
DTSTAMP:20260421T163917
CREATED:20260217T024901Z
LAST-MODIFIED:20260217T024901Z
UID:10074772-1781085600-1781091000@thedirt.online
SUMMARY:UpENDing Parkinson's at Rocknasium
DESCRIPTION:UpENDing Parkinson’s at Rocknasium \nWednesdays\, 10-11:30 AM \nRocknasium is hosting UpENDing Parkinson’s\, a non-profit that provides guided rock climbing to those living with Parkinson’s. Entrance is free\, and rental gear is $10. Those interested may register as a climber here.
URL:https://thedirt.online/event/upending-parkinsons-at-rocknasium/2026-06-10/
LOCATION:Rocknasium the Climbing Gym\, 720 Olive Drive\, Suite S\, Davis\, 95616\, United States
CATEGORIES:Community,Fitness
ATTACH;FMTTYPE=image/jpeg:https://thedirt.online/wp-content/uploads/2026/02/UpEndPark-6-scaled.jpg
END:VEVENT
BEGIN:VEVENT
DTSTART;TZID=America/Los_Angeles:20260617T100000
DTEND;TZID=America/Los_Angeles:20260617T113000
DTSTAMP:20260421T163917
CREATED:20260217T024901Z
LAST-MODIFIED:20260217T024901Z
UID:10074773-1781690400-1781695800@thedirt.online
SUMMARY:UpENDing Parkinson's at Rocknasium
DESCRIPTION:UpENDing Parkinson’s at Rocknasium \nWednesdays\, 10-11:30 AM \nRocknasium is hosting UpENDing Parkinson’s\, a non-profit that provides guided rock climbing to those living with Parkinson’s. Entrance is free\, and rental gear is $10. Those interested may register as a climber here.
URL:https://thedirt.online/event/upending-parkinsons-at-rocknasium/2026-06-17/
LOCATION:Rocknasium the Climbing Gym\, 720 Olive Drive\, Suite S\, Davis\, 95616\, United States
CATEGORIES:Community,Fitness
ATTACH;FMTTYPE=image/jpeg:https://thedirt.online/wp-content/uploads/2026/02/UpEndPark-6-scaled.jpg
END:VEVENT
BEGIN:VEVENT
DTSTART;TZID=America/Los_Angeles:20260624T100000
DTEND;TZID=America/Los_Angeles:20260624T113000
DTSTAMP:20260421T163917
CREATED:20260217T024901Z
LAST-MODIFIED:20260217T024901Z
UID:10074774-1782295200-1782300600@thedirt.online
SUMMARY:UpENDing Parkinson's at Rocknasium
DESCRIPTION:UpENDing Parkinson’s at Rocknasium \nWednesdays\, 10-11:30 AM \nRocknasium is hosting UpENDing Parkinson’s\, a non-profit that provides guided rock climbing to those living with Parkinson’s. Entrance is free\, and rental gear is $10. Those interested may register as a climber here.
URL:https://thedirt.online/event/upending-parkinsons-at-rocknasium/2026-06-24/
LOCATION:Rocknasium the Climbing Gym\, 720 Olive Drive\, Suite S\, Davis\, 95616\, United States
CATEGORIES:Community,Fitness
ATTACH;FMTTYPE=image/jpeg:https://thedirt.online/wp-content/uploads/2026/02/UpEndPark-6-scaled.jpg
END:VEVENT
BEGIN:VEVENT
DTSTART;TZID=America/Los_Angeles:20260701T100000
DTEND;TZID=America/Los_Angeles:20260701T113000
DTSTAMP:20260421T163917
CREATED:20260217T024901Z
LAST-MODIFIED:20260217T024901Z
UID:10074775-1782900000-1782905400@thedirt.online
SUMMARY:UpENDing Parkinson's at Rocknasium
DESCRIPTION:UpENDing Parkinson’s at Rocknasium \nWednesdays\, 10-11:30 AM \nRocknasium is hosting UpENDing Parkinson’s\, a non-profit that provides guided rock climbing to those living with Parkinson’s. Entrance is free\, and rental gear is $10. Those interested may register as a climber here.
URL:https://thedirt.online/event/upending-parkinsons-at-rocknasium/2026-07-01/
LOCATION:Rocknasium the Climbing Gym\, 720 Olive Drive\, Suite S\, Davis\, 95616\, United States
CATEGORIES:Community,Fitness
ATTACH;FMTTYPE=image/jpeg:https://thedirt.online/wp-content/uploads/2026/02/UpEndPark-6-scaled.jpg
END:VEVENT
BEGIN:VEVENT
DTSTART;TZID=America/Los_Angeles:20260708T100000
DTEND;TZID=America/Los_Angeles:20260708T113000
DTSTAMP:20260421T163917
CREATED:20260217T024901Z
LAST-MODIFIED:20260217T024901Z
UID:10074776-1783504800-1783510200@thedirt.online
SUMMARY:UpENDing Parkinson's at Rocknasium
DESCRIPTION:UpENDing Parkinson’s at Rocknasium \nWednesdays\, 10-11:30 AM \nRocknasium is hosting UpENDing Parkinson’s\, a non-profit that provides guided rock climbing to those living with Parkinson’s. Entrance is free\, and rental gear is $10. Those interested may register as a climber here.
URL:https://thedirt.online/event/upending-parkinsons-at-rocknasium/2026-07-08/
LOCATION:Rocknasium the Climbing Gym\, 720 Olive Drive\, Suite S\, Davis\, 95616\, United States
CATEGORIES:Community,Fitness
ATTACH;FMTTYPE=image/jpeg:https://thedirt.online/wp-content/uploads/2026/02/UpEndPark-6-scaled.jpg
END:VEVENT
BEGIN:VEVENT
DTSTART;TZID=America/Los_Angeles:20260715T100000
DTEND;TZID=America/Los_Angeles:20260715T113000
DTSTAMP:20260421T163917
CREATED:20260217T024901Z
LAST-MODIFIED:20260217T024901Z
UID:10074777-1784109600-1784115000@thedirt.online
SUMMARY:UpENDing Parkinson's at Rocknasium
DESCRIPTION:UpENDing Parkinson’s at Rocknasium \nWednesdays\, 10-11:30 AM \nRocknasium is hosting UpENDing Parkinson’s\, a non-profit that provides guided rock climbing to those living with Parkinson’s. Entrance is free\, and rental gear is $10. Those interested may register as a climber here.
URL:https://thedirt.online/event/upending-parkinsons-at-rocknasium/2026-07-15/
LOCATION:Rocknasium the Climbing Gym\, 720 Olive Drive\, Suite S\, Davis\, 95616\, United States
CATEGORIES:Community,Fitness
ATTACH;FMTTYPE=image/jpeg:https://thedirt.online/wp-content/uploads/2026/02/UpEndPark-6-scaled.jpg
END:VEVENT
BEGIN:VEVENT
DTSTART;TZID=America/Los_Angeles:20260722T100000
DTEND;TZID=America/Los_Angeles:20260722T113000
DTSTAMP:20260421T163917
CREATED:20260217T024901Z
LAST-MODIFIED:20260217T024901Z
UID:10074778-1784714400-1784719800@thedirt.online
SUMMARY:UpENDing Parkinson's at Rocknasium
DESCRIPTION:UpENDing Parkinson’s at Rocknasium \nWednesdays\, 10-11:30 AM \nRocknasium is hosting UpENDing Parkinson’s\, a non-profit that provides guided rock climbing to those living with Parkinson’s. Entrance is free\, and rental gear is $10. Those interested may register as a climber here.
URL:https://thedirt.online/event/upending-parkinsons-at-rocknasium/2026-07-22/
LOCATION:Rocknasium the Climbing Gym\, 720 Olive Drive\, Suite S\, Davis\, 95616\, United States
CATEGORIES:Community,Fitness
ATTACH;FMTTYPE=image/jpeg:https://thedirt.online/wp-content/uploads/2026/02/UpEndPark-6-scaled.jpg
END:VEVENT
BEGIN:VEVENT
DTSTART;TZID=America/Los_Angeles:20260729T100000
DTEND;TZID=America/Los_Angeles:20260729T113000
DTSTAMP:20260421T163917
CREATED:20260217T024901Z
LAST-MODIFIED:20260217T024901Z
UID:10074779-1785319200-1785324600@thedirt.online
SUMMARY:UpENDing Parkinson's at Rocknasium
DESCRIPTION:UpENDing Parkinson’s at Rocknasium \nWednesdays\, 10-11:30 AM \nRocknasium is hosting UpENDing Parkinson’s\, a non-profit that provides guided rock climbing to those living with Parkinson’s. Entrance is free\, and rental gear is $10. Those interested may register as a climber here.
URL:https://thedirt.online/event/upending-parkinsons-at-rocknasium/2026-07-29/
LOCATION:Rocknasium the Climbing Gym\, 720 Olive Drive\, Suite S\, Davis\, 95616\, United States
CATEGORIES:Community,Fitness
ATTACH;FMTTYPE=image/jpeg:https://thedirt.online/wp-content/uploads/2026/02/UpEndPark-6-scaled.jpg
END:VEVENT
BEGIN:VEVENT
DTSTART;TZID=America/Los_Angeles:20260805T100000
DTEND;TZID=America/Los_Angeles:20260805T113000
DTSTAMP:20260421T163917
CREATED:20260217T024901Z
LAST-MODIFIED:20260217T024901Z
UID:10074780-1785924000-1785929400@thedirt.online
SUMMARY:UpENDing Parkinson's at Rocknasium
DESCRIPTION:UpENDing Parkinson’s at Rocknasium \nWednesdays\, 10-11:30 AM \nRocknasium is hosting UpENDing Parkinson’s\, a non-profit that provides guided rock climbing to those living with Parkinson’s. Entrance is free\, and rental gear is $10. Those interested may register as a climber here.
URL:https://thedirt.online/event/upending-parkinsons-at-rocknasium/2026-08-05/
LOCATION:Rocknasium the Climbing Gym\, 720 Olive Drive\, Suite S\, Davis\, 95616\, United States
CATEGORIES:Community,Fitness
ATTACH;FMTTYPE=image/jpeg:https://thedirt.online/wp-content/uploads/2026/02/UpEndPark-6-scaled.jpg
END:VEVENT
BEGIN:VEVENT
DTSTART;TZID=America/Los_Angeles:20260812T100000
DTEND;TZID=America/Los_Angeles:20260812T113000
DTSTAMP:20260421T163917
CREATED:20260217T024901Z
LAST-MODIFIED:20260217T024901Z
UID:10074781-1786528800-1786534200@thedirt.online
SUMMARY:UpENDing Parkinson's at Rocknasium
DESCRIPTION:UpENDing Parkinson’s at Rocknasium \nWednesdays\, 10-11:30 AM \nRocknasium is hosting UpENDing Parkinson’s\, a non-profit that provides guided rock climbing to those living with Parkinson’s. Entrance is free\, and rental gear is $10. Those interested may register as a climber here.
URL:https://thedirt.online/event/upending-parkinsons-at-rocknasium/2026-08-12/
LOCATION:Rocknasium the Climbing Gym\, 720 Olive Drive\, Suite S\, Davis\, 95616\, United States
CATEGORIES:Community,Fitness
ATTACH;FMTTYPE=image/jpeg:https://thedirt.online/wp-content/uploads/2026/02/UpEndPark-6-scaled.jpg
END:VEVENT
BEGIN:VEVENT
DTSTART;TZID=America/Los_Angeles:20260819T100000
DTEND;TZID=America/Los_Angeles:20260819T113000
DTSTAMP:20260421T163917
CREATED:20260217T024901Z
LAST-MODIFIED:20260217T024901Z
UID:10074782-1787133600-1787139000@thedirt.online
SUMMARY:UpENDing Parkinson's at Rocknasium
DESCRIPTION:UpENDing Parkinson’s at Rocknasium \nWednesdays\, 10-11:30 AM \nRocknasium is hosting UpENDing Parkinson’s\, a non-profit that provides guided rock climbing to those living with Parkinson’s. Entrance is free\, and rental gear is $10. Those interested may register as a climber here.
URL:https://thedirt.online/event/upending-parkinsons-at-rocknasium/2026-08-19/
LOCATION:Rocknasium the Climbing Gym\, 720 Olive Drive\, Suite S\, Davis\, 95616\, United States
CATEGORIES:Community,Fitness
ATTACH;FMTTYPE=image/jpeg:https://thedirt.online/wp-content/uploads/2026/02/UpEndPark-6-scaled.jpg
END:VEVENT
BEGIN:VEVENT
DTSTART;TZID=America/Los_Angeles:20260826T100000
DTEND;TZID=America/Los_Angeles:20260826T113000
DTSTAMP:20260421T163917
CREATED:20260217T024901Z
LAST-MODIFIED:20260217T024901Z
UID:10074783-1787738400-1787743800@thedirt.online
SUMMARY:UpENDing Parkinson's at Rocknasium
DESCRIPTION:UpENDing Parkinson’s at Rocknasium \nWednesdays\, 10-11:30 AM \nRocknasium is hosting UpENDing Parkinson’s\, a non-profit that provides guided rock climbing to those living with Parkinson’s. Entrance is free\, and rental gear is $10. Those interested may register as a climber here.
URL:https://thedirt.online/event/upending-parkinsons-at-rocknasium/2026-08-26/
LOCATION:Rocknasium the Climbing Gym\, 720 Olive Drive\, Suite S\, Davis\, 95616\, United States
CATEGORIES:Community,Fitness
ATTACH;FMTTYPE=image/jpeg:https://thedirt.online/wp-content/uploads/2026/02/UpEndPark-6-scaled.jpg
END:VEVENT
BEGIN:VEVENT
DTSTART;TZID=America/Los_Angeles:20260902T100000
DTEND;TZID=America/Los_Angeles:20260902T113000
DTSTAMP:20260421T163917
CREATED:20260217T024901Z
LAST-MODIFIED:20260217T024901Z
UID:10074784-1788343200-1788348600@thedirt.online
SUMMARY:UpENDing Parkinson's at Rocknasium
DESCRIPTION:UpENDing Parkinson’s at Rocknasium \nWednesdays\, 10-11:30 AM \nRocknasium is hosting UpENDing Parkinson’s\, a non-profit that provides guided rock climbing to those living with Parkinson’s. Entrance is free\, and rental gear is $10. Those interested may register as a climber here.
URL:https://thedirt.online/event/upending-parkinsons-at-rocknasium/2026-09-02/
LOCATION:Rocknasium the Climbing Gym\, 720 Olive Drive\, Suite S\, Davis\, 95616\, United States
CATEGORIES:Community,Fitness
ATTACH;FMTTYPE=image/jpeg:https://thedirt.online/wp-content/uploads/2026/02/UpEndPark-6-scaled.jpg
END:VEVENT
BEGIN:VEVENT
DTSTART;TZID=America/Los_Angeles:20260909T100000
DTEND;TZID=America/Los_Angeles:20260909T113000
DTSTAMP:20260421T163917
CREATED:20260217T024901Z
LAST-MODIFIED:20260217T024901Z
UID:10074785-1788948000-1788953400@thedirt.online
SUMMARY:UpENDing Parkinson's at Rocknasium
DESCRIPTION:UpENDing Parkinson’s at Rocknasium \nWednesdays\, 10-11:30 AM \nRocknasium is hosting UpENDing Parkinson’s\, a non-profit that provides guided rock climbing to those living with Parkinson’s. Entrance is free\, and rental gear is $10. Those interested may register as a climber here.
URL:https://thedirt.online/event/upending-parkinsons-at-rocknasium/2026-09-09/
LOCATION:Rocknasium the Climbing Gym\, 720 Olive Drive\, Suite S\, Davis\, 95616\, United States
CATEGORIES:Community,Fitness
ATTACH;FMTTYPE=image/jpeg:https://thedirt.online/wp-content/uploads/2026/02/UpEndPark-6-scaled.jpg
END:VEVENT
BEGIN:VEVENT
DTSTART;TZID=America/Los_Angeles:20260916T100000
DTEND;TZID=America/Los_Angeles:20260916T113000
DTSTAMP:20260421T163917
CREATED:20260217T024901Z
LAST-MODIFIED:20260217T024901Z
UID:10074786-1789552800-1789558200@thedirt.online
SUMMARY:UpENDing Parkinson's at Rocknasium
DESCRIPTION:UpENDing Parkinson’s at Rocknasium \nWednesdays\, 10-11:30 AM \nRocknasium is hosting UpENDing Parkinson’s\, a non-profit that provides guided rock climbing to those living with Parkinson’s. Entrance is free\, and rental gear is $10. Those interested may register as a climber here.
URL:https://thedirt.online/event/upending-parkinsons-at-rocknasium/2026-09-16/
LOCATION:Rocknasium the Climbing Gym\, 720 Olive Drive\, Suite S\, Davis\, 95616\, United States
CATEGORIES:Community,Fitness
ATTACH;FMTTYPE=image/jpeg:https://thedirt.online/wp-content/uploads/2026/02/UpEndPark-6-scaled.jpg
END:VEVENT
BEGIN:VEVENT
DTSTART;TZID=America/Los_Angeles:20260923T100000
DTEND;TZID=America/Los_Angeles:20260923T113000
DTSTAMP:20260421T163917
CREATED:20260217T024901Z
LAST-MODIFIED:20260217T024901Z
UID:10074787-1790157600-1790163000@thedirt.online
SUMMARY:UpENDing Parkinson's at Rocknasium
DESCRIPTION:UpENDing Parkinson’s at Rocknasium \nWednesdays\, 10-11:30 AM \nRocknasium is hosting UpENDing Parkinson’s\, a non-profit that provides guided rock climbing to those living with Parkinson’s. Entrance is free\, and rental gear is $10. Those interested may register as a climber here.
URL:https://thedirt.online/event/upending-parkinsons-at-rocknasium/2026-09-23/
LOCATION:Rocknasium the Climbing Gym\, 720 Olive Drive\, Suite S\, Davis\, 95616\, United States
CATEGORIES:Community,Fitness
ATTACH;FMTTYPE=image/jpeg:https://thedirt.online/wp-content/uploads/2026/02/UpEndPark-6-scaled.jpg
END:VEVENT
BEGIN:VEVENT
DTSTART;TZID=America/Los_Angeles:20260930T100000
DTEND;TZID=America/Los_Angeles:20260930T113000
DTSTAMP:20260421T163917
CREATED:20260217T024901Z
LAST-MODIFIED:20260217T024901Z
UID:10074788-1790762400-1790767800@thedirt.online
SUMMARY:UpENDing Parkinson's at Rocknasium
DESCRIPTION:UpENDing Parkinson’s at Rocknasium \nWednesdays\, 10-11:30 AM \nRocknasium is hosting UpENDing Parkinson’s\, a non-profit that provides guided rock climbing to those living with Parkinson’s. Entrance is free\, and rental gear is $10. Those interested may register as a climber here.
URL:https://thedirt.online/event/upending-parkinsons-at-rocknasium/2026-09-30/
LOCATION:Rocknasium the Climbing Gym\, 720 Olive Drive\, Suite S\, Davis\, 95616\, United States
CATEGORIES:Community,Fitness
ATTACH;FMTTYPE=image/jpeg:https://thedirt.online/wp-content/uploads/2026/02/UpEndPark-6-scaled.jpg
END:VEVENT
BEGIN:VEVENT
DTSTART;TZID=America/Los_Angeles:20261007T100000
DTEND;TZID=America/Los_Angeles:20261007T113000
DTSTAMP:20260421T163917
CREATED:20260217T024901Z
LAST-MODIFIED:20260217T024901Z
UID:10074789-1791367200-1791372600@thedirt.online
SUMMARY:UpENDing Parkinson's at Rocknasium
DESCRIPTION:UpENDing Parkinson’s at Rocknasium \nWednesdays\, 10-11:30 AM \nRocknasium is hosting UpENDing Parkinson’s\, a non-profit that provides guided rock climbing to those living with Parkinson’s. Entrance is free\, and rental gear is $10. Those interested may register as a climber here.
URL:https://thedirt.online/event/upending-parkinsons-at-rocknasium/2026-10-07/
LOCATION:Rocknasium the Climbing Gym\, 720 Olive Drive\, Suite S\, Davis\, 95616\, United States
CATEGORIES:Community,Fitness
ATTACH;FMTTYPE=image/jpeg:https://thedirt.online/wp-content/uploads/2026/02/UpEndPark-6-scaled.jpg
END:VEVENT
BEGIN:VEVENT
DTSTART;TZID=America/Los_Angeles:20261014T100000
DTEND;TZID=America/Los_Angeles:20261014T113000
DTSTAMP:20260421T163917
CREATED:20260217T024901Z
LAST-MODIFIED:20260217T024901Z
UID:10074790-1791972000-1791977400@thedirt.online
SUMMARY:UpENDing Parkinson's at Rocknasium
DESCRIPTION:UpENDing Parkinson’s at Rocknasium \nWednesdays\, 10-11:30 AM \nRocknasium is hosting UpENDing Parkinson’s\, a non-profit that provides guided rock climbing to those living with Parkinson’s. Entrance is free\, and rental gear is $10. Those interested may register as a climber here.
URL:https://thedirt.online/event/upending-parkinsons-at-rocknasium/2026-10-14/
LOCATION:Rocknasium the Climbing Gym\, 720 Olive Drive\, Suite S\, Davis\, 95616\, United States
CATEGORIES:Community,Fitness
ATTACH;FMTTYPE=image/jpeg:https://thedirt.online/wp-content/uploads/2026/02/UpEndPark-6-scaled.jpg
END:VEVENT
BEGIN:VEVENT
DTSTART;TZID=America/Los_Angeles:20261021T100000
DTEND;TZID=America/Los_Angeles:20261021T113000
DTSTAMP:20260421T163917
CREATED:20260217T024901Z
LAST-MODIFIED:20260217T024901Z
UID:10074791-1792576800-1792582200@thedirt.online
SUMMARY:UpENDing Parkinson's at Rocknasium
DESCRIPTION:UpENDing Parkinson’s at Rocknasium \nWednesdays\, 10-11:30 AM \nRocknasium is hosting UpENDing Parkinson’s\, a non-profit that provides guided rock climbing to those living with Parkinson’s. Entrance is free\, and rental gear is $10. Those interested may register as a climber here.
URL:https://thedirt.online/event/upending-parkinsons-at-rocknasium/2026-10-21/
LOCATION:Rocknasium the Climbing Gym\, 720 Olive Drive\, Suite S\, Davis\, 95616\, United States
CATEGORIES:Community,Fitness
ATTACH;FMTTYPE=image/jpeg:https://thedirt.online/wp-content/uploads/2026/02/UpEndPark-6-scaled.jpg
END:VEVENT
BEGIN:VEVENT
DTSTART;TZID=America/Los_Angeles:20261028T100000
DTEND;TZID=America/Los_Angeles:20261028T113000
DTSTAMP:20260421T163917
CREATED:20260217T024901Z
LAST-MODIFIED:20260217T024901Z
UID:10074792-1793181600-1793187000@thedirt.online
SUMMARY:UpENDing Parkinson's at Rocknasium
DESCRIPTION:UpENDing Parkinson’s at Rocknasium \nWednesdays\, 10-11:30 AM \nRocknasium is hosting UpENDing Parkinson’s\, a non-profit that provides guided rock climbing to those living with Parkinson’s. Entrance is free\, and rental gear is $10. Those interested may register as a climber here.
URL:https://thedirt.online/event/upending-parkinsons-at-rocknasium/2026-10-28/
LOCATION:Rocknasium the Climbing Gym\, 720 Olive Drive\, Suite S\, Davis\, 95616\, United States
CATEGORIES:Community,Fitness
ATTACH;FMTTYPE=image/jpeg:https://thedirt.online/wp-content/uploads/2026/02/UpEndPark-6-scaled.jpg
END:VEVENT
BEGIN:VEVENT
DTSTART;TZID=America/Los_Angeles:20261104T100000
DTEND;TZID=America/Los_Angeles:20261104T113000
DTSTAMP:20260421T163917
CREATED:20260217T024901Z
LAST-MODIFIED:20260217T024901Z
UID:10074793-1793786400-1793791800@thedirt.online
SUMMARY:UpENDing Parkinson's at Rocknasium
DESCRIPTION:UpENDing Parkinson’s at Rocknasium \nWednesdays\, 10-11:30 AM \nRocknasium is hosting UpENDing Parkinson’s\, a non-profit that provides guided rock climbing to those living with Parkinson’s. Entrance is free\, and rental gear is $10. Those interested may register as a climber here.
URL:https://thedirt.online/event/upending-parkinsons-at-rocknasium/2026-11-04/
LOCATION:Rocknasium the Climbing Gym\, 720 Olive Drive\, Suite S\, Davis\, 95616\, United States
CATEGORIES:Community,Fitness
ATTACH;FMTTYPE=image/jpeg:https://thedirt.online/wp-content/uploads/2026/02/UpEndPark-6-scaled.jpg
END:VEVENT
BEGIN:VEVENT
DTSTART;TZID=America/Los_Angeles:20261111T100000
DTEND;TZID=America/Los_Angeles:20261111T113000
DTSTAMP:20260421T163917
CREATED:20260217T024901Z
LAST-MODIFIED:20260217T024901Z
UID:10074794-1794391200-1794396600@thedirt.online
SUMMARY:UpENDing Parkinson's at Rocknasium
DESCRIPTION:UpENDing Parkinson’s at Rocknasium \nWednesdays\, 10-11:30 AM \nRocknasium is hosting UpENDing Parkinson’s\, a non-profit that provides guided rock climbing to those living with Parkinson’s. Entrance is free\, and rental gear is $10. Those interested may register as a climber here.
URL:https://thedirt.online/event/upending-parkinsons-at-rocknasium/2026-11-11/
LOCATION:Rocknasium the Climbing Gym\, 720 Olive Drive\, Suite S\, Davis\, 95616\, United States
CATEGORIES:Community,Fitness
ATTACH;FMTTYPE=image/jpeg:https://thedirt.online/wp-content/uploads/2026/02/UpEndPark-6-scaled.jpg
END:VEVENT
END:VCALENDAR