BEGIN:VCALENDAR
VERSION:2.0
PRODID:-//The Dirt - ECPv6.15.20//NONSGML v1.0//EN
CALSCALE:GREGORIAN
METHOD:PUBLISH
X-WR-CALNAME:The Dirt
X-ORIGINAL-URL:https://thedirt.online
X-WR-CALDESC:Events for The Dirt
REFRESH-INTERVAL;VALUE=DURATION:PT1H
X-Robots-Tag:noindex
X-PUBLISHED-TTL:PT1H
BEGIN:VTIMEZONE
TZID:America/Los_Angeles
BEGIN:DAYLIGHT
TZOFFSETFROM:-0800
TZOFFSETTO:-0700
TZNAME:PDT
DTSTART:20250309T100000
END:DAYLIGHT
BEGIN:STANDARD
TZOFFSETFROM:-0700
TZOFFSETTO:-0800
TZNAME:PST
DTSTART:20251102T090000
END:STANDARD
BEGIN:DAYLIGHT
TZOFFSETFROM:-0800
TZOFFSETTO:-0700
TZNAME:PDT
DTSTART:20260308T100000
END:DAYLIGHT
BEGIN:STANDARD
TZOFFSETFROM:-0700
TZOFFSETTO:-0800
TZNAME:PST
DTSTART:20261101T090000
END:STANDARD
BEGIN:DAYLIGHT
TZOFFSETFROM:-0800
TZOFFSETTO:-0700
TZNAME:PDT
DTSTART:20270314T100000
END:DAYLIGHT
BEGIN:STANDARD
TZOFFSETFROM:-0700
TZOFFSETTO:-0800
TZNAME:PST
DTSTART:20271107T090000
END:STANDARD
END:VTIMEZONE
BEGIN:VEVENT
DTSTART;TZID=America/Los_Angeles:20260415T100000
DTEND;TZID=America/Los_Angeles:20260415T113000
DTSTAMP:20260421T175738
CREATED:20260217T024901Z
LAST-MODIFIED:20260217T024901Z
UID:10074764-1776247200-1776252600@thedirt.online
SUMMARY:UpENDing Parkinson's at Rocknasium
DESCRIPTION:UpENDing Parkinson’s at Rocknasium \nWednesdays\, 10-11:30 AM \nRocknasium is hosting UpENDing Parkinson’s\, a non-profit that provides guided rock climbing to those living with Parkinson’s. Entrance is free\, and rental gear is $10. Those interested may register as a climber here.
URL:https://thedirt.online/event/upending-parkinsons-at-rocknasium/2026-04-15/
LOCATION:Rocknasium the Climbing Gym\, 720 Olive Drive\, Suite S\, Davis\, 95616\, United States
CATEGORIES:Community,Fitness
ATTACH;FMTTYPE=image/jpeg:https://thedirt.online/wp-content/uploads/2026/02/UpEndPark-6-scaled.jpg
END:VEVENT
BEGIN:VEVENT
DTSTART;TZID=America/Los_Angeles:20260408T100000
DTEND;TZID=America/Los_Angeles:20260408T113000
DTSTAMP:20260421T175738
CREATED:20260217T024901Z
LAST-MODIFIED:20260217T024901Z
UID:10074763-1775642400-1775647800@thedirt.online
SUMMARY:UpENDing Parkinson's at Rocknasium
DESCRIPTION:UpENDing Parkinson’s at Rocknasium \nWednesdays\, 10-11:30 AM \nRocknasium is hosting UpENDing Parkinson’s\, a non-profit that provides guided rock climbing to those living with Parkinson’s. Entrance is free\, and rental gear is $10. Those interested may register as a climber here.
URL:https://thedirt.online/event/upending-parkinsons-at-rocknasium/2026-04-08/
LOCATION:Rocknasium the Climbing Gym\, 720 Olive Drive\, Suite S\, Davis\, 95616\, United States
CATEGORIES:Community,Fitness
ATTACH;FMTTYPE=image/jpeg:https://thedirt.online/wp-content/uploads/2026/02/UpEndPark-6-scaled.jpg
END:VEVENT
BEGIN:VEVENT
DTSTART;TZID=America/Los_Angeles:20260401T100000
DTEND;TZID=America/Los_Angeles:20260401T113000
DTSTAMP:20260421T175738
CREATED:20260217T024901Z
LAST-MODIFIED:20260217T024901Z
UID:10074762-1775037600-1775043000@thedirt.online
SUMMARY:UpENDing Parkinson's at Rocknasium
DESCRIPTION:UpENDing Parkinson’s at Rocknasium \nWednesdays\, 10-11:30 AM \nRocknasium is hosting UpENDing Parkinson’s\, a non-profit that provides guided rock climbing to those living with Parkinson’s. Entrance is free\, and rental gear is $10. Those interested may register as a climber here.
URL:https://thedirt.online/event/upending-parkinsons-at-rocknasium/2026-04-01/
LOCATION:Rocknasium the Climbing Gym\, 720 Olive Drive\, Suite S\, Davis\, 95616\, United States
CATEGORIES:Community,Fitness
ATTACH;FMTTYPE=image/jpeg:https://thedirt.online/wp-content/uploads/2026/02/UpEndPark-6-scaled.jpg
END:VEVENT
BEGIN:VEVENT
DTSTART;TZID=America/Los_Angeles:20260331T183000
DTEND;TZID=America/Los_Angeles:20260331T220000
DTSTAMP:20260421T175738
CREATED:20260214T183734Z
LAST-MODIFIED:20260225T002957Z
UID:10074736-1774981800-1774994400@thedirt.online
SUMMARY:The Banff Mountain Film Festival Showing
DESCRIPTION:Rocknasium is excited to host another evening showing of the Banff Mountain Film Festival. The evening will feature showings of multiple award-winning films that explore adventure\, environmental issues\, and action sports. There will be a prize draw during intermission with prizes from Banff international sponsors and local Davis sponsors. Doors open at 6:30pm and films start roughly at 7pm.
URL:https://thedirt.online/event/the-banff-mountain-film-festival-showing/
LOCATION:Richard Brunelle Performance Hall\, 315 W 14th Street\, Davis\, CA\, 95616\, United States
CATEGORIES:Athletics,Bring the Kids,Fitness,Screen,Sports
ATTACH;FMTTYPE=image/jpeg:https://thedirt.online/wp-content/uploads/2026/02/WT-NA-IG_Post-1080x1080_25.jpg
GEO:38.55717;-121.7501789
X-APPLE-STRUCTURED-LOCATION;VALUE=URI;X-ADDRESS=Richard Brunelle Performance Hall 315 W 14th Street Davis CA 95616 United States;X-APPLE-RADIUS=500;X-TITLE=315 W 14th Street:geo:-121.7501789,38.55717
END:VEVENT
BEGIN:VEVENT
DTSTART;TZID=America/Los_Angeles:20260325T100000
DTEND;TZID=America/Los_Angeles:20260325T113000
DTSTAMP:20260421T175738
CREATED:20260217T024901Z
LAST-MODIFIED:20260217T024901Z
UID:10074761-1774432800-1774438200@thedirt.online
SUMMARY:UpENDing Parkinson's at Rocknasium
DESCRIPTION:UpENDing Parkinson’s at Rocknasium \nWednesdays\, 10-11:30 AM \nRocknasium is hosting UpENDing Parkinson’s\, a non-profit that provides guided rock climbing to those living with Parkinson’s. Entrance is free\, and rental gear is $10. Those interested may register as a climber here.
URL:https://thedirt.online/event/upending-parkinsons-at-rocknasium/2026-03-25/
LOCATION:Rocknasium the Climbing Gym\, 720 Olive Drive\, Suite S\, Davis\, 95616\, United States
CATEGORIES:Community,Fitness
ATTACH;FMTTYPE=image/jpeg:https://thedirt.online/wp-content/uploads/2026/02/UpEndPark-6-scaled.jpg
END:VEVENT
BEGIN:VEVENT
DTSTART;TZID=America/Los_Angeles:20260318T100000
DTEND;TZID=America/Los_Angeles:20260318T113000
DTSTAMP:20260421T175738
CREATED:20260217T024901Z
LAST-MODIFIED:20260217T024901Z
UID:10074760-1773828000-1773833400@thedirt.online
SUMMARY:UpENDing Parkinson's at Rocknasium
DESCRIPTION:UpENDing Parkinson’s at Rocknasium \nWednesdays\, 10-11:30 AM \nRocknasium is hosting UpENDing Parkinson’s\, a non-profit that provides guided rock climbing to those living with Parkinson’s. Entrance is free\, and rental gear is $10. Those interested may register as a climber here.
URL:https://thedirt.online/event/upending-parkinsons-at-rocknasium/2026-03-18/
LOCATION:Rocknasium the Climbing Gym\, 720 Olive Drive\, Suite S\, Davis\, 95616\, United States
CATEGORIES:Community,Fitness
ATTACH;FMTTYPE=image/jpeg:https://thedirt.online/wp-content/uploads/2026/02/UpEndPark-6-scaled.jpg
END:VEVENT
BEGIN:VEVENT
DTSTART;TZID=America/Los_Angeles:20260311T100000
DTEND;TZID=America/Los_Angeles:20260311T113000
DTSTAMP:20260421T175738
CREATED:20260224T235946Z
LAST-MODIFIED:20260224T235948Z
UID:10074759-1773223200-1773228600@thedirt.online
SUMMARY:UpENDing Parkinson's at Rocknasium
DESCRIPTION:UpENDing Parkinson’s at Rocknasium \nWednesdays\, 10-11:30 AM \nRocknasium is hosting UpENDing Parkinson’s\, a non-profit that provides guided rock climbing to those living with Parkinson’s. Entrance is free\, and rental gear is $10. Those interested may register as a climber here.
URL:https://thedirt.online/event/upending-parkinsons-at-rocknasium-2/
LOCATION:Rocknasium the Climbing Gym\, 720 Olive Drive\, Suite S\, Davis\, 95616\, United States
CATEGORIES:Community,Fitness
ATTACH;FMTTYPE=image/jpeg:https://thedirt.online/wp-content/uploads/2026/02/UpEndPark-6-scaled.jpg
END:VEVENT
BEGIN:VEVENT
DTSTART;TZID=America/Los_Angeles:20260304T100000
DTEND;TZID=America/Los_Angeles:20260304T113000
DTSTAMP:20260421T175738
CREATED:20260217T024901Z
LAST-MODIFIED:20260217T024901Z
UID:10074758-1772618400-1772623800@thedirt.online
SUMMARY:UpENDing Parkinson's at Rocknasium
DESCRIPTION:UpENDing Parkinson’s at Rocknasium \nWednesdays\, 10-11:30 AM \nRocknasium is hosting UpENDing Parkinson’s\, a non-profit that provides guided rock climbing to those living with Parkinson’s. Entrance is free\, and rental gear is $10. Those interested may register as a climber here.
URL:https://thedirt.online/event/upending-parkinsons-at-rocknasium/2026-03-04/
LOCATION:Rocknasium the Climbing Gym\, 720 Olive Drive\, Suite S\, Davis\, 95616\, United States
CATEGORIES:Community,Fitness
ATTACH;FMTTYPE=image/jpeg:https://thedirt.online/wp-content/uploads/2026/02/UpEndPark-6-scaled.jpg
END:VEVENT
BEGIN:VEVENT
DTSTART;TZID=America/Los_Angeles:20260225T100000
DTEND;TZID=America/Los_Angeles:20260225T113000
DTSTAMP:20260421T175738
CREATED:20260217T024901Z
LAST-MODIFIED:20260217T024901Z
UID:10074757-1772013600-1772019000@thedirt.online
SUMMARY:UpENDing Parkinson's at Rocknasium
DESCRIPTION:UpENDing Parkinson’s at Rocknasium \nWednesdays\, 10-11:30 AM \nRocknasium is hosting UpENDing Parkinson’s\, a non-profit that provides guided rock climbing to those living with Parkinson’s. Entrance is free\, and rental gear is $10. Those interested may register as a climber here.
URL:https://thedirt.online/event/upending-parkinsons-at-rocknasium/2026-02-25/
LOCATION:Rocknasium the Climbing Gym\, 720 Olive Drive\, Suite S\, Davis\, 95616\, United States
CATEGORIES:Community,Fitness
ATTACH;FMTTYPE=image/jpeg:https://thedirt.online/wp-content/uploads/2026/02/UpEndPark-6-scaled.jpg
END:VEVENT
BEGIN:VEVENT
DTSTART;TZID=America/Los_Angeles:20260218T100000
DTEND;TZID=America/Los_Angeles:20260218T113000
DTSTAMP:20260421T175738
CREATED:20260217T024901Z
LAST-MODIFIED:20260217T024901Z
UID:10074756-1771408800-1771414200@thedirt.online
SUMMARY:UpENDing Parkinson's at Rocknasium
DESCRIPTION:UpENDing Parkinson’s at Rocknasium \nWednesdays\, 10-11:30 AM \nRocknasium is hosting UpENDing Parkinson’s\, a non-profit that provides guided rock climbing to those living with Parkinson’s. Entrance is free\, and rental gear is $10. Those interested may register as a climber here.
URL:https://thedirt.online/event/upending-parkinsons-at-rocknasium/2026-02-18/
LOCATION:Rocknasium the Climbing Gym\, 720 Olive Drive\, Suite S\, Davis\, 95616\, United States
CATEGORIES:Community,Fitness
ATTACH;FMTTYPE=image/jpeg:https://thedirt.online/wp-content/uploads/2026/02/UpEndPark-6-scaled.jpg
END:VEVENT
END:VCALENDAR