BEGIN:VCALENDAR
VERSION:2.0
PRODID:-//The Dirt - ECPv6.15.20//NONSGML v1.0//EN
CALSCALE:GREGORIAN
METHOD:PUBLISH
X-WR-CALNAME:The Dirt
X-ORIGINAL-URL:https://thedirt.online
X-WR-CALDESC:Events for The Dirt
REFRESH-INTERVAL;VALUE=DURATION:PT1H
X-Robots-Tag:noindex
X-PUBLISHED-TTL:PT1H
BEGIN:VTIMEZONE
TZID:America/Los_Angeles
BEGIN:DAYLIGHT
TZOFFSETFROM:-0800
TZOFFSETTO:-0700
TZNAME:PDT
DTSTART:20260308T100000
END:DAYLIGHT
BEGIN:STANDARD
TZOFFSETFROM:-0700
TZOFFSETTO:-0800
TZNAME:PST
DTSTART:20261101T090000
END:STANDARD
BEGIN:DAYLIGHT
TZOFFSETFROM:-0800
TZOFFSETTO:-0700
TZNAME:PDT
DTSTART:20270314T100000
END:DAYLIGHT
BEGIN:STANDARD
TZOFFSETFROM:-0700
TZOFFSETTO:-0800
TZNAME:PST
DTSTART:20271107T090000
END:STANDARD
BEGIN:DAYLIGHT
TZOFFSETFROM:-0800
TZOFFSETTO:-0700
TZNAME:PDT
DTSTART:20280312T100000
END:DAYLIGHT
BEGIN:STANDARD
TZOFFSETFROM:-0700
TZOFFSETTO:-0800
TZNAME:PST
DTSTART:20281105T090000
END:STANDARD
BEGIN:DAYLIGHT
TZOFFSETFROM:-0800
TZOFFSETTO:-0700
TZNAME:PDT
DTSTART:20290311T100000
END:DAYLIGHT
BEGIN:STANDARD
TZOFFSETFROM:-0700
TZOFFSETTO:-0800
TZNAME:PST
DTSTART:20291104T090000
END:STANDARD
BEGIN:DAYLIGHT
TZOFFSETFROM:-0800
TZOFFSETTO:-0700
TZNAME:PDT
DTSTART:20300310T100000
END:DAYLIGHT
BEGIN:STANDARD
TZOFFSETFROM:-0700
TZOFFSETTO:-0800
TZNAME:PST
DTSTART:20301103T090000
END:STANDARD
END:VTIMEZONE
BEGIN:VEVENT
DTSTART;TZID=America/Los_Angeles:20270328T180000
DTEND;TZID=America/Los_Angeles:20270328T200000
DTSTAMP:20260425T051636
CREATED:20250912T191806Z
LAST-MODIFIED:20250912T191923Z
UID:10064748-1806256800-1806264000@thedirt.online
SUMMARY:Davis Queer Teen Group
DESCRIPTION:Davis Queer Teen Group \nOn the 4th Sunday of every month \n  \n\n\n\n\nOur mission is to provide a safe space to support\, educate\, reach out to and inspire people of all genders and orientations in and around Davis. Meetings are everything from support groups to educational lectures and community events. To join us\, email admin3@davisphoenixco.org
URL:https://thedirt.online/event/davis-queer-teen-group/2027-03-28/
CATEGORIES:Community
ATTACH;FMTTYPE=image/png:https://thedirt.online/wp-content/uploads/2025/09/Screenshot-2025-09-12-at-12.09.27-PM.png
ORGANIZER;CN="Davis Phoenix Coalition":MAILTO:admin@davisphoenixco.org
END:VEVENT
BEGIN:VEVENT
DTSTART;TZID=America/Los_Angeles:20270425T180000
DTEND;TZID=America/Los_Angeles:20270425T200000
DTSTAMP:20260425T051636
CREATED:20250912T191806Z
LAST-MODIFIED:20250912T191923Z
UID:10064749-1808676000-1808683200@thedirt.online
SUMMARY:Davis Queer Teen Group
DESCRIPTION:Davis Queer Teen Group \nOn the 4th Sunday of every month \n  \n\n\n\n\nOur mission is to provide a safe space to support\, educate\, reach out to and inspire people of all genders and orientations in and around Davis. Meetings are everything from support groups to educational lectures and community events. To join us\, email admin3@davisphoenixco.org
URL:https://thedirt.online/event/davis-queer-teen-group/2027-04-25/
CATEGORIES:Community
ATTACH;FMTTYPE=image/png:https://thedirt.online/wp-content/uploads/2025/09/Screenshot-2025-09-12-at-12.09.27-PM.png
ORGANIZER;CN="Davis Phoenix Coalition":MAILTO:admin@davisphoenixco.org
END:VEVENT
BEGIN:VEVENT
DTSTART;TZID=America/Los_Angeles:20270523T180000
DTEND;TZID=America/Los_Angeles:20270523T200000
DTSTAMP:20260425T051636
CREATED:20250912T191806Z
LAST-MODIFIED:20250912T191923Z
UID:10064750-1811095200-1811102400@thedirt.online
SUMMARY:Davis Queer Teen Group
DESCRIPTION:Davis Queer Teen Group \nOn the 4th Sunday of every month \n  \n\n\n\n\nOur mission is to provide a safe space to support\, educate\, reach out to and inspire people of all genders and orientations in and around Davis. Meetings are everything from support groups to educational lectures and community events. To join us\, email admin3@davisphoenixco.org
URL:https://thedirt.online/event/davis-queer-teen-group/2027-05-23/
CATEGORIES:Community
ATTACH;FMTTYPE=image/png:https://thedirt.online/wp-content/uploads/2025/09/Screenshot-2025-09-12-at-12.09.27-PM.png
ORGANIZER;CN="Davis Phoenix Coalition":MAILTO:admin@davisphoenixco.org
END:VEVENT
BEGIN:VEVENT
DTSTART;TZID=America/Los_Angeles:20270627T180000
DTEND;TZID=America/Los_Angeles:20270627T200000
DTSTAMP:20260425T051636
CREATED:20250912T191806Z
LAST-MODIFIED:20250912T191923Z
UID:10064751-1814119200-1814126400@thedirt.online
SUMMARY:Davis Queer Teen Group
DESCRIPTION:Davis Queer Teen Group \nOn the 4th Sunday of every month \n  \n\n\n\n\nOur mission is to provide a safe space to support\, educate\, reach out to and inspire people of all genders and orientations in and around Davis. Meetings are everything from support groups to educational lectures and community events. To join us\, email admin3@davisphoenixco.org
URL:https://thedirt.online/event/davis-queer-teen-group/2027-06-27/
CATEGORIES:Community
ATTACH;FMTTYPE=image/png:https://thedirt.online/wp-content/uploads/2025/09/Screenshot-2025-09-12-at-12.09.27-PM.png
ORGANIZER;CN="Davis Phoenix Coalition":MAILTO:admin@davisphoenixco.org
END:VEVENT
BEGIN:VEVENT
DTSTART;TZID=America/Los_Angeles:20270725T180000
DTEND;TZID=America/Los_Angeles:20270725T200000
DTSTAMP:20260425T051636
CREATED:20250912T191806Z
LAST-MODIFIED:20250912T191923Z
UID:10064752-1816538400-1816545600@thedirt.online
SUMMARY:Davis Queer Teen Group
DESCRIPTION:Davis Queer Teen Group \nOn the 4th Sunday of every month \n  \n\n\n\n\nOur mission is to provide a safe space to support\, educate\, reach out to and inspire people of all genders and orientations in and around Davis. Meetings are everything from support groups to educational lectures and community events. To join us\, email admin3@davisphoenixco.org
URL:https://thedirt.online/event/davis-queer-teen-group/2027-07-25/
CATEGORIES:Community
ATTACH;FMTTYPE=image/png:https://thedirt.online/wp-content/uploads/2025/09/Screenshot-2025-09-12-at-12.09.27-PM.png
ORGANIZER;CN="Davis Phoenix Coalition":MAILTO:admin@davisphoenixco.org
END:VEVENT
BEGIN:VEVENT
DTSTART;TZID=America/Los_Angeles:20270822T180000
DTEND;TZID=America/Los_Angeles:20270822T200000
DTSTAMP:20260425T051636
CREATED:20250912T191806Z
LAST-MODIFIED:20250912T191923Z
UID:10064753-1818957600-1818964800@thedirt.online
SUMMARY:Davis Queer Teen Group
DESCRIPTION:Davis Queer Teen Group \nOn the 4th Sunday of every month \n  \n\n\n\n\nOur mission is to provide a safe space to support\, educate\, reach out to and inspire people of all genders and orientations in and around Davis. Meetings are everything from support groups to educational lectures and community events. To join us\, email admin3@davisphoenixco.org
URL:https://thedirt.online/event/davis-queer-teen-group/2027-08-22/
CATEGORIES:Community
ATTACH;FMTTYPE=image/png:https://thedirt.online/wp-content/uploads/2025/09/Screenshot-2025-09-12-at-12.09.27-PM.png
ORGANIZER;CN="Davis Phoenix Coalition":MAILTO:admin@davisphoenixco.org
END:VEVENT
BEGIN:VEVENT
DTSTART;TZID=America/Los_Angeles:20270926T180000
DTEND;TZID=America/Los_Angeles:20270926T200000
DTSTAMP:20260425T051636
CREATED:20250912T191806Z
LAST-MODIFIED:20250912T191923Z
UID:10064754-1821981600-1821988800@thedirt.online
SUMMARY:Davis Queer Teen Group
DESCRIPTION:Davis Queer Teen Group \nOn the 4th Sunday of every month \n  \n\n\n\n\nOur mission is to provide a safe space to support\, educate\, reach out to and inspire people of all genders and orientations in and around Davis. Meetings are everything from support groups to educational lectures and community events. To join us\, email admin3@davisphoenixco.org
URL:https://thedirt.online/event/davis-queer-teen-group/2027-09-26/
CATEGORIES:Community
ATTACH;FMTTYPE=image/png:https://thedirt.online/wp-content/uploads/2025/09/Screenshot-2025-09-12-at-12.09.27-PM.png
ORGANIZER;CN="Davis Phoenix Coalition":MAILTO:admin@davisphoenixco.org
END:VEVENT
BEGIN:VEVENT
DTSTART;TZID=America/Los_Angeles:20271024T180000
DTEND;TZID=America/Los_Angeles:20271024T200000
DTSTAMP:20260425T051636
CREATED:20250912T191806Z
LAST-MODIFIED:20250912T191923Z
UID:10064755-1824400800-1824408000@thedirt.online
SUMMARY:Davis Queer Teen Group
DESCRIPTION:Davis Queer Teen Group \nOn the 4th Sunday of every month \n  \n\n\n\n\nOur mission is to provide a safe space to support\, educate\, reach out to and inspire people of all genders and orientations in and around Davis. Meetings are everything from support groups to educational lectures and community events. To join us\, email admin3@davisphoenixco.org
URL:https://thedirt.online/event/davis-queer-teen-group/2027-10-24/
CATEGORIES:Community
ATTACH;FMTTYPE=image/png:https://thedirt.online/wp-content/uploads/2025/09/Screenshot-2025-09-12-at-12.09.27-PM.png
ORGANIZER;CN="Davis Phoenix Coalition":MAILTO:admin@davisphoenixco.org
END:VEVENT
BEGIN:VEVENT
DTSTART;TZID=America/Los_Angeles:20271128T180000
DTEND;TZID=America/Los_Angeles:20271128T200000
DTSTAMP:20260425T051636
CREATED:20250912T191806Z
LAST-MODIFIED:20250912T191923Z
UID:10064756-1827424800-1827432000@thedirt.online
SUMMARY:Davis Queer Teen Group
DESCRIPTION:Davis Queer Teen Group \nOn the 4th Sunday of every month \n  \n\n\n\n\nOur mission is to provide a safe space to support\, educate\, reach out to and inspire people of all genders and orientations in and around Davis. Meetings are everything from support groups to educational lectures and community events. To join us\, email admin3@davisphoenixco.org
URL:https://thedirt.online/event/davis-queer-teen-group/2027-11-28/
CATEGORIES:Community
ATTACH;FMTTYPE=image/png:https://thedirt.online/wp-content/uploads/2025/09/Screenshot-2025-09-12-at-12.09.27-PM.png
ORGANIZER;CN="Davis Phoenix Coalition":MAILTO:admin@davisphoenixco.org
END:VEVENT
BEGIN:VEVENT
DTSTART;TZID=America/Los_Angeles:20271226T180000
DTEND;TZID=America/Los_Angeles:20271226T200000
DTSTAMP:20260425T051636
CREATED:20250912T191806Z
LAST-MODIFIED:20250912T191923Z
UID:10064757-1829844000-1829851200@thedirt.online
SUMMARY:Davis Queer Teen Group
DESCRIPTION:Davis Queer Teen Group \nOn the 4th Sunday of every month \n  \n\n\n\n\nOur mission is to provide a safe space to support\, educate\, reach out to and inspire people of all genders and orientations in and around Davis. Meetings are everything from support groups to educational lectures and community events. To join us\, email admin3@davisphoenixco.org
URL:https://thedirt.online/event/davis-queer-teen-group/2027-12-26/
CATEGORIES:Community
ATTACH;FMTTYPE=image/png:https://thedirt.online/wp-content/uploads/2025/09/Screenshot-2025-09-12-at-12.09.27-PM.png
ORGANIZER;CN="Davis Phoenix Coalition":MAILTO:admin@davisphoenixco.org
END:VEVENT
BEGIN:VEVENT
DTSTART;TZID=America/Los_Angeles:20280123T180000
DTEND;TZID=America/Los_Angeles:20280123T200000
DTSTAMP:20260425T051636
CREATED:20250912T191806Z
LAST-MODIFIED:20250912T191923Z
UID:10064758-1832263200-1832270400@thedirt.online
SUMMARY:Davis Queer Teen Group
DESCRIPTION:Davis Queer Teen Group \nOn the 4th Sunday of every month \n  \n\n\n\n\nOur mission is to provide a safe space to support\, educate\, reach out to and inspire people of all genders and orientations in and around Davis. Meetings are everything from support groups to educational lectures and community events. To join us\, email admin3@davisphoenixco.org
URL:https://thedirt.online/event/davis-queer-teen-group/2028-01-23/
CATEGORIES:Community
ATTACH;FMTTYPE=image/png:https://thedirt.online/wp-content/uploads/2025/09/Screenshot-2025-09-12-at-12.09.27-PM.png
ORGANIZER;CN="Davis Phoenix Coalition":MAILTO:admin@davisphoenixco.org
END:VEVENT
BEGIN:VEVENT
DTSTART;TZID=America/Los_Angeles:20280227T180000
DTEND;TZID=America/Los_Angeles:20280227T200000
DTSTAMP:20260425T051636
CREATED:20250912T191806Z
LAST-MODIFIED:20250912T191923Z
UID:10064759-1835287200-1835294400@thedirt.online
SUMMARY:Davis Queer Teen Group
DESCRIPTION:Davis Queer Teen Group \nOn the 4th Sunday of every month \n  \n\n\n\n\nOur mission is to provide a safe space to support\, educate\, reach out to and inspire people of all genders and orientations in and around Davis. Meetings are everything from support groups to educational lectures and community events. To join us\, email admin3@davisphoenixco.org
URL:https://thedirt.online/event/davis-queer-teen-group/2028-02-27/
CATEGORIES:Community
ATTACH;FMTTYPE=image/png:https://thedirt.online/wp-content/uploads/2025/09/Screenshot-2025-09-12-at-12.09.27-PM.png
ORGANIZER;CN="Davis Phoenix Coalition":MAILTO:admin@davisphoenixco.org
END:VEVENT
BEGIN:VEVENT
DTSTART;TZID=America/Los_Angeles:20280326T180000
DTEND;TZID=America/Los_Angeles:20280326T200000
DTSTAMP:20260425T051636
CREATED:20250912T191806Z
LAST-MODIFIED:20250912T191923Z
UID:10064760-1837706400-1837713600@thedirt.online
SUMMARY:Davis Queer Teen Group
DESCRIPTION:Davis Queer Teen Group \nOn the 4th Sunday of every month \n  \n\n\n\n\nOur mission is to provide a safe space to support\, educate\, reach out to and inspire people of all genders and orientations in and around Davis. Meetings are everything from support groups to educational lectures and community events. To join us\, email admin3@davisphoenixco.org
URL:https://thedirt.online/event/davis-queer-teen-group/2028-03-26/
CATEGORIES:Community
ATTACH;FMTTYPE=image/png:https://thedirt.online/wp-content/uploads/2025/09/Screenshot-2025-09-12-at-12.09.27-PM.png
ORGANIZER;CN="Davis Phoenix Coalition":MAILTO:admin@davisphoenixco.org
END:VEVENT
BEGIN:VEVENT
DTSTART;TZID=America/Los_Angeles:20280423T180000
DTEND;TZID=America/Los_Angeles:20280423T200000
DTSTAMP:20260425T051636
CREATED:20250912T191806Z
LAST-MODIFIED:20250912T191923Z
UID:10064761-1840125600-1840132800@thedirt.online
SUMMARY:Davis Queer Teen Group
DESCRIPTION:Davis Queer Teen Group \nOn the 4th Sunday of every month \n  \n\n\n\n\nOur mission is to provide a safe space to support\, educate\, reach out to and inspire people of all genders and orientations in and around Davis. Meetings are everything from support groups to educational lectures and community events. To join us\, email admin3@davisphoenixco.org
URL:https://thedirt.online/event/davis-queer-teen-group/2028-04-23/
CATEGORIES:Community
ATTACH;FMTTYPE=image/png:https://thedirt.online/wp-content/uploads/2025/09/Screenshot-2025-09-12-at-12.09.27-PM.png
ORGANIZER;CN="Davis Phoenix Coalition":MAILTO:admin@davisphoenixco.org
END:VEVENT
BEGIN:VEVENT
DTSTART;TZID=America/Los_Angeles:20280528T180000
DTEND;TZID=America/Los_Angeles:20280528T200000
DTSTAMP:20260425T051636
CREATED:20250912T191806Z
LAST-MODIFIED:20250912T191923Z
UID:10064762-1843149600-1843156800@thedirt.online
SUMMARY:Davis Queer Teen Group
DESCRIPTION:Davis Queer Teen Group \nOn the 4th Sunday of every month \n  \n\n\n\n\nOur mission is to provide a safe space to support\, educate\, reach out to and inspire people of all genders and orientations in and around Davis. Meetings are everything from support groups to educational lectures and community events. To join us\, email admin3@davisphoenixco.org
URL:https://thedirt.online/event/davis-queer-teen-group/2028-05-28/
CATEGORIES:Community
ATTACH;FMTTYPE=image/png:https://thedirt.online/wp-content/uploads/2025/09/Screenshot-2025-09-12-at-12.09.27-PM.png
ORGANIZER;CN="Davis Phoenix Coalition":MAILTO:admin@davisphoenixco.org
END:VEVENT
BEGIN:VEVENT
DTSTART;TZID=America/Los_Angeles:20280625T180000
DTEND;TZID=America/Los_Angeles:20280625T200000
DTSTAMP:20260425T051636
CREATED:20250912T191806Z
LAST-MODIFIED:20250912T191923Z
UID:10064763-1845568800-1845576000@thedirt.online
SUMMARY:Davis Queer Teen Group
DESCRIPTION:Davis Queer Teen Group \nOn the 4th Sunday of every month \n  \n\n\n\n\nOur mission is to provide a safe space to support\, educate\, reach out to and inspire people of all genders and orientations in and around Davis. Meetings are everything from support groups to educational lectures and community events. To join us\, email admin3@davisphoenixco.org
URL:https://thedirt.online/event/davis-queer-teen-group/2028-06-25/
CATEGORIES:Community
ATTACH;FMTTYPE=image/png:https://thedirt.online/wp-content/uploads/2025/09/Screenshot-2025-09-12-at-12.09.27-PM.png
ORGANIZER;CN="Davis Phoenix Coalition":MAILTO:admin@davisphoenixco.org
END:VEVENT
BEGIN:VEVENT
DTSTART;TZID=America/Los_Angeles:20280723T180000
DTEND;TZID=America/Los_Angeles:20280723T200000
DTSTAMP:20260425T051636
CREATED:20250912T191806Z
LAST-MODIFIED:20250912T191923Z
UID:10064764-1847988000-1847995200@thedirt.online
SUMMARY:Davis Queer Teen Group
DESCRIPTION:Davis Queer Teen Group \nOn the 4th Sunday of every month \n  \n\n\n\n\nOur mission is to provide a safe space to support\, educate\, reach out to and inspire people of all genders and orientations in and around Davis. Meetings are everything from support groups to educational lectures and community events. To join us\, email admin3@davisphoenixco.org
URL:https://thedirt.online/event/davis-queer-teen-group/2028-07-23/
CATEGORIES:Community
ATTACH;FMTTYPE=image/png:https://thedirt.online/wp-content/uploads/2025/09/Screenshot-2025-09-12-at-12.09.27-PM.png
ORGANIZER;CN="Davis Phoenix Coalition":MAILTO:admin@davisphoenixco.org
END:VEVENT
BEGIN:VEVENT
DTSTART;TZID=America/Los_Angeles:20280827T180000
DTEND;TZID=America/Los_Angeles:20280827T200000
DTSTAMP:20260425T051636
CREATED:20250912T191806Z
LAST-MODIFIED:20250912T191923Z
UID:10064765-1851012000-1851019200@thedirt.online
SUMMARY:Davis Queer Teen Group
DESCRIPTION:Davis Queer Teen Group \nOn the 4th Sunday of every month \n  \n\n\n\n\nOur mission is to provide a safe space to support\, educate\, reach out to and inspire people of all genders and orientations in and around Davis. Meetings are everything from support groups to educational lectures and community events. To join us\, email admin3@davisphoenixco.org
URL:https://thedirt.online/event/davis-queer-teen-group/2028-08-27/
CATEGORIES:Community
ATTACH;FMTTYPE=image/png:https://thedirt.online/wp-content/uploads/2025/09/Screenshot-2025-09-12-at-12.09.27-PM.png
ORGANIZER;CN="Davis Phoenix Coalition":MAILTO:admin@davisphoenixco.org
END:VEVENT
BEGIN:VEVENT
DTSTART;TZID=America/Los_Angeles:20280924T180000
DTEND;TZID=America/Los_Angeles:20280924T200000
DTSTAMP:20260425T051636
CREATED:20250912T191806Z
LAST-MODIFIED:20250912T191923Z
UID:10064766-1853431200-1853438400@thedirt.online
SUMMARY:Davis Queer Teen Group
DESCRIPTION:Davis Queer Teen Group \nOn the 4th Sunday of every month \n  \n\n\n\n\nOur mission is to provide a safe space to support\, educate\, reach out to and inspire people of all genders and orientations in and around Davis. Meetings are everything from support groups to educational lectures and community events. To join us\, email admin3@davisphoenixco.org
URL:https://thedirt.online/event/davis-queer-teen-group/2028-09-24/
CATEGORIES:Community
ATTACH;FMTTYPE=image/png:https://thedirt.online/wp-content/uploads/2025/09/Screenshot-2025-09-12-at-12.09.27-PM.png
ORGANIZER;CN="Davis Phoenix Coalition":MAILTO:admin@davisphoenixco.org
END:VEVENT
BEGIN:VEVENT
DTSTART;TZID=America/Los_Angeles:20281022T180000
DTEND;TZID=America/Los_Angeles:20281022T200000
DTSTAMP:20260425T051636
CREATED:20250912T191806Z
LAST-MODIFIED:20250912T191923Z
UID:10064767-1855850400-1855857600@thedirt.online
SUMMARY:Davis Queer Teen Group
DESCRIPTION:Davis Queer Teen Group \nOn the 4th Sunday of every month \n  \n\n\n\n\nOur mission is to provide a safe space to support\, educate\, reach out to and inspire people of all genders and orientations in and around Davis. Meetings are everything from support groups to educational lectures and community events. To join us\, email admin3@davisphoenixco.org
URL:https://thedirt.online/event/davis-queer-teen-group/2028-10-22/
CATEGORIES:Community
ATTACH;FMTTYPE=image/png:https://thedirt.online/wp-content/uploads/2025/09/Screenshot-2025-09-12-at-12.09.27-PM.png
ORGANIZER;CN="Davis Phoenix Coalition":MAILTO:admin@davisphoenixco.org
END:VEVENT
BEGIN:VEVENT
DTSTART;TZID=America/Los_Angeles:20281126T180000
DTEND;TZID=America/Los_Angeles:20281126T200000
DTSTAMP:20260425T051636
CREATED:20250912T191806Z
LAST-MODIFIED:20250912T191923Z
UID:10064768-1858874400-1858881600@thedirt.online
SUMMARY:Davis Queer Teen Group
DESCRIPTION:Davis Queer Teen Group \nOn the 4th Sunday of every month \n  \n\n\n\n\nOur mission is to provide a safe space to support\, educate\, reach out to and inspire people of all genders and orientations in and around Davis. Meetings are everything from support groups to educational lectures and community events. To join us\, email admin3@davisphoenixco.org
URL:https://thedirt.online/event/davis-queer-teen-group/2028-11-26/
CATEGORIES:Community
ATTACH;FMTTYPE=image/png:https://thedirt.online/wp-content/uploads/2025/09/Screenshot-2025-09-12-at-12.09.27-PM.png
ORGANIZER;CN="Davis Phoenix Coalition":MAILTO:admin@davisphoenixco.org
END:VEVENT
BEGIN:VEVENT
DTSTART;TZID=America/Los_Angeles:20281224T180000
DTEND;TZID=America/Los_Angeles:20281224T200000
DTSTAMP:20260425T051637
CREATED:20250912T191806Z
LAST-MODIFIED:20250912T191923Z
UID:10064769-1861293600-1861300800@thedirt.online
SUMMARY:Davis Queer Teen Group
DESCRIPTION:Davis Queer Teen Group \nOn the 4th Sunday of every month \n  \n\n\n\n\nOur mission is to provide a safe space to support\, educate\, reach out to and inspire people of all genders and orientations in and around Davis. Meetings are everything from support groups to educational lectures and community events. To join us\, email admin3@davisphoenixco.org
URL:https://thedirt.online/event/davis-queer-teen-group/2028-12-24/
CATEGORIES:Community
ATTACH;FMTTYPE=image/png:https://thedirt.online/wp-content/uploads/2025/09/Screenshot-2025-09-12-at-12.09.27-PM.png
ORGANIZER;CN="Davis Phoenix Coalition":MAILTO:admin@davisphoenixco.org
END:VEVENT
BEGIN:VEVENT
DTSTART;TZID=America/Los_Angeles:20290128T180000
DTEND;TZID=America/Los_Angeles:20290128T200000
DTSTAMP:20260425T051637
CREATED:20250912T191806Z
LAST-MODIFIED:20250912T191923Z
UID:10064770-1864317600-1864324800@thedirt.online
SUMMARY:Davis Queer Teen Group
DESCRIPTION:Davis Queer Teen Group \nOn the 4th Sunday of every month \n  \n\n\n\n\nOur mission is to provide a safe space to support\, educate\, reach out to and inspire people of all genders and orientations in and around Davis. Meetings are everything from support groups to educational lectures and community events. To join us\, email admin3@davisphoenixco.org
URL:https://thedirt.online/event/davis-queer-teen-group/2029-01-28/
CATEGORIES:Community
ATTACH;FMTTYPE=image/png:https://thedirt.online/wp-content/uploads/2025/09/Screenshot-2025-09-12-at-12.09.27-PM.png
ORGANIZER;CN="Davis Phoenix Coalition":MAILTO:admin@davisphoenixco.org
END:VEVENT
BEGIN:VEVENT
DTSTART;TZID=America/Los_Angeles:20290225T180000
DTEND;TZID=America/Los_Angeles:20290225T200000
DTSTAMP:20260425T051637
CREATED:20250912T191806Z
LAST-MODIFIED:20250912T191923Z
UID:10064771-1866736800-1866744000@thedirt.online
SUMMARY:Davis Queer Teen Group
DESCRIPTION:Davis Queer Teen Group \nOn the 4th Sunday of every month \n  \n\n\n\n\nOur mission is to provide a safe space to support\, educate\, reach out to and inspire people of all genders and orientations in and around Davis. Meetings are everything from support groups to educational lectures and community events. To join us\, email admin3@davisphoenixco.org
URL:https://thedirt.online/event/davis-queer-teen-group/2029-02-25/
CATEGORIES:Community
ATTACH;FMTTYPE=image/png:https://thedirt.online/wp-content/uploads/2025/09/Screenshot-2025-09-12-at-12.09.27-PM.png
ORGANIZER;CN="Davis Phoenix Coalition":MAILTO:admin@davisphoenixco.org
END:VEVENT
BEGIN:VEVENT
DTSTART;TZID=America/Los_Angeles:20290325T180000
DTEND;TZID=America/Los_Angeles:20290325T200000
DTSTAMP:20260425T051637
CREATED:20250912T191806Z
LAST-MODIFIED:20250912T191923Z
UID:10064772-1869156000-1869163200@thedirt.online
SUMMARY:Davis Queer Teen Group
DESCRIPTION:Davis Queer Teen Group \nOn the 4th Sunday of every month \n  \n\n\n\n\nOur mission is to provide a safe space to support\, educate\, reach out to and inspire people of all genders and orientations in and around Davis. Meetings are everything from support groups to educational lectures and community events. To join us\, email admin3@davisphoenixco.org
URL:https://thedirt.online/event/davis-queer-teen-group/2029-03-25/
CATEGORIES:Community
ATTACH;FMTTYPE=image/png:https://thedirt.online/wp-content/uploads/2025/09/Screenshot-2025-09-12-at-12.09.27-PM.png
ORGANIZER;CN="Davis Phoenix Coalition":MAILTO:admin@davisphoenixco.org
END:VEVENT
BEGIN:VEVENT
DTSTART;TZID=America/Los_Angeles:20290422T180000
DTEND;TZID=America/Los_Angeles:20290422T200000
DTSTAMP:20260425T051637
CREATED:20250912T191806Z
LAST-MODIFIED:20250912T191923Z
UID:10064773-1871575200-1871582400@thedirt.online
SUMMARY:Davis Queer Teen Group
DESCRIPTION:Davis Queer Teen Group \nOn the 4th Sunday of every month \n  \n\n\n\n\nOur mission is to provide a safe space to support\, educate\, reach out to and inspire people of all genders and orientations in and around Davis. Meetings are everything from support groups to educational lectures and community events. To join us\, email admin3@davisphoenixco.org
URL:https://thedirt.online/event/davis-queer-teen-group/2029-04-22/
CATEGORIES:Community
ATTACH;FMTTYPE=image/png:https://thedirt.online/wp-content/uploads/2025/09/Screenshot-2025-09-12-at-12.09.27-PM.png
ORGANIZER;CN="Davis Phoenix Coalition":MAILTO:admin@davisphoenixco.org
END:VEVENT
BEGIN:VEVENT
DTSTART;TZID=America/Los_Angeles:20290527T180000
DTEND;TZID=America/Los_Angeles:20290527T200000
DTSTAMP:20260425T051637
CREATED:20250912T191806Z
LAST-MODIFIED:20250912T191923Z
UID:10064774-1874599200-1874606400@thedirt.online
SUMMARY:Davis Queer Teen Group
DESCRIPTION:Davis Queer Teen Group \nOn the 4th Sunday of every month \n  \n\n\n\n\nOur mission is to provide a safe space to support\, educate\, reach out to and inspire people of all genders and orientations in and around Davis. Meetings are everything from support groups to educational lectures and community events. To join us\, email admin3@davisphoenixco.org
URL:https://thedirt.online/event/davis-queer-teen-group/2029-05-27/
CATEGORIES:Community
ATTACH;FMTTYPE=image/png:https://thedirt.online/wp-content/uploads/2025/09/Screenshot-2025-09-12-at-12.09.27-PM.png
ORGANIZER;CN="Davis Phoenix Coalition":MAILTO:admin@davisphoenixco.org
END:VEVENT
BEGIN:VEVENT
DTSTART;TZID=America/Los_Angeles:20290624T180000
DTEND;TZID=America/Los_Angeles:20290624T200000
DTSTAMP:20260425T051637
CREATED:20250912T191806Z
LAST-MODIFIED:20250912T191923Z
UID:10064775-1877018400-1877025600@thedirt.online
SUMMARY:Davis Queer Teen Group
DESCRIPTION:Davis Queer Teen Group \nOn the 4th Sunday of every month \n  \n\n\n\n\nOur mission is to provide a safe space to support\, educate\, reach out to and inspire people of all genders and orientations in and around Davis. Meetings are everything from support groups to educational lectures and community events. To join us\, email admin3@davisphoenixco.org
URL:https://thedirt.online/event/davis-queer-teen-group/2029-06-24/
CATEGORIES:Community
ATTACH;FMTTYPE=image/png:https://thedirt.online/wp-content/uploads/2025/09/Screenshot-2025-09-12-at-12.09.27-PM.png
ORGANIZER;CN="Davis Phoenix Coalition":MAILTO:admin@davisphoenixco.org
END:VEVENT
BEGIN:VEVENT
DTSTART;TZID=America/Los_Angeles:20290722T180000
DTEND;TZID=America/Los_Angeles:20290722T200000
DTSTAMP:20260425T051637
CREATED:20250912T191806Z
LAST-MODIFIED:20250912T191923Z
UID:10064776-1879437600-1879444800@thedirt.online
SUMMARY:Davis Queer Teen Group
DESCRIPTION:Davis Queer Teen Group \nOn the 4th Sunday of every month \n  \n\n\n\n\nOur mission is to provide a safe space to support\, educate\, reach out to and inspire people of all genders and orientations in and around Davis. Meetings are everything from support groups to educational lectures and community events. To join us\, email admin3@davisphoenixco.org
URL:https://thedirt.online/event/davis-queer-teen-group/2029-07-22/
CATEGORIES:Community
ATTACH;FMTTYPE=image/png:https://thedirt.online/wp-content/uploads/2025/09/Screenshot-2025-09-12-at-12.09.27-PM.png
ORGANIZER;CN="Davis Phoenix Coalition":MAILTO:admin@davisphoenixco.org
END:VEVENT
BEGIN:VEVENT
DTSTART;TZID=America/Los_Angeles:20290826T180000
DTEND;TZID=America/Los_Angeles:20290826T200000
DTSTAMP:20260425T051637
CREATED:20250912T191806Z
LAST-MODIFIED:20250912T191923Z
UID:10064777-1882461600-1882468800@thedirt.online
SUMMARY:Davis Queer Teen Group
DESCRIPTION:Davis Queer Teen Group \nOn the 4th Sunday of every month \n  \n\n\n\n\nOur mission is to provide a safe space to support\, educate\, reach out to and inspire people of all genders and orientations in and around Davis. Meetings are everything from support groups to educational lectures and community events. To join us\, email admin3@davisphoenixco.org
URL:https://thedirt.online/event/davis-queer-teen-group/2029-08-26/
CATEGORIES:Community
ATTACH;FMTTYPE=image/png:https://thedirt.online/wp-content/uploads/2025/09/Screenshot-2025-09-12-at-12.09.27-PM.png
ORGANIZER;CN="Davis Phoenix Coalition":MAILTO:admin@davisphoenixco.org
END:VEVENT
END:VCALENDAR