BEGIN:VCALENDAR
VERSION:2.0
PRODID:-//The Dirt - ECPv6.15.20//NONSGML v1.0//EN
CALSCALE:GREGORIAN
METHOD:PUBLISH
X-WR-CALNAME:The Dirt
X-ORIGINAL-URL:https://thedirt.online
X-WR-CALDESC:Events for The Dirt
REFRESH-INTERVAL;VALUE=DURATION:PT1H
X-Robots-Tag:noindex
X-PUBLISHED-TTL:PT1H
BEGIN:VTIMEZONE
TZID:America/Los_Angeles
BEGIN:DAYLIGHT
TZOFFSETFROM:-0800
TZOFFSETTO:-0700
TZNAME:PDT
DTSTART:20250309T100000
END:DAYLIGHT
BEGIN:STANDARD
TZOFFSETFROM:-0700
TZOFFSETTO:-0800
TZNAME:PST
DTSTART:20251102T090000
END:STANDARD
BEGIN:DAYLIGHT
TZOFFSETFROM:-0800
TZOFFSETTO:-0700
TZNAME:PDT
DTSTART:20260308T100000
END:DAYLIGHT
BEGIN:STANDARD
TZOFFSETFROM:-0700
TZOFFSETTO:-0800
TZNAME:PST
DTSTART:20261101T090000
END:STANDARD
BEGIN:DAYLIGHT
TZOFFSETFROM:-0800
TZOFFSETTO:-0700
TZNAME:PDT
DTSTART:20270314T100000
END:DAYLIGHT
BEGIN:STANDARD
TZOFFSETFROM:-0700
TZOFFSETTO:-0800
TZNAME:PST
DTSTART:20271107T090000
END:STANDARD
END:VTIMEZONE
BEGIN:VEVENT
DTSTART;TZID=America/Los_Angeles:20260419T133000
DTEND;TZID=America/Los_Angeles:20260419T173000
DTSTAMP:20260423T111817
CREATED:20260324T050905Z
LAST-MODIFIED:20260324T200925Z
UID:10077089-1776605400-1776619800@thedirt.online
SUMMARY:Beitna: A Gathering for Arab Heritage\, Culture and Solidarity
DESCRIPTION:Join us on Sunday April 19\, 2026 from 1:30 to 5:30 PM for Arab American Heritage Month at Beitna: A Gathering for Arab Heritage\, Culture\, and Solidarity. Beitna\, meaning “our house” in Arabic\, offers art displays\, cultural performances\, poetry readings\, food\, and crafts\, highlighting the richness of Arab culture. It’s a chance to connect\, learn\, and engage with Arab heritage while fostering community\, solidarity and cultural pride. \n  \nEntrance is free. Please RSVP at tinyurl.com/beitnadavis2026.
URL:https://thedirt.online/event/beitna-a-gathering-for-arab-heritage-culture-and-solidarity/
LOCATION:Davis Senior Center\, 646 A St\, Davis\, CA\, 95616\, United States
CATEGORIES:Community
ATTACH;FMTTYPE=image/png:https://thedirt.online/wp-content/uploads/2026/03/Beitna-2026-Flier-Advert-1.png
ORGANIZER;CN="Davis Arab Community Diwan":MAILTO:davisarabcommunity@gmail.com
GEO:38.5488097;-121.7472407
X-APPLE-STRUCTURED-LOCATION;VALUE=URI;X-ADDRESS=Davis Senior Center 646 A St Davis CA 95616 United States;X-APPLE-RADIUS=500;X-TITLE=646 A St:geo:-121.7472407,38.5488097
END:VEVENT
END:VCALENDAR