BEGIN:VCALENDAR
VERSION:2.0
PRODID:-//The Dirt - ECPv6.15.20//NONSGML v1.0//EN
CALSCALE:GREGORIAN
METHOD:PUBLISH
X-WR-CALNAME:The Dirt
X-ORIGINAL-URL:https://thedirt.online
X-WR-CALDESC:Events for The Dirt
REFRESH-INTERVAL;VALUE=DURATION:PT1H
X-Robots-Tag:noindex
X-PUBLISHED-TTL:PT1H
BEGIN:VTIMEZONE
TZID:America/Los_Angeles
BEGIN:DAYLIGHT
TZOFFSETFROM:-0800
TZOFFSETTO:-0700
TZNAME:PDT
DTSTART:20250309T100000
END:DAYLIGHT
BEGIN:STANDARD
TZOFFSETFROM:-0700
TZOFFSETTO:-0800
TZNAME:PST
DTSTART:20251102T090000
END:STANDARD
BEGIN:DAYLIGHT
TZOFFSETFROM:-0800
TZOFFSETTO:-0700
TZNAME:PDT
DTSTART:20260308T100000
END:DAYLIGHT
BEGIN:STANDARD
TZOFFSETFROM:-0700
TZOFFSETTO:-0800
TZNAME:PST
DTSTART:20261101T090000
END:STANDARD
BEGIN:DAYLIGHT
TZOFFSETFROM:-0800
TZOFFSETTO:-0700
TZNAME:PDT
DTSTART:20270314T100000
END:DAYLIGHT
BEGIN:STANDARD
TZOFFSETFROM:-0700
TZOFFSETTO:-0800
TZNAME:PST
DTSTART:20271107T090000
END:STANDARD
END:VTIMEZONE
BEGIN:VEVENT
DTSTART;TZID=America/Los_Angeles:20260517T120000
DTEND;TZID=America/Los_Angeles:20260517T160000
DTSTAMP:20260423T220424
CREATED:20260422T173306Z
LAST-MODIFIED:20260422T173306Z
UID:10078312-1779019200-1779033600@thedirt.online
SUMMARY:Cool Davis: Home Energy Score Workshop & Home Tours
DESCRIPTION:Cool Davis will host a free Make a Plan / Home Energy Score Workshop at Davis Senior Center; Sunday\, May 17th 12PM – 2:30PM. Electric Home Tours will follow at sites around Davis from 1PM – 4PM; offering attendees a practical\, hands-on opportunity to improve home efficiency\, lower energy costs\, and plan for electrification. \nResidents can register in advance to attend both the workshop and the home tours. Registration and\ninformation can be found under the “NEWS” section at cooldavis.org. \nWith a statewide Home Energy Score program launching 2026\, the event also\nprovides an opportunity for homeowners to understand how scoring works and how to\nprepare for upcoming requirements and opportunities. \n 
URL:https://thedirt.online/event/cool-davis-home-energy-score-workshop-home-tours/
LOCATION:Davis Senior Center\, 646 A St\, Davis\, CA\, 95616\, United States
CATEGORIES:Community
ATTACH;FMTTYPE=image/jpeg:https://thedirt.online/wp-content/uploads/2026/04/MAPsweat.jpg
ORGANIZER;CN="Cool Davis":MAILTO:newseditor@cooldavis.org
GEO:38.5488097;-121.7472407
X-APPLE-STRUCTURED-LOCATION;VALUE=URI;X-ADDRESS=Davis Senior Center 646 A St Davis CA 95616 United States;X-APPLE-RADIUS=500;X-TITLE=646 A St:geo:-121.7472407,38.5488097
END:VEVENT
END:VCALENDAR