BEGIN:VCALENDAR
VERSION:2.0
PRODID:-//The Dirt - ECPv6.15.20//NONSGML v1.0//EN
CALSCALE:GREGORIAN
METHOD:PUBLISH
X-ORIGINAL-URL:https://thedirt.online
X-WR-CALDESC:Events for The Dirt
REFRESH-INTERVAL;VALUE=DURATION:PT1H
X-Robots-Tag:noindex
X-PUBLISHED-TTL:PT1H
BEGIN:VTIMEZONE
TZID:America/Los_Angeles
BEGIN:DAYLIGHT
TZOFFSETFROM:-0800
TZOFFSETTO:-0700
TZNAME:PDT
DTSTART:20250309T100000
END:DAYLIGHT
BEGIN:STANDARD
TZOFFSETFROM:-0700
TZOFFSETTO:-0800
TZNAME:PST
DTSTART:20251102T090000
END:STANDARD
BEGIN:DAYLIGHT
TZOFFSETFROM:-0800
TZOFFSETTO:-0700
TZNAME:PDT
DTSTART:20260308T100000
END:DAYLIGHT
BEGIN:STANDARD
TZOFFSETFROM:-0700
TZOFFSETTO:-0800
TZNAME:PST
DTSTART:20261101T090000
END:STANDARD
BEGIN:DAYLIGHT
TZOFFSETFROM:-0800
TZOFFSETTO:-0700
TZNAME:PDT
DTSTART:20270314T100000
END:DAYLIGHT
BEGIN:STANDARD
TZOFFSETFROM:-0700
TZOFFSETTO:-0800
TZNAME:PST
DTSTART:20271107T090000
END:STANDARD
END:VTIMEZONE
BEGIN:VEVENT
DTSTART;TZID=America/Los_Angeles:20260411T080000
DTEND;TZID=America/Los_Angeles:20260411T130000
DTSTAMP:20260423T231853
CREATED:20260403T154955Z
LAST-MODIFIED:20260403T154955Z
UID:10077216-1775894400-1775912400@thedirt.online
SUMMARY:Heat Pump Showcase at Davis Farmers Market - Cool Davis
DESCRIPTION:Cool Davis is hosting a Heat Pump Demo at the Davis Farmers Market with Electrify My Home; Saturday April 11th 8am-1pm. Stop by and check out an actual Heat Pump. Get your questions answered on heat pump sizing (why do a load calc)\, system types (why inverters)\, panels (do I need to upgrade\, what options are available)\, and more! Free!
URL:https://thedirt.online/event/heat-pump-showcase-at-davis-farmers-market-cool-davis/
LOCATION:Central Park
CATEGORIES:Featured
ATTACH;FMTTYPE=image/png:https://thedirt.online/wp-content/uploads/2026/04/CoolDavis-logo-URL.png
ORGANIZER;CN="Cool Davis":MAILTO:newseditor@cooldavis.org
END:VEVENT
BEGIN:VEVENT
DTSTART;TZID=America/Los_Angeles:20260321T080000
DTEND;TZID=America/Los_Angeles:20260321T130000
DTSTAMP:20260423T231853
CREATED:20260318T010343Z
LAST-MODIFIED:20260318T010343Z
UID:10076403-1774080000-1774098000@thedirt.online
SUMMARY:Transportation Pop Up & Bike Tune Up - Cool Davis
DESCRIPTION:Cool Davis and the Davis Electric Vehicle Association(DEVA) host a transportation showcase at the Davis Farmers Market third Saturdays from 8am to 1pm. Stop by and learn about the ins and outs of sustainable transportation! Free!
URL:https://thedirt.online/event/transportation-pop-up-bike-tune-up-cool-davis/
LOCATION:Central Park
CATEGORIES:Community
ATTACH;FMTTYPE=image/png:https://thedirt.online/wp-content/uploads/2026/03/CoolDavis-logo-URL.png
ORGANIZER;CN="Cool Davis":MAILTO:newseditor@cooldavis.org
END:VEVENT
BEGIN:VEVENT
DTSTART;TZID=America/Los_Angeles:20260124T080000
DTEND;TZID=America/Los_Angeles:20260124T130000
DTSTAMP:20260423T231853
CREATED:20260122T020954Z
LAST-MODIFIED:20260122T020954Z
UID:10072260-1769241600-1769259600@thedirt.online
SUMMARY:Cool Davis Home Energy Pop-Up at the Davis Farmers Market
DESCRIPTION:Stop by the Cool Davis Home Energy Pop-Up at the Davis Farmers Market on Saturday\, January 24th! Our booth will be located at the far end of the market; nearby the carousel. \nGet access to free assistance\, resources\, and helpful materials to support your home energy journey—from efficiency tips to clean energy solutions. Swing by\, ask questions\, and take the next step toward a more comfortable\, energy-smart home. We look forward to seeing you there!
URL:https://thedirt.online/event/cool-davis-home-energy-pop-up-at-the-davis-farmers-market/
LOCATION:Central Park
CATEGORIES:Community
ATTACH;FMTTYPE=image/png:https://thedirt.online/wp-content/uploads/2026/01/CoolDavis-logo-URL.png
ORGANIZER;CN="Cool Davis":MAILTO:newseditor@cooldavis.org
END:VEVENT
END:VCALENDAR