BEGIN:VCALENDAR
VERSION:2.0
PRODID:-//The Dirt - ECPv6.15.20//NONSGML v1.0//EN
CALSCALE:GREGORIAN
METHOD:PUBLISH
X-WR-CALNAME:The Dirt
X-ORIGINAL-URL:https://thedirt.online
X-WR-CALDESC:Events for The Dirt
REFRESH-INTERVAL;VALUE=DURATION:PT1H
X-Robots-Tag:noindex
X-PUBLISHED-TTL:PT1H
BEGIN:VTIMEZONE
TZID:America/Los_Angeles
BEGIN:DAYLIGHT
TZOFFSETFROM:-0800
TZOFFSETTO:-0700
TZNAME:PDT
DTSTART:20250309T100000
END:DAYLIGHT
BEGIN:STANDARD
TZOFFSETFROM:-0700
TZOFFSETTO:-0800
TZNAME:PST
DTSTART:20251102T090000
END:STANDARD
BEGIN:DAYLIGHT
TZOFFSETFROM:-0800
TZOFFSETTO:-0700
TZNAME:PDT
DTSTART:20260308T100000
END:DAYLIGHT
BEGIN:STANDARD
TZOFFSETFROM:-0700
TZOFFSETTO:-0800
TZNAME:PST
DTSTART:20261101T090000
END:STANDARD
BEGIN:DAYLIGHT
TZOFFSETFROM:-0800
TZOFFSETTO:-0700
TZNAME:PDT
DTSTART:20270314T100000
END:DAYLIGHT
BEGIN:STANDARD
TZOFFSETFROM:-0700
TZOFFSETTO:-0800
TZNAME:PST
DTSTART:20271107T090000
END:STANDARD
END:VTIMEZONE
BEGIN:VEVENT
DTSTART;TZID=America/Los_Angeles:20260509T190000
DTEND;TZID=America/Los_Angeles:20260509T203000
DTSTAMP:20260421T091501
CREATED:20260419T180245Z
LAST-MODIFIED:20260419T180245Z
UID:10078295-1778353200-1778358600@thedirt.online
SUMMARY:Davis Local Vocals Spring Concert
DESCRIPTION:The Davis Local Vocals are a teen a cappella quartet. In celebration of their 4th anniversary\, they are holding a Spring concert featuring special guests\, UC Davis Lounge Lizards. Come see the Local Vocals debut new material and re-visit old favorites! \nWe are supported by @cityofdavisarts
URL:https://thedirt.online/event/davis-local-vocals-spring-concert/
LOCATION:Melon Ball – Watermelon Music\, 1970 Lake Blvd\, Suite #1\, Davis\, California\, 95616\, United States
CATEGORIES:Bring the Kids,Community,Music
ORGANIZER;CN="College Town Arts":MAILTO:davislocalvocals@gmail.com
END:VEVENT
END:VCALENDAR