BEGIN:VCALENDAR
VERSION:2.0
PRODID:-//The Dirt - ECPv6.15.20//NONSGML v1.0//EN
CALSCALE:GREGORIAN
METHOD:PUBLISH
X-ORIGINAL-URL:https://thedirt.online
X-WR-CALDESC:Events for The Dirt
REFRESH-INTERVAL;VALUE=DURATION:PT1H
X-Robots-Tag:noindex
X-PUBLISHED-TTL:PT1H
BEGIN:VTIMEZONE
TZID:America/Los_Angeles
BEGIN:DAYLIGHT
TZOFFSETFROM:-0800
TZOFFSETTO:-0700
TZNAME:PDT
DTSTART:20240310T100000
END:DAYLIGHT
BEGIN:STANDARD
TZOFFSETFROM:-0700
TZOFFSETTO:-0800
TZNAME:PST
DTSTART:20241103T090000
END:STANDARD
BEGIN:DAYLIGHT
TZOFFSETFROM:-0800
TZOFFSETTO:-0700
TZNAME:PDT
DTSTART:20250309T100000
END:DAYLIGHT
BEGIN:STANDARD
TZOFFSETFROM:-0700
TZOFFSETTO:-0800
TZNAME:PST
DTSTART:20251102T090000
END:STANDARD
BEGIN:DAYLIGHT
TZOFFSETFROM:-0800
TZOFFSETTO:-0700
TZNAME:PDT
DTSTART:20260308T100000
END:DAYLIGHT
BEGIN:STANDARD
TZOFFSETFROM:-0700
TZOFFSETTO:-0800
TZNAME:PST
DTSTART:20261101T090000
END:STANDARD
BEGIN:DAYLIGHT
TZOFFSETFROM:-0800
TZOFFSETTO:-0700
TZNAME:PDT
DTSTART:20270314T100000
END:DAYLIGHT
BEGIN:STANDARD
TZOFFSETFROM:-0700
TZOFFSETTO:-0800
TZNAME:PST
DTSTART:20271107T090000
END:STANDARD
END:VTIMEZONE
BEGIN:VEVENT
DTSTART;TZID=America/Los_Angeles:20260122T150000
DTEND;TZID=America/Los_Angeles:20260122T163000
DTSTAMP:20260421T151346
CREATED:20251126T064428Z
LAST-MODIFIED:20251202T024110Z
UID:10069066-1769094000-1769099400@thedirt.online
SUMMARY:Line Dance Class at Davis Odd Fellows
DESCRIPTION:Absolute beginner to high beginner dances on Thursdays. Free & open to the public. Donations accepted.
URL:https://thedirt.online/event/line-dance-class-at-davis-odd-fellows-4/2026-01-22/
LOCATION:Davis Odd Fellows
CATEGORIES:Music,Stage & Dance
ATTACH;FMTTYPE=image/jpeg:https://thedirt.online/wp-content/uploads/2025/11/Davis-ODD-FELLOWS-Line-Dance-Flyer-FALL-2025-scaled.jpg
ORGANIZER;CN="Davis Line Dance":MAILTO:davislinedance@gmail.com
END:VEVENT
BEGIN:VEVENT
DTSTART;TZID=America/Los_Angeles:20260122T120000
DTEND;TZID=America/Los_Angeles:20260122T160000
DTSTAMP:20260421T151347
CREATED:20251230T175457Z
LAST-MODIFIED:20251230T175458Z
UID:10069335-1769083200-1769097600@thedirt.online
SUMMARY:Village Homes: A Radical Plan
DESCRIPTION:“Village Homes: A Radical Plan” celebrates the 50th anniversary of an innovative west Davis neighborhood community. Curated by Professor Timothy McNeil and guest curator Adrienne McGraw\, the installation showcases the vision\, concepts\, and development behind the project and its goals. This ground-breaking exhibition will feature original objects\, archival photographs\, plans and drawings\, a part-built section of a typical 1970s house in Village Homes recreating a living space and demonstrating the passive solar features\, and an interactive three-dimensional site plan of the neighborhood’s unique landscape. Other highlights include a 30-minute documentary film about the community.
URL:https://thedirt.online/event/village-homes-a-radical-plan-2/
LOCATION:UC Davis Design Museum\, Cruess Hall\, #124\, Davis\, 95616\, United States
CATEGORIES:Community
ATTACH;FMTTYPE=image/jpeg:https://thedirt.online/wp-content/uploads/2025/12/Aerial-view-of-Village-Homes-late-1970s-phot-from-Judy-Corbett-Archive-scaled.jpg
END:VEVENT
BEGIN:VEVENT
DTSTART;TZID=America/Los_Angeles:20260122T100000
DTEND;TZID=America/Los_Angeles:20260122T104500
DTSTAMP:20260421T151347
CREATED:20251224T065735Z
LAST-MODIFIED:20251224T065735Z
UID:10070805-1769076000-1769078700@thedirt.online
SUMMARY:Spanish Toddler Playgroup
DESCRIPTION:Spanish Toddler Playgroup\nFREE IN JANUARY\nRegistration required by emailing: davislanguageacademy@gmail.com\nAges- 2-4 years old.\nDays – Thursday 10:00-10:45 am\nDescription: Come play & learn Spanish with our toddler Spanish immersion group.\nAddress: 732 Third St\, suite B
URL:https://thedirt.online/event/spanish-toddler-playgroup/2026-01-22/
LOCATION:Davis Language Academy\, 231 G St\, suite 23\, Davis\, ca
CATEGORIES:Bring the Kids,Community
END:VEVENT
BEGIN:VEVENT
DTSTART;TZID=America/Los_Angeles:20260122T093000
DTEND;TZID=America/Los_Angeles:20260122T113000
DTSTAMP:20260421T151347
CREATED:20250824T214604Z
LAST-MODIFIED:20250824T223437Z
UID:10049591-1769074200-1769081400@thedirt.online
SUMMARY:Davis Makerspace & Clothing Repair Cafe
DESCRIPTION:Davis Makerspace is a community workspace for makers and builders\, designers and inventors. A small assortment of tools will be available for use and staff or volunteers will be on hand to provide some assistance. Supervised children are welcome. Participants must provide a signed liability waiver (available on site). Mondays & Tuesdays\, 6p—8p; Thursdays\, 9:30a—11:30a; Fridays\, 3p—5p.
URL:https://thedirt.online/event/davis-makerspace-clothing-repair-cafe-6-3-2/2026-01-22/
LOCATION:Mary L. Stephens Davis Branch Library\, 315 East 14th Street\, Davis\, CA\, 95616\, United States
GEO:40.7321931;-73.9841278
X-APPLE-STRUCTURED-LOCATION;VALUE=URI;X-ADDRESS=Mary L. Stephens Davis Branch Library 315 East 14th Street Davis CA 95616 United States;X-APPLE-RADIUS=500;X-TITLE=315 East 14th Street:geo:-73.9841278,40.7321931
END:VEVENT
BEGIN:VEVENT
DTSTART;TZID=America/Los_Angeles:20260122T090000
DTEND;TZID=America/Los_Angeles:20260122T150000
DTSTAMP:20260421T151347
CREATED:20241228T091727Z
LAST-MODIFIED:20250223T010414Z
UID:10064845-1769072400-1769094000@thedirt.online
SUMMARY:Blue Barn Thrift Store
DESCRIPTION:YOLO COUNTY LANDFILL. Save money while helping our environment. The Blue Barn has gently used items for sale including furniture\, housewares\, tools\, sporting goods\, electronics\, gardening equipment\, toys\, and books. Sales Thursdays & the 3rd Saturday of the month\, where all items are half priced. 9a—3p.
URL:https://thedirt.online/event/blue-barn-thrift-store/2026-01-22/
LOCATION:Blue Barn Thirft Store
END:VEVENT
BEGIN:VEVENT
DTSTART;TZID=America/Los_Angeles:20260121T190000
DTEND;TZID=America/Los_Angeles:20260121T210000
DTSTAMP:20260421T151347
CREATED:20250624T030607Z
LAST-MODIFIED:20250624T030607Z
UID:10034576-1769022000-1769029200@thedirt.online
SUMMARY:Pub Quiz (Trivia) hosted by Dr. Andy
DESCRIPTION:Sudwerk Trivia is a free\, first come-first serve\, all-ages event. \nJoin us for a fun-filled evening of brain-teasing questions and friendly competition at Sudwerk’s Pub Quiz every Wednesday from 7-9pm! Put your knowledge to the test and gather your friends for a night of laughter and excitement. \nLocation: 2001 2nd Street\, Davis\, CA 95618 \nYou do not have to be 21+ to participate in trivia. There is no drink minimum. \n 
URL:https://thedirt.online/event/pub-quiz-trivia-hosted-by-dr-andy-2/2026-01-21/
LOCATION:Sudwerk Brewing Co.\, 2001 2nd St\, Davis\, CA\, 95618\, United States
CATEGORIES:Featured
ATTACH;FMTTYPE=image/png:https://thedirt.online/wp-content/uploads/2024/08/Screen-Shot-2024-08-22-at-11.50.58-PM.png
END:VEVENT
BEGIN:VEVENT
DTSTART;TZID=America/Los_Angeles:20260121T180000
DTEND;TZID=America/Los_Angeles:20260121T193000
DTSTAMP:20260421T151347
CREATED:20251224T211629Z
LAST-MODIFIED:20251224T211630Z
UID:10031251-1769018400-1769023800@thedirt.online
SUMMARY:Mantra Meditation
DESCRIPTION:Let your worries melt away. Mantras are ancient healing sounds that takes the mind off of the stress of modern day life\, and gives us real rest. \n  \nWe will practice 3 simple techniques that you can continue to practice at home on your own. This includes deep breathing\, a technique using beads (Japa meditation)\, and music (Kirtan). \n  \nWe will be in the Fireside Room (C Street entrance). Free/ Donations accepted. \n 
URL:https://thedirt.online/event/mantra-meditation-2-2/2026-01-21/
LOCATION:Davis Community Church (DCC)\, 412 C Street\, Davis\, CA\, 95616\, United States
ATTACH;FMTTYPE=image/webp:https://thedirt.online/wp-content/uploads/2024/06/4c1e67_b52b51d2c74246ee99581c470bbd84cemv2.webp
GEO:29.843448;-81.272704
X-APPLE-STRUCTURED-LOCATION;VALUE=URI;X-ADDRESS=Davis Community Church (DCC) 412 C Street Davis CA 95616 United States;X-APPLE-RADIUS=500;X-TITLE=412 C Street:geo:-81.272704,29.843448
END:VEVENT
BEGIN:VEVENT
DTSTART;TZID=America/Los_Angeles:20260121T173000
DTEND;TZID=America/Los_Angeles:20260121T183000
DTSTAMP:20260421T151347
CREATED:20251224T071329Z
LAST-MODIFIED:20251224T071329Z
UID:10070814-1769016600-1769020200@thedirt.online
SUMMARY:Beginner French Adults
DESCRIPTION:Beginner French Adults\nFREE IN JANUARY\nRegistration required by emailing: davislanguageacademy@gmail.com\nAges- Adults\nDays – Wednesday 5:30-6:30 pm\nDescription: Beginner French class focused on basic and practical conversational skills.\nAddress: 732 Third St\, suite B
URL:https://thedirt.online/event/beginner-french-adults/2026-01-21/
LOCATION:Davis Language Academy\, 231 G St\, suite 23\, Davis\, ca
CATEGORIES:Community
END:VEVENT
BEGIN:VEVENT
DTSTART;TZID=America/Los_Angeles:20260121T150000
DTEND;TZID=America/Los_Angeles:20260121T180000
DTSTAMP:20260421T151347
CREATED:20250924T052353Z
LAST-MODIFIED:20250924T052353Z
UID:10065964-1769007600-1769018400@thedirt.online
SUMMARY:Davis Farmers Market
DESCRIPTION:Year-round at Central Park in downtown Davis\, thousands gather each week to shop for what is grown\, raised\, and made locally at our markets. We are dedicated to bringing farmers right to your table\, so we stay open rain or shine. \nWalk rows of stalls lined with an array of fruits and vegetables\, including certified organic produce\, choice meats\, chicken\, seafood\, wine\, local eggs and honey. Choose from a variety of fresh-baked goods\, plants\, flowers and gifts. Enjoy a picnic from one of our many food stands\, made from market ingredients. \nSee the vendor list here: https://www.davisfarmersmarket.org/our-sellers/ \nFarmers Market Hours  \nCentral Park: Saturdays 8a–1p (year-round)\, and Wednesdays 3p–6p (October through April); 4p–8p (May through September)\nUC Davis – North Quad: Wednesdays 10a–1:30p (fall and spring quarters)\nSutter Davis Hospital: Thursdays 10a–1p (May through September)\nSutter Medical Center\, Sacramento: Thursdays 2:30p–5:30p \n 
URL:https://thedirt.online/event/davis-farmers-market/2026-01-21/
LOCATION:Central Park
CATEGORIES:Bring the Kids,Food & Drink,Shopping
ATTACH;FMTTYPE=image/png:https://thedirt.online/wp-content/uploads/2020/03/davis-farmers-market-logo-KERN-ADJUST2-01-1-e1649900473633.png
ORGANIZER;CN="Davis Farmers Market":MAILTO:dfmpr@dcn.org
END:VEVENT
BEGIN:VEVENT
DTSTART;TZID=America/Los_Angeles:20260121T150000
DTEND;TZID=America/Los_Angeles:20260121T170000
DTSTAMP:20260421T151347
CREATED:20251230T175351Z
LAST-MODIFIED:20251230T175354Z
UID:10050123-1769007600-1769014800@thedirt.online
SUMMARY:Slow Jazz Jam
DESCRIPTION:Slow Jazz jam for musicians working on their improvisational jazz chops. This jam is for musicians who are proficient on their instrument but are new  to jazz. The Slow Jam meets every third Wednesday of the month at the Davis Senior Center.
URL:https://thedirt.online/event/slow-jazz-jam-2/
LOCATION:Davis Senior Center\, 646 A St\, Davis\, CA\, 95616\, United States
CATEGORIES:Music
ORGANIZER;CN="Davis Senior Center":MAILTO:seniorservices@cityofdavis.org
GEO:38.5488097;-121.7472407
X-APPLE-STRUCTURED-LOCATION;VALUE=URI;X-ADDRESS=Davis Senior Center 646 A St Davis CA 95616 United States;X-APPLE-RADIUS=500;X-TITLE=646 A St:geo:-121.7472407,38.5488097
END:VEVENT
BEGIN:VEVENT
DTSTART;TZID=America/Los_Angeles:20260121T130000
DTEND;TZID=America/Los_Angeles:20260121T153000
DTSTAMP:20260421T151347
CREATED:20250524T234504Z
LAST-MODIFIED:20250524T234505Z
UID:10061215-1769000400-1769009400@thedirt.online
SUMMARY:Davis Genealogy Club Library Hours
DESCRIPTION:Library Hours: Wednesdays\, 1 – 3:30 p.m. (excluding holidays) \nThis group assists and maintains the Senior Center’s extensive Genealogy Library\, and in addition\, hosts monthly lectures and meetings. During library hours\, members are available to assist you with accessing research materials. Computer access is also available in the library for research purposes.
URL:https://thedirt.online/event/davis-genealogy-club-library-hours-2/2026-01-21/
LOCATION:Davis Senior Center\, 646 A St\, Davis\, CA\, 95616\, United States
GEO:38.5488097;-121.7472407
X-APPLE-STRUCTURED-LOCATION;VALUE=URI;X-ADDRESS=Davis Senior Center 646 A St Davis CA 95616 United States;X-APPLE-RADIUS=500;X-TITLE=646 A St:geo:-121.7472407,38.5488097
END:VEVENT
BEGIN:VEVENT
DTSTART;TZID=America/Los_Angeles:20260121T120000
DTEND;TZID=America/Los_Angeles:20260121T160000
DTSTAMP:20260421T151347
CREATED:20251210T225628Z
LAST-MODIFIED:20251210T225628Z
UID:10069334-1768996800-1769011200@thedirt.online
SUMMARY:Village Homes: A Radical Plan
DESCRIPTION:“Village Homes: A Radical Plan” celebrates the 50th anniversary of an innovative west Davis neighborhood community. Curated by Professor Timothy McNeil and guest curator Adrienne McGraw\, the installation showcases the vision\, concepts\, and development behind the project and its goals. This ground-breaking exhibition will feature original objects\, archival photographs\, plans and drawings\, a part-built section of a typical 1970s house in Village Homes recreating a living space and demonstrating the passive solar features\, and an interactive three-dimensional site plan of the neighborhood’s unique landscape. Other highlights include a 30-minute documentary film about the community.
URL:https://thedirt.online/event/village-homes-a-radical-plan/2026-01-21/
LOCATION:UC Davis Design Museum\, Cruess Hall\, #124\, Davis\, 95616\, United States
CATEGORIES:Community
ATTACH;FMTTYPE=image/jpeg:https://thedirt.online/wp-content/uploads/2025/12/Aerial-view-of-Village-Homes-late-1970s-phot-from-Judy-Corbett-Archive-scaled.jpg
END:VEVENT
BEGIN:VEVENT
DTSTART;VALUE=DATE:20260109
DTEND;VALUE=DATE:20260209
DTSTAMP:20260421T151347
CREATED:20251214T184823Z
LAST-MODIFIED:20251214T184823Z
UID:10070625-1767916800-1770595199@thedirt.online
SUMMARY:Worn
DESCRIPTION:Worn\nExhibit: January 9 – February 8\, 2026\nReception: Friday\, January 9\, 6-9 PM (free) \nClothing that we wear often reflects our personal identity\, our culture\, or both. Participating artists in Worn explore this theme\, illustrating how clothing is a large part of how we see ourselves and how ordinary garments can hold memories and meaning. \nParticipating artists include Ren Allathkani\, José Arenas\, Federica Armstrong\, Karthika Baiju\, Alaine Blaise\, Pinar Brummer\, Sue Bradford\, Yi-Chuan Chen\, Raquel Cox\, Katie DelaVaughn\, John Fortes\, Nola George\, Jori Jori\, Katherine Klein\, Cheryl Lobenberg\, Ro Mottsmith\, Joanne Tepper Saffren\, Deziree Seidner\, Susan Silvester\, Melanie Walas\, Susan Broadhurst Werrin\, and Patricia Whang. \nThis exhibit is sponsored by Joe & Haven DePietro. \nImage: Jori Jori\, “Scraps”
URL:https://thedirt.online/event/worn/
LOCATION:Pence Gallery\, 212 D Street\, Davis\, CA\, 95616\, United States
CATEGORIES:Art
ATTACH;FMTTYPE=image/jpeg:https://thedirt.online/wp-content/uploads/2025/12/Jori-Jori-Scraps-scaled.jpg
ORGANIZER;CN="Pence Gallery":MAILTO:pencegallery@gmail.com
END:VEVENT
BEGIN:VEVENT
DTSTART;VALUE=DATE:20260107
DTEND;VALUE=DATE:20260208
DTSTAMP:20260421T151347
CREATED:20251214T204107Z
LAST-MODIFIED:20251214T204107Z
UID:10070631-1767744000-1770508799@thedirt.online
SUMMARY:Sarah Lam: Beyond Formalities
DESCRIPTION:Beyond Formalities – Sarah Lam \nJanuary 7 – February 7\, 2026 \nThis body of work portrays the psychological state of the individual that goes beyond traditional portraiture. Use of color\, symbolism\, cast shadows\, semi-three dimensional elements\, and embedded shadow boxes are meant to reveal the inner thoughts and character of the model. There are recurring themes in the work which include nature\, the state of the planet\, human connection to animals\, youth\, and mental health. The subjects for my artwork are people I have a connection to; family members\, students\, and friends. \nThe paintings are created using a combination of oil paints and mixed media techniques on wood panel. Acrylic mediums were employed for textural effects including gritty\, cracked\, and sculpted areas. A laser cutter was used to add and remove elements within the panel in order to achieve added depth and multi-layers. Matte medium and other adhesive techniques were applied to attach cloth and paper to the works. In addition poured Epoxy was used to replicate the effects of water in some paintings. \nThe opening reception will coincide with the Downtown Davis 2nd Friday ArtAbout January 9\, from 7-9pm. It will feature live music and free refreshments.
URL:https://thedirt.online/event/sarah-lam-beyond-formalities/
LOCATION:John Natsoulas Gallery\, 521 1st St\, Davis\, CA\, 95616\, United States
CATEGORIES:Art
ATTACH;FMTTYPE=image/png:https://thedirt.online/wp-content/uploads/2025/12/Sarah-Lam.png
ORGANIZER;CN="John Natsoulas Gallery":MAILTO:art@natsoulas.com
GEO:38.5422315;-121.7409632
X-APPLE-STRUCTURED-LOCATION;VALUE=URI;X-ADDRESS=John Natsoulas Gallery 521 1st St Davis CA 95616 United States;X-APPLE-RADIUS=500;X-TITLE=521 1st St:geo:-121.7409632,38.5422315
END:VEVENT
BEGIN:VEVENT
DTSTART;TZID=America/Los_Angeles:20251218T080000
DTEND;TZID=America/Los_Angeles:20260131T170000
DTSTAMP:20260421T151347
CREATED:20251219T230910Z
LAST-MODIFIED:20251219T230910Z
UID:10070783-1766044800-1769878800@thedirt.online
SUMMARY:Gallery 625 Call for Art
DESCRIPTION:Gallery 625\, with the Woodland Camera Forum\, invites photographers to submit up to three artworks that explore the visceral elements of photography through Color\, Texture\, and/or Pattern for this spring’s Sac Photography Month 2026 exhibition. \nCash prizes\, supported in part by the Woodland Camera Forum\, will be awarded for “Best in Show”\, “Second Prize”\, and “People’s Choice”. \nSubmission Deadline: Saturday\, January 31\, 2026 at 5pm\nArtist Notification by: February 20\, 2025\nOpening Reception: April 3\, 2026\nExhibition Dates: March 19 – April 29\, 2026 \nFor complete submission guidelines\, please visit our website.
URL:https://thedirt.online/event/gallery-625-call-for-art/
LOCATION:Gallery 625\, 625 Court St\, Erwin Meier Admin Building\, Woodland\, CA\, 95776\, United States
CATEGORIES:Art,Community
ATTACH;FMTTYPE=image/jpeg:https://thedirt.online/wp-content/uploads/2025/12/Call-for-Art-2025.jpg
END:VEVENT
BEGIN:VEVENT
DTSTART;VALUE=DATE:20251212
DTEND;VALUE=DATE:20260202
DTSTAMP:20260421T151347
CREATED:20251107T183309Z
LAST-MODIFIED:20251107T183309Z
UID:10068204-1765497600-1769990399@thedirt.online
SUMMARY:Maryann Steinert-Foley & Diane Williams: The Realm of Possibility
DESCRIPTION:Maryann Steinert-Foley & Diane Williams: The Realm of Possibility\nExhibit: December 12\, 2025 – February 1\, 2026\nReception: Friday\, December 12\, 6-9 PM (free) \nIn The Realm of Possibility\, artists Diane Williams and Maryann Steinert-Foley explore the persistence\, generosity\, and unseen forces that sustain both nature and humanity. Williams’ layered mixed-media paintings incorporate roots\, branches\, and floral subjects. She builds and excavates her surfaces with paints\, oil sticks\, ink\, pencil and collage\, revealing traces like memory. Steinert-Foley’s sculptures give tactile\, three-dimensional form to themes fundamental to the human endeavor. Her figurative works address the tension between religion and procreation\, while her Boats (Vessels) carry people\, goods\, and culture across time and space. \nA Conversation with the Artists\nSaturday\, January 10\, 2-3:30 PM\n$10 (Free for Students & Members) \nJoin us for a fun and stimulating talk with artists Diane Williams and Maryann Steinert-Foley\, whose exhibit The Realm of Possibility is currently on display at the Pence. Director Natalie Nelson will facilitate the conversation on their respective processes\, layers of meaning in the work\, and the balance between art and life. \nThis exhibit is sponsored by Nancy Roe. \nImages: Maryann Steinert-Foley\, “My Choice Not Yours No. 3” (left); Diane Williams\, “Drifting Sirens” (right)
URL:https://thedirt.online/event/maryann-steinert-foley-diane-williams-the-realm-of-possibility/
LOCATION:Pence Gallery\, 212 D Street\, Davis\, CA\, 95616\, United States
CATEGORIES:Art
ATTACH;FMTTYPE=image/png:https://thedirt.online/wp-content/uploads/2025/11/Steinert-Foley-and-Williams.png
ORGANIZER;CN="Pence Gallery":MAILTO:pencegallery@gmail.com
END:VEVENT
BEGIN:VEVENT
DTSTART;VALUE=DATE:20251120
DTEND;VALUE=DATE:20260215
DTSTAMP:20260421T151347
CREATED:20251126T031852Z
LAST-MODIFIED:20251126T031852Z
UID:10068986-1763596800-1771113599@thedirt.online
SUMMARY:Inspired...
DESCRIPTION:The Barn Gallery’s current exhibition is a collection of work created by Teaching Artists working in Yolo County featuring: Angelo Esquivel\, Cara Gregor\, Emma Montalbano\, Katie DelaVaughn\, Linda Fitz Gibbon\, Melissa Uroff\, Mikaela Watson\, and Tomás Montoya. \nInspired… centers what these artists create and celebrates the cycle of inspiration that enables and fuels their own artistic practice. This show includes Ceramic\, Digital Illustration\, Installation\, Mixed Media\, Painting\, Photography\, and Printed art works. \nOn view at The Barn Gallery through February 14\, 2026. \nThe Barn Gallery and the Gibson House are located at 512 Gibson Road in Woodland. The Barn Gallery is open Tuesdays\, Wednesdays\, and Thursdays from 12 – 5pm and Saturdays from 12 – 3pm. For more information\, visit https://yoloarts.org/ or contact ya@yoloarts.org or 530-309-6464. \nArtwork: What Else Could Happen? No. 2\, Angelo Esquivel\, 2025
URL:https://thedirt.online/event/inspired/
LOCATION:The Barn Gallery\, 512 Gibson Road\, Woodland\, CA\, United States
CATEGORIES:Art,Bring the Kids,Community
ATTACH;FMTTYPE=image/jpeg:https://thedirt.online/wp-content/uploads/2025/11/Esquivel_What-Else-Could-Happen-No-2_7.5-x12.5-copy.jpeg
GEO:38.662264;-121.7735488
X-APPLE-STRUCTURED-LOCATION;VALUE=URI;X-ADDRESS=The Barn Gallery 512 Gibson Road Woodland CA United States;X-APPLE-RADIUS=500;X-TITLE=512 Gibson Road:geo:-121.7735488,38.662264
END:VEVENT
END:VCALENDAR