BEGIN:VCALENDAR
VERSION:2.0
PRODID:-//The Dirt - ECPv6.15.20//NONSGML v1.0//EN
CALSCALE:GREGORIAN
METHOD:PUBLISH
X-WR-CALNAME:The Dirt
X-ORIGINAL-URL:https://thedirt.online
X-WR-CALDESC:Events for The Dirt
REFRESH-INTERVAL;VALUE=DURATION:PT1H
X-Robots-Tag:noindex
X-PUBLISHED-TTL:PT1H
BEGIN:VTIMEZONE
TZID:America/Los_Angeles
BEGIN:DAYLIGHT
TZOFFSETFROM:-0800
TZOFFSETTO:-0700
TZNAME:PDT
DTSTART:20240310T100000
END:DAYLIGHT
BEGIN:STANDARD
TZOFFSETFROM:-0700
TZOFFSETTO:-0800
TZNAME:PST
DTSTART:20241103T090000
END:STANDARD
BEGIN:DAYLIGHT
TZOFFSETFROM:-0800
TZOFFSETTO:-0700
TZNAME:PDT
DTSTART:20250309T100000
END:DAYLIGHT
BEGIN:STANDARD
TZOFFSETFROM:-0700
TZOFFSETTO:-0800
TZNAME:PST
DTSTART:20251102T090000
END:STANDARD
BEGIN:DAYLIGHT
TZOFFSETFROM:-0800
TZOFFSETTO:-0700
TZNAME:PDT
DTSTART:20260308T100000
END:DAYLIGHT
BEGIN:STANDARD
TZOFFSETFROM:-0700
TZOFFSETTO:-0800
TZNAME:PST
DTSTART:20261101T090000
END:STANDARD
BEGIN:DAYLIGHT
TZOFFSETFROM:-0800
TZOFFSETTO:-0700
TZNAME:PDT
DTSTART:20270314T100000
END:DAYLIGHT
BEGIN:STANDARD
TZOFFSETFROM:-0700
TZOFFSETTO:-0800
TZNAME:PST
DTSTART:20271107T090000
END:STANDARD
END:VTIMEZONE
BEGIN:VEVENT
DTSTART;TZID=America/Los_Angeles:20260122T150000
DTEND;TZID=America/Los_Angeles:20260122T163000
DTSTAMP:20260422T170856
CREATED:20251126T064428Z
LAST-MODIFIED:20251202T024110Z
UID:10069066-1769094000-1769099400@thedirt.online
SUMMARY:Line Dance Class at Davis Odd Fellows
DESCRIPTION:Absolute beginner to high beginner dances on Thursdays. Free & open to the public. Donations accepted.
URL:https://thedirt.online/event/line-dance-class-at-davis-odd-fellows-4/2026-01-22/
LOCATION:Davis Odd Fellows
CATEGORIES:Music,Stage & Dance
ATTACH;FMTTYPE=image/jpeg:https://thedirt.online/wp-content/uploads/2025/11/Davis-ODD-FELLOWS-Line-Dance-Flyer-FALL-2025-scaled.jpg
ORGANIZER;CN="Davis Line Dance":MAILTO:davislinedance@gmail.com
END:VEVENT
BEGIN:VEVENT
DTSTART;TZID=America/Los_Angeles:20260122T120000
DTEND;TZID=America/Los_Angeles:20260122T160000
DTSTAMP:20260422T170856
CREATED:20251230T175457Z
LAST-MODIFIED:20251230T175458Z
UID:10069335-1769083200-1769097600@thedirt.online
SUMMARY:Village Homes: A Radical Plan
DESCRIPTION:“Village Homes: A Radical Plan” celebrates the 50th anniversary of an innovative west Davis neighborhood community. Curated by Professor Timothy McNeil and guest curator Adrienne McGraw\, the installation showcases the vision\, concepts\, and development behind the project and its goals. This ground-breaking exhibition will feature original objects\, archival photographs\, plans and drawings\, a part-built section of a typical 1970s house in Village Homes recreating a living space and demonstrating the passive solar features\, and an interactive three-dimensional site plan of the neighborhood’s unique landscape. Other highlights include a 30-minute documentary film about the community.
URL:https://thedirt.online/event/village-homes-a-radical-plan-2/
LOCATION:UC Davis Design Museum\, Cruess Hall\, #124\, Davis\, 95616\, United States
CATEGORIES:Community
ATTACH;FMTTYPE=image/jpeg:https://thedirt.online/wp-content/uploads/2025/12/Aerial-view-of-Village-Homes-late-1970s-phot-from-Judy-Corbett-Archive-scaled.jpg
END:VEVENT
BEGIN:VEVENT
DTSTART;TZID=America/Los_Angeles:20260122T100000
DTEND;TZID=America/Los_Angeles:20260122T104500
DTSTAMP:20260422T170856
CREATED:20251224T065735Z
LAST-MODIFIED:20251224T065735Z
UID:10070805-1769076000-1769078700@thedirt.online
SUMMARY:Spanish Toddler Playgroup
DESCRIPTION:Spanish Toddler Playgroup\nFREE IN JANUARY\nRegistration required by emailing: davislanguageacademy@gmail.com\nAges- 2-4 years old.\nDays – Thursday 10:00-10:45 am\nDescription: Come play & learn Spanish with our toddler Spanish immersion group.\nAddress: 732 Third St\, suite B
URL:https://thedirt.online/event/spanish-toddler-playgroup/2026-01-22/
LOCATION:Davis Language Academy\, 231 G St\, suite 23\, Davis\, ca
CATEGORIES:Bring the Kids,Community
END:VEVENT
BEGIN:VEVENT
DTSTART;TZID=America/Los_Angeles:20260122T093000
DTEND;TZID=America/Los_Angeles:20260122T113000
DTSTAMP:20260422T170856
CREATED:20250824T214604Z
LAST-MODIFIED:20250824T223437Z
UID:10049591-1769074200-1769081400@thedirt.online
SUMMARY:Davis Makerspace & Clothing Repair Cafe
DESCRIPTION:Davis Makerspace is a community workspace for makers and builders\, designers and inventors. A small assortment of tools will be available for use and staff or volunteers will be on hand to provide some assistance. Supervised children are welcome. Participants must provide a signed liability waiver (available on site). Mondays & Tuesdays\, 6p—8p; Thursdays\, 9:30a—11:30a; Fridays\, 3p—5p.
URL:https://thedirt.online/event/davis-makerspace-clothing-repair-cafe-6-3-2/2026-01-22/
LOCATION:Mary L. Stephens Davis Branch Library\, 315 East 14th Street\, Davis\, CA\, 95616\, United States
GEO:40.7321931;-73.9841278
X-APPLE-STRUCTURED-LOCATION;VALUE=URI;X-ADDRESS=Mary L. Stephens Davis Branch Library 315 East 14th Street Davis CA 95616 United States;X-APPLE-RADIUS=500;X-TITLE=315 East 14th Street:geo:-73.9841278,40.7321931
END:VEVENT
BEGIN:VEVENT
DTSTART;TZID=America/Los_Angeles:20260122T090000
DTEND;TZID=America/Los_Angeles:20260122T150000
DTSTAMP:20260422T170856
CREATED:20241228T091727Z
LAST-MODIFIED:20250223T010414Z
UID:10064845-1769072400-1769094000@thedirt.online
SUMMARY:Blue Barn Thrift Store
DESCRIPTION:YOLO COUNTY LANDFILL. Save money while helping our environment. The Blue Barn has gently used items for sale including furniture\, housewares\, tools\, sporting goods\, electronics\, gardening equipment\, toys\, and books. Sales Thursdays & the 3rd Saturday of the month\, where all items are half priced. 9a—3p.
URL:https://thedirt.online/event/blue-barn-thrift-store/2026-01-22/
LOCATION:Blue Barn Thirft Store
END:VEVENT
BEGIN:VEVENT
DTSTART;TZID=America/Los_Angeles:20251218T080000
DTEND;TZID=America/Los_Angeles:20260131T170000
DTSTAMP:20260422T170856
CREATED:20251219T230910Z
LAST-MODIFIED:20251219T230910Z
UID:10070783-1766044800-1769878800@thedirt.online
SUMMARY:Gallery 625 Call for Art
DESCRIPTION:Gallery 625\, with the Woodland Camera Forum\, invites photographers to submit up to three artworks that explore the visceral elements of photography through Color\, Texture\, and/or Pattern for this spring’s Sac Photography Month 2026 exhibition. \nCash prizes\, supported in part by the Woodland Camera Forum\, will be awarded for “Best in Show”\, “Second Prize”\, and “People’s Choice”. \nSubmission Deadline: Saturday\, January 31\, 2026 at 5pm\nArtist Notification by: February 20\, 2025\nOpening Reception: April 3\, 2026\nExhibition Dates: March 19 – April 29\, 2026 \nFor complete submission guidelines\, please visit our website.
URL:https://thedirt.online/event/gallery-625-call-for-art/
LOCATION:Gallery 625\, 625 Court St\, Erwin Meier Admin Building\, Woodland\, CA\, 95776\, United States
CATEGORIES:Art,Community
ATTACH;FMTTYPE=image/jpeg:https://thedirt.online/wp-content/uploads/2025/12/Call-for-Art-2025.jpg
END:VEVENT
END:VCALENDAR