BEGIN:VCALENDAR
VERSION:2.0
PRODID:-//The Dirt - ECPv6.15.20//NONSGML v1.0//EN
CALSCALE:GREGORIAN
METHOD:PUBLISH
X-WR-CALNAME:The Dirt
X-ORIGINAL-URL:https://thedirt.online
X-WR-CALDESC:Events for The Dirt
REFRESH-INTERVAL;VALUE=DURATION:PT1H
X-Robots-Tag:noindex
X-PUBLISHED-TTL:PT1H
BEGIN:VTIMEZONE
TZID:America/Los_Angeles
BEGIN:DAYLIGHT
TZOFFSETFROM:-0800
TZOFFSETTO:-0700
TZNAME:PDT
DTSTART:20240310T100000
END:DAYLIGHT
BEGIN:STANDARD
TZOFFSETFROM:-0700
TZOFFSETTO:-0800
TZNAME:PST
DTSTART:20241103T090000
END:STANDARD
BEGIN:DAYLIGHT
TZOFFSETFROM:-0800
TZOFFSETTO:-0700
TZNAME:PDT
DTSTART:20250309T100000
END:DAYLIGHT
BEGIN:STANDARD
TZOFFSETFROM:-0700
TZOFFSETTO:-0800
TZNAME:PST
DTSTART:20251102T090000
END:STANDARD
BEGIN:DAYLIGHT
TZOFFSETFROM:-0800
TZOFFSETTO:-0700
TZNAME:PDT
DTSTART:20260308T100000
END:DAYLIGHT
BEGIN:STANDARD
TZOFFSETFROM:-0700
TZOFFSETTO:-0800
TZNAME:PST
DTSTART:20261101T090000
END:STANDARD
BEGIN:DAYLIGHT
TZOFFSETFROM:-0800
TZOFFSETTO:-0700
TZNAME:PDT
DTSTART:20270314T100000
END:DAYLIGHT
BEGIN:STANDARD
TZOFFSETFROM:-0700
TZOFFSETTO:-0800
TZNAME:PST
DTSTART:20271107T090000
END:STANDARD
END:VTIMEZONE
BEGIN:VEVENT
DTSTART;TZID=America/Los_Angeles:20260124T080000
DTEND;TZID=America/Los_Angeles:20260124T130000
DTSTAMP:20260422T154239
CREATED:20260122T020954Z
LAST-MODIFIED:20260122T020954Z
UID:10072260-1769241600-1769259600@thedirt.online
SUMMARY:Cool Davis Home Energy Pop-Up at the Davis Farmers Market
DESCRIPTION:Stop by the Cool Davis Home Energy Pop-Up at the Davis Farmers Market on Saturday\, January 24th! Our booth will be located at the far end of the market; nearby the carousel. \nGet access to free assistance\, resources\, and helpful materials to support your home energy journey—from efficiency tips to clean energy solutions. Swing by\, ask questions\, and take the next step toward a more comfortable\, energy-smart home. We look forward to seeing you there!
URL:https://thedirt.online/event/cool-davis-home-energy-pop-up-at-the-davis-farmers-market/
LOCATION:Central Park
CATEGORIES:Community
ATTACH;FMTTYPE=image/png:https://thedirt.online/wp-content/uploads/2026/01/CoolDavis-logo-URL.png
ORGANIZER;CN="Cool Davis":MAILTO:newseditor@cooldavis.org
END:VEVENT
BEGIN:VEVENT
DTSTART;TZID=America/Los_Angeles:20260124T080000
DTEND;TZID=America/Los_Angeles:20260124T130000
DTSTAMP:20260422T154239
CREATED:20240927T020114Z
LAST-MODIFIED:20240927T020114Z
UID:10038680-1769241600-1769259600@thedirt.online
SUMMARY:Davis Farmers Market
DESCRIPTION:Year-round at Central Park in downtown Davis\, thousands gather each week to shop for what is grown\, raised\, and made locally at our markets. We are dedicated to bringing farmers right to your table\, so we stay open rain or shine. \nWalk rows of stalls lined with an array of fruits and vegetables\, including certified organic produce\, choice meats\, chicken\, seafood\, wine\, local eggs and honey. Choose from a variety of fresh-baked goods\, plants\, flowers and gifts. Enjoy a picnic from one of our many food stands\, made from market ingredients. \nSee the vendor list here: https://www.davisfarmersmarket.org/our-sellers/ \nFarmers Market Hours  \nCentral Park: Saturdays 8a–1p (year-round)\, and Wednesdays 3p–6p (October through April); 4p–8p (May through September)\nUC Davis – North Quad: Wednesdays 10a–1:30p (fall and spring quarters)\nSutter Davis Hospital: Thursdays 10a–1p (May through September)\nSutter Medical Center\, Sacramento: Thursdays 2:30p–5:30p \n 
URL:https://thedirt.online/event/davis-farmers-market-3-2-2/2026-01-24/
LOCATION:Central Park
CATEGORIES:Bring the Kids,Food & Drink,Shopping
ATTACH;FMTTYPE=image/png:https://thedirt.online/wp-content/uploads/2020/03/davis-farmers-market-logo-KERN-ADJUST2-01-1-e1649900473633.png
ORGANIZER;CN="Davis Farmers Market":MAILTO:dfmpr@dcn.org
END:VEVENT
BEGIN:VEVENT
DTSTART;TZID=America/Los_Angeles:20260124T080000
DTEND;TZID=America/Los_Angeles:20260124T093000
DTSTAMP:20260422T154239
CREATED:20250903T040651Z
LAST-MODIFIED:20250903T040651Z
UID:10064054-1769241600-1769247000@thedirt.online
SUMMARY:Mace Ranch parkrun
DESCRIPTION:A free\, fun\, and friendly weekly 5k community event. Walk\, jog\, run\, volunteer or spectate – it’s up to you!
URL:https://thedirt.online/event/mace-ranch-parkrun/2026-01-24/
LOCATION:Mace Ranch Park\, 3141 5th St\, Davis\, CA\, 95618\, United States
CATEGORIES:Bring the Kids,Community,Fitness,Outside,Sports
ATTACH;FMTTYPE=image/jpeg:https://thedirt.online/wp-content/uploads/2025/09/parkrun.jpg
GEO:38.5558739;-121.7094369
X-APPLE-STRUCTURED-LOCATION;VALUE=URI;X-ADDRESS=Mace Ranch Park 3141 5th St Davis CA 95618 United States;X-APPLE-RADIUS=500;X-TITLE=3141 5th St:geo:-121.7094369,38.5558739
END:VEVENT
BEGIN:VEVENT
DTSTART;TZID=America/Los_Angeles:20260123T193000
DTEND;TZID=America/Los_Angeles:20260123T212000
DTSTAMP:20260422T154239
CREATED:20251002T024618Z
LAST-MODIFIED:20251230T175544Z
UID:10066267-1769196600-1769203200@thedirt.online
SUMMARY:Blade Runner LIVE
DESCRIPTION:Experience Ridley Scott’s multi-Academy Award-nominated cult classic\, Blade Runner (2007 Final Cut)\, on a vast HD screen while Vangelis’ synthesiser-led score is performed by The Avex Ensemble for the first time in-sync with the 1982 motion picture. \nIn this stylish noir thriller\, detective Rick Deckard (Harrison Ford) must continue as Replicant Hunter following the escape of 4 Replicants from colonies who’ve returned to earth. His mission however is complicated when he falls for Rachel (Sean Young); a Replicant based at the Tyrell Corporation.
URL:https://thedirt.online/event/blade-runner-live/
LOCATION:Mondavi Center (Mondavi) UC Davis Campus
CATEGORIES:Music,Screen
ATTACH;FMTTYPE=image/jpeg:https://thedirt.online/wp-content/uploads/2025/09/BladeRunnerWebGraphic.jpg
END:VEVENT
BEGIN:VEVENT
DTSTART;TZID=America/Los_Angeles:20260123T170000
DTEND;TZID=America/Los_Angeles:20260123T200000
DTSTAMP:20260422T154239
CREATED:20260109T233207Z
LAST-MODIFIED:20260109T233207Z
UID:10071581-1769187600-1769198400@thedirt.online
SUMMARY:Live Music & Food Truck
DESCRIPTION:🎷🍷 Live Music & Food Truck at Great Bear Vineyards🍷🎷\nFriday\, January 23 | 5–8pm \nEase into your Friday evening with great wine\, smooth jazz\, and a really good cause. Join us at Great Bear Vineyards to support the J St Jazz Cats\, a talented local group of young musicians. Event is from 5-8pm with the musical performance scheduled from 6-7:30pm. \n🎟 Your ticket includes your first glass of wine\, then feel free to explore wine by the glass or bottle\, enjoy a tasting\, and grab snacks available for purchase. Want to keep it super relaxed? You’re welcome to bring your own picnic or favorite “to-go” food and settle in for an easy\, unhurried evening at the vineyard. \n✨ A portion of all ticket proceeds goes directly to supporting these amazing student musicians—so every sip does a little good. \n☀️ Sunny-Day Bonus!\nIf the weather decides to show off\, we’ll level things up with a pop-up food truck. Keep an eye on our social media and website for sunny-weather updates. \nGood wine. Great music. Supporting local youth. That’s a Friday night we can all feel good about. 🍇🎶
URL:https://thedirt.online/event/live-music-food-truck-4/
LOCATION:Great Bear Vineyards (Great Bear)\, 24800 County Rd 101A
CATEGORIES:Games,Music
ATTACH;FMTTYPE=image/png:https://thedirt.online/wp-content/uploads/2026/01/1-23-26-Thumbnail.png
ORGANIZER;CN="Great Bear Vineyards":MAILTO:greatbearvineyards@gmail.com
GEO:38.5818013;-121.7499687
X-APPLE-STRUCTURED-LOCATION;VALUE=URI;X-ADDRESS=Great Bear Vineyards (Great Bear) 24800 County Rd 101A;X-APPLE-RADIUS=500;X-TITLE=24800 County Rd 101A:geo:-121.7499687,38.5818013
END:VEVENT
BEGIN:VEVENT
DTSTART;TZID=America/Los_Angeles:20260123T150000
DTEND;TZID=America/Los_Angeles:20260123T170000
DTSTAMP:20260422T154239
CREATED:20251224T073754Z
LAST-MODIFIED:20251224T073754Z
UID:10070866-1769180400-1769187600@thedirt.online
SUMMARY:Davis Makerspace & Clothing Repair Cafe
DESCRIPTION:Davis Makerspace is a community workspace for makers and builders\, designers and inventors. A small assortment of tools will be available for use and staff or volunteers will be on hand to provide some assistance. Supervised children are welcome. Participants must provide a signed liability waiver (available on site). Mondays & Tuesdays\, 6p—8p; Thursdays\, 9:30a—11:30a; Fridays\, 3p—5p.
URL:https://thedirt.online/event/davis-makerspace-clothing-repair-cafe-2/2026-01-23/
LOCATION:Mary L. Stephens Davis Branch Library\, 315 East 14th Street\, Davis\, CA\, 95616\, United States
CATEGORIES:Art,Community
GEO:40.7321931;-73.9841278
X-APPLE-STRUCTURED-LOCATION;VALUE=URI;X-ADDRESS=Mary L. Stephens Davis Branch Library 315 East 14th Street Davis CA 95616 United States;X-APPLE-RADIUS=500;X-TITLE=315 East 14th Street:geo:-73.9841278,40.7321931
END:VEVENT
BEGIN:VEVENT
DTSTART;TZID=America/Los_Angeles:20260123T150000
DTEND;TZID=America/Los_Angeles:20260123T163000
DTSTAMP:20260422T154239
CREATED:20251126T064711Z
LAST-MODIFIED:20251202T024205Z
UID:10069084-1769180400-1769185800@thedirt.online
SUMMARY:Line Dance Class at Davis Community Church
DESCRIPTION:Absolute beginner to high beginner dances on Fridays. Free & open to the public. Donations accepted.
URL:https://thedirt.online/event/line-dance-class-at-davis-community-church-4/2026-01-23/
LOCATION:Davis Community Church\, 412 C Street\, Davis\, ca\, 95616
CATEGORIES:Music,Stage & Dance
ATTACH;FMTTYPE=image/jpeg:https://thedirt.online/wp-content/uploads/2025/11/Davis-Line-Dance-Flyer-Davis-Community-Church-Friday-FALL-2025-scaled.jpg
ORGANIZER;CN="Davis Line Dance":MAILTO:davislinedance@gmail.com
END:VEVENT
BEGIN:VEVENT
DTSTART;TZID=America/Los_Angeles:20260123T150000
DTEND;TZID=America/Los_Angeles:20260123T163000
DTSTAMP:20260422T154239
CREATED:20230217T214859Z
LAST-MODIFIED:20250625T053009Z
UID:10030336-1769180400-1769185800@thedirt.online
SUMMARY:Tales for Tails
DESCRIPTION:Stephens Davis Branch Library\n315 E 14th St\nDavis\, CA 95616 \n  \nRead to a therapy dog!  Animals are ideal reading companions.  For ages 5-12\, in the Children’s Activity Room. \nFirst come\, first served.  No prior reservations. \nSign up for a 10-minute reading slot at the Children’s Desk on the afternoon of the program. \nCheck website for cancellations. \n  \nNo reservation required. Sponsored by the Friends of the Davis Public Library. You may request reasonable accommodations 5 days in advance by calling (530) 757-5593. Connect with us on Facebook at www.facebook.com/yolocountylibrary.org.
URL:https://thedirt.online/event/tales-for-tails/2026-01-23/
LOCATION:Mary L. Stephens Davis Branch Library\, 315 East 14th Street\, Davis\, CA\, 95616\, United States
CATEGORIES:Books & Talks,Bring the Kids
ATTACH;FMTTYPE=image/jpeg:https://thedirt.online/wp-content/uploads/2023/02/image-6.jpeg
GEO:40.7321931;-73.9841278
X-APPLE-STRUCTURED-LOCATION;VALUE=URI;X-ADDRESS=Mary L. Stephens Davis Branch Library 315 East 14th Street Davis CA 95616 United States;X-APPLE-RADIUS=500;X-TITLE=315 East 14th Street:geo:-73.9841278,40.7321931
END:VEVENT
BEGIN:VEVENT
DTSTART;TZID=America/Los_Angeles:20260123T140000
DTEND;TZID=America/Los_Angeles:20260123T170000
DTSTAMP:20260422T154239
CREATED:20250824T014002Z
LAST-MODIFIED:20250824T192635Z
UID:10077616-1769176800-1769187600@thedirt.online
SUMMARY:Legally Blonde
DESCRIPTION:Legally Blonde – January 9 through February 1\, 2026\nUnderwritten by Michael & Alice Smith\nFabulously fun and based on the adored movie\, Legally Blonde The Musical follows the transformation of Elle Woods as she tackles stereotypes\, snobbery and scandal in pursuit of her dreams. This action-packed musical explodes on the stage with memorable songs and dynamic dances. Equally parts hilarious and heartwarming\, this musical is so much fun it should be illegal. \nRecommended for ages 11 and up \nDirected by Kyle Jackson\nChoreographed by Kyle Jackson
URL:https://thedirt.online/event/legally-blonde/2026-01-23/
LOCATION:Davis Musical Theatre Co. (DMTC)\, 607 Pena Dr.
CATEGORIES:Stage & Dance
ATTACH;FMTTYPE=image/jpeg:https://thedirt.online/wp-content/uploads/2025/08/Legally-Blonde.jpg
GEO:38.5504424;-121.716785
X-APPLE-STRUCTURED-LOCATION;VALUE=URI;X-ADDRESS=Davis Musical Theatre Co. (DMTC) 607 Pena Dr.;X-APPLE-RADIUS=500;X-TITLE=607 Pena Dr.:geo:-121.716785,38.5504424
END:VEVENT
BEGIN:VEVENT
DTSTART;TZID=America/Los_Angeles:20260123T120000
DTEND;TZID=America/Los_Angeles:20260123T160000
DTSTAMP:20260422T154239
CREATED:20251210T225628Z
LAST-MODIFIED:20251210T225628Z
UID:10069336-1769169600-1769184000@thedirt.online
SUMMARY:Village Homes: A Radical Plan
DESCRIPTION:“Village Homes: A Radical Plan” celebrates the 50th anniversary of an innovative west Davis neighborhood community. Curated by Professor Timothy McNeil and guest curator Adrienne McGraw\, the installation showcases the vision\, concepts\, and development behind the project and its goals. This ground-breaking exhibition will feature original objects\, archival photographs\, plans and drawings\, a part-built section of a typical 1970s house in Village Homes recreating a living space and demonstrating the passive solar features\, and an interactive three-dimensional site plan of the neighborhood’s unique landscape. Other highlights include a 30-minute documentary film about the community.
URL:https://thedirt.online/event/village-homes-a-radical-plan/2026-01-23/
LOCATION:UC Davis Design Museum\, Cruess Hall\, #124\, Davis\, 95616\, United States
CATEGORIES:Community
ATTACH;FMTTYPE=image/jpeg:https://thedirt.online/wp-content/uploads/2025/12/Aerial-view-of-Village-Homes-late-1970s-phot-from-Judy-Corbett-Archive-scaled.jpg
END:VEVENT
BEGIN:VEVENT
DTSTART;TZID=America/Los_Angeles:20260122T173000
DTEND;TZID=America/Los_Angeles:20260122T183000
DTSTAMP:20260422T154239
CREATED:20251224T071701Z
LAST-MODIFIED:20251224T071701Z
UID:10070819-1769103000-1769106600@thedirt.online
SUMMARY:Beginner Cantonese Adults
DESCRIPTION:Beginner Cantonese Adults\nFREE IN JANUARY\nRegistration required by emailing: davislanguageacademy@gmail.com\nAges- Adults\nDays – Thursday 5:30-6:30 pm\nDescription: Beginner Cantonese class focused on basic and practical conversational skills.\nAddress: 732 Third St\, suite B
URL:https://thedirt.online/event/beginner-cantonese-adults/2026-01-22/
LOCATION:Davis Language Academy\, 231 G St\, suite 23\, Davis\, ca
CATEGORIES:Community
END:VEVENT
BEGIN:VEVENT
DTSTART;TZID=America/Los_Angeles:20260122T173000
DTEND;TZID=America/Los_Angeles:20260122T181500
DTSTAMP:20260422T154239
CREATED:20251224T070807Z
LAST-MODIFIED:20251224T222507Z
UID:10070946-1769103000-1769105700@thedirt.online
SUMMARY:Play & Learn Russian
DESCRIPTION:Play & Learn Russian\nFREE IN JANUARY\nRegistration required by emailing: davislanguageacademy@gmail.com\nAges- 4-7 years old.\nDays – Thursday 5:30-6:15 pm\nDescription: Come play\, craft & learn Russian with our elementary school Russian group.\nAddress: 732 Third St\, suite B
URL:https://thedirt.online/event/play-learn-russian/2026-01-22/
LOCATION:Davis Language Academy\, 231 G St\, suite 23\, Davis\, ca
CATEGORIES:Bring the Kids,Community
END:VEVENT
BEGIN:VEVENT
DTSTART;TZID=America/Los_Angeles:20260122T150000
DTEND;TZID=America/Los_Angeles:20260122T163000
DTSTAMP:20260422T154239
CREATED:20251126T064428Z
LAST-MODIFIED:20251202T024110Z
UID:10069066-1769094000-1769099400@thedirt.online
SUMMARY:Line Dance Class at Davis Odd Fellows
DESCRIPTION:Absolute beginner to high beginner dances on Thursdays. Free & open to the public. Donations accepted.
URL:https://thedirt.online/event/line-dance-class-at-davis-odd-fellows-4/2026-01-22/
LOCATION:Davis Odd Fellows
CATEGORIES:Music,Stage & Dance
ATTACH;FMTTYPE=image/jpeg:https://thedirt.online/wp-content/uploads/2025/11/Davis-ODD-FELLOWS-Line-Dance-Flyer-FALL-2025-scaled.jpg
ORGANIZER;CN="Davis Line Dance":MAILTO:davislinedance@gmail.com
END:VEVENT
BEGIN:VEVENT
DTSTART;TZID=America/Los_Angeles:20260122T120000
DTEND;TZID=America/Los_Angeles:20260122T160000
DTSTAMP:20260422T154239
CREATED:20251230T175457Z
LAST-MODIFIED:20251230T175458Z
UID:10069335-1769083200-1769097600@thedirt.online
SUMMARY:Village Homes: A Radical Plan
DESCRIPTION:“Village Homes: A Radical Plan” celebrates the 50th anniversary of an innovative west Davis neighborhood community. Curated by Professor Timothy McNeil and guest curator Adrienne McGraw\, the installation showcases the vision\, concepts\, and development behind the project and its goals. This ground-breaking exhibition will feature original objects\, archival photographs\, plans and drawings\, a part-built section of a typical 1970s house in Village Homes recreating a living space and demonstrating the passive solar features\, and an interactive three-dimensional site plan of the neighborhood’s unique landscape. Other highlights include a 30-minute documentary film about the community.
URL:https://thedirt.online/event/village-homes-a-radical-plan-2/
LOCATION:UC Davis Design Museum\, Cruess Hall\, #124\, Davis\, 95616\, United States
CATEGORIES:Community
ATTACH;FMTTYPE=image/jpeg:https://thedirt.online/wp-content/uploads/2025/12/Aerial-view-of-Village-Homes-late-1970s-phot-from-Judy-Corbett-Archive-scaled.jpg
END:VEVENT
BEGIN:VEVENT
DTSTART;TZID=America/Los_Angeles:20260122T100000
DTEND;TZID=America/Los_Angeles:20260122T104500
DTSTAMP:20260422T154239
CREATED:20251224T065735Z
LAST-MODIFIED:20251224T065735Z
UID:10070805-1769076000-1769078700@thedirt.online
SUMMARY:Spanish Toddler Playgroup
DESCRIPTION:Spanish Toddler Playgroup\nFREE IN JANUARY\nRegistration required by emailing: davislanguageacademy@gmail.com\nAges- 2-4 years old.\nDays – Thursday 10:00-10:45 am\nDescription: Come play & learn Spanish with our toddler Spanish immersion group.\nAddress: 732 Third St\, suite B
URL:https://thedirt.online/event/spanish-toddler-playgroup/2026-01-22/
LOCATION:Davis Language Academy\, 231 G St\, suite 23\, Davis\, ca
CATEGORIES:Bring the Kids,Community
END:VEVENT
BEGIN:VEVENT
DTSTART;TZID=America/Los_Angeles:20260122T093000
DTEND;TZID=America/Los_Angeles:20260122T113000
DTSTAMP:20260422T154239
CREATED:20250824T214604Z
LAST-MODIFIED:20250824T223437Z
UID:10049591-1769074200-1769081400@thedirt.online
SUMMARY:Davis Makerspace & Clothing Repair Cafe
DESCRIPTION:Davis Makerspace is a community workspace for makers and builders\, designers and inventors. A small assortment of tools will be available for use and staff or volunteers will be on hand to provide some assistance. Supervised children are welcome. Participants must provide a signed liability waiver (available on site). Mondays & Tuesdays\, 6p—8p; Thursdays\, 9:30a—11:30a; Fridays\, 3p—5p.
URL:https://thedirt.online/event/davis-makerspace-clothing-repair-cafe-6-3-2/2026-01-22/
LOCATION:Mary L. Stephens Davis Branch Library\, 315 East 14th Street\, Davis\, CA\, 95616\, United States
GEO:40.7321931;-73.9841278
X-APPLE-STRUCTURED-LOCATION;VALUE=URI;X-ADDRESS=Mary L. Stephens Davis Branch Library 315 East 14th Street Davis CA 95616 United States;X-APPLE-RADIUS=500;X-TITLE=315 East 14th Street:geo:-73.9841278,40.7321931
END:VEVENT
BEGIN:VEVENT
DTSTART;TZID=America/Los_Angeles:20260122T090000
DTEND;TZID=America/Los_Angeles:20260122T150000
DTSTAMP:20260422T154239
CREATED:20241228T091727Z
LAST-MODIFIED:20250223T010414Z
UID:10064845-1769072400-1769094000@thedirt.online
SUMMARY:Blue Barn Thrift Store
DESCRIPTION:YOLO COUNTY LANDFILL. Save money while helping our environment. The Blue Barn has gently used items for sale including furniture\, housewares\, tools\, sporting goods\, electronics\, gardening equipment\, toys\, and books. Sales Thursdays & the 3rd Saturday of the month\, where all items are half priced. 9a—3p.
URL:https://thedirt.online/event/blue-barn-thrift-store/2026-01-22/
LOCATION:Blue Barn Thirft Store
END:VEVENT
BEGIN:VEVENT
DTSTART;TZID=America/Los_Angeles:20251218T080000
DTEND;TZID=America/Los_Angeles:20260131T170000
DTSTAMP:20260422T154240
CREATED:20251219T230910Z
LAST-MODIFIED:20251219T230910Z
UID:10070783-1766044800-1769878800@thedirt.online
SUMMARY:Gallery 625 Call for Art
DESCRIPTION:Gallery 625\, with the Woodland Camera Forum\, invites photographers to submit up to three artworks that explore the visceral elements of photography through Color\, Texture\, and/or Pattern for this spring’s Sac Photography Month 2026 exhibition. \nCash prizes\, supported in part by the Woodland Camera Forum\, will be awarded for “Best in Show”\, “Second Prize”\, and “People’s Choice”. \nSubmission Deadline: Saturday\, January 31\, 2026 at 5pm\nArtist Notification by: February 20\, 2025\nOpening Reception: April 3\, 2026\nExhibition Dates: March 19 – April 29\, 2026 \nFor complete submission guidelines\, please visit our website.
URL:https://thedirt.online/event/gallery-625-call-for-art/
LOCATION:Gallery 625\, 625 Court St\, Erwin Meier Admin Building\, Woodland\, CA\, 95776\, United States
CATEGORIES:Art,Community
ATTACH;FMTTYPE=image/jpeg:https://thedirt.online/wp-content/uploads/2025/12/Call-for-Art-2025.jpg
END:VEVENT
END:VCALENDAR