BEGIN:VCALENDAR
VERSION:2.0
PRODID:-//The Dirt - ECPv6.15.20//NONSGML v1.0//EN
CALSCALE:GREGORIAN
METHOD:PUBLISH
X-WR-CALNAME:The Dirt
X-ORIGINAL-URL:https://thedirt.online
X-WR-CALDESC:Events for The Dirt
REFRESH-INTERVAL;VALUE=DURATION:PT1H
X-Robots-Tag:noindex
X-PUBLISHED-TTL:PT1H
BEGIN:VTIMEZONE
TZID:America/Los_Angeles
BEGIN:DAYLIGHT
TZOFFSETFROM:-0800
TZOFFSETTO:-0700
TZNAME:PDT
DTSTART:20240310T100000
END:DAYLIGHT
BEGIN:STANDARD
TZOFFSETFROM:-0700
TZOFFSETTO:-0800
TZNAME:PST
DTSTART:20241103T090000
END:STANDARD
BEGIN:DAYLIGHT
TZOFFSETFROM:-0800
TZOFFSETTO:-0700
TZNAME:PDT
DTSTART:20250309T100000
END:DAYLIGHT
BEGIN:STANDARD
TZOFFSETFROM:-0700
TZOFFSETTO:-0800
TZNAME:PST
DTSTART:20251102T090000
END:STANDARD
BEGIN:DAYLIGHT
TZOFFSETFROM:-0800
TZOFFSETTO:-0700
TZNAME:PDT
DTSTART:20260308T100000
END:DAYLIGHT
BEGIN:STANDARD
TZOFFSETFROM:-0700
TZOFFSETTO:-0800
TZNAME:PST
DTSTART:20261101T090000
END:STANDARD
BEGIN:DAYLIGHT
TZOFFSETFROM:-0800
TZOFFSETTO:-0700
TZNAME:PDT
DTSTART:20270314T100000
END:DAYLIGHT
BEGIN:STANDARD
TZOFFSETFROM:-0700
TZOFFSETTO:-0800
TZNAME:PST
DTSTART:20271107T090000
END:STANDARD
END:VTIMEZONE
BEGIN:VEVENT
DTSTART;TZID=America/Los_Angeles:20260119T100000
DTEND;TZID=America/Los_Angeles:20260119T121500
DTSTAMP:20260419T134148
CREATED:20260109T235926Z
LAST-MODIFIED:20260109T235926Z
UID:10071586-1768816800-1768824900@thedirt.online
SUMMARY:32nd Annual City of Davis Dr. Martin Luther King\, Jr. Celebration
DESCRIPTION:32nd ANNUAL CITY OF DAVIS DR. MARTIN LUTHER KING\, JR. CELEBRATION SET FOR JANUARY 19 \n  \nThe City of Davis and the Human Relations Commission invite the public to attend the 32nd annual Dr. Martin Luther King\, Jr. Celebration on Monday\, Jan. 19\, at the Veterans Memorial Theatre\, located at 277 E. 14th Street in Davis. \n  \nThe theme this year is “Injustice Anywhere is a Threat to Justice Everywhere: Protecting Democracy and Freedom of Speech\,” highlighting Dr. King’s call to stand against injustice\, protect democratic values and uphold the fundamental right of free expression in the face of ongoing social challenges. \n  \nThis free\, community-wide event begins at 10 a.m. with an art exhibit showcasing work by local high school students participating in the Ethnic Studies program. The formal program will start at 10:30 a.m. and feature inspirational speakers and musical performances celebrating Dr. King’s lifelong dedication to civil rights\, economic democracy and peace. At 11:45 a.m.\, attendees are invited to take part in a march from the Veterans Memorial Theatre to the Solidarity Space in Central Park. \n  \n“This annual celebration provides an important opportunity to honor the lasting legacy of Dr. Martin Luther King\, Jr. and recommit ourselves to building a community where inclusion is not just an ideal but a lived experience for all\,” said City of Davis Mayor Donna Neville. “His work reminds us that unity is built through understanding\, empathy and the courage to stand together.” \n  \nThe family-friendly event will feature youth and adult speakers\, live performances\, storytelling\, and a community sing-along. \nThis event will be live streamed and recorded by Davis Media Access. To view the livestream\, please visit https://www.youtube.com/live/BwUTw7g5lRg?si=KwqJej47JCGCNjEC For more information\, contact Carrie Dyer at: 530-757-5602 or cdyer@cityofdavis.org.
URL:https://thedirt.online/event/32nd-annual-city-of-davis-dr-martin-luther-king-jr-celebration/
LOCATION:Davis Veterans Memorial Theatre\, 203 E. 14th Street\, Davis\, CA\, 95616\, United States
CATEGORIES:Art,Community,Music,Outside
ATTACH;FMTTYPE=image/jpeg:https://thedirt.online/wp-content/uploads/2026/01/15513.jpeg
END:VEVENT
BEGIN:VEVENT
DTSTART;TZID=America/Los_Angeles:20251218T080000
DTEND;TZID=America/Los_Angeles:20260131T170000
DTSTAMP:20260419T134148
CREATED:20251219T230910Z
LAST-MODIFIED:20251219T230910Z
UID:10070783-1766044800-1769878800@thedirt.online
SUMMARY:Gallery 625 Call for Art
DESCRIPTION:Gallery 625\, with the Woodland Camera Forum\, invites photographers to submit up to three artworks that explore the visceral elements of photography through Color\, Texture\, and/or Pattern for this spring’s Sac Photography Month 2026 exhibition. \nCash prizes\, supported in part by the Woodland Camera Forum\, will be awarded for “Best in Show”\, “Second Prize”\, and “People’s Choice”. \nSubmission Deadline: Saturday\, January 31\, 2026 at 5pm\nArtist Notification by: February 20\, 2025\nOpening Reception: April 3\, 2026\nExhibition Dates: March 19 – April 29\, 2026 \nFor complete submission guidelines\, please visit our website.
URL:https://thedirt.online/event/gallery-625-call-for-art/
LOCATION:Gallery 625\, 625 Court St\, Erwin Meier Admin Building\, Woodland\, CA\, 95776\, United States
CATEGORIES:Art,Community
ATTACH;FMTTYPE=image/jpeg:https://thedirt.online/wp-content/uploads/2025/12/Call-for-Art-2025.jpg
END:VEVENT
BEGIN:VEVENT
DTSTART;VALUE=DATE:20251212
DTEND;VALUE=DATE:20260202
DTSTAMP:20260419T134148
CREATED:20251107T183309Z
LAST-MODIFIED:20251107T183309Z
UID:10068204-1765497600-1769990399@thedirt.online
SUMMARY:Maryann Steinert-Foley & Diane Williams: The Realm of Possibility
DESCRIPTION:Maryann Steinert-Foley & Diane Williams: The Realm of Possibility\nExhibit: December 12\, 2025 – February 1\, 2026\nReception: Friday\, December 12\, 6-9 PM (free) \nIn The Realm of Possibility\, artists Diane Williams and Maryann Steinert-Foley explore the persistence\, generosity\, and unseen forces that sustain both nature and humanity. Williams’ layered mixed-media paintings incorporate roots\, branches\, and floral subjects. She builds and excavates her surfaces with paints\, oil sticks\, ink\, pencil and collage\, revealing traces like memory. Steinert-Foley’s sculptures give tactile\, three-dimensional form to themes fundamental to the human endeavor. Her figurative works address the tension between religion and procreation\, while her Boats (Vessels) carry people\, goods\, and culture across time and space. \nA Conversation with the Artists\nSaturday\, January 10\, 2-3:30 PM\n$10 (Free for Students & Members) \nJoin us for a fun and stimulating talk with artists Diane Williams and Maryann Steinert-Foley\, whose exhibit The Realm of Possibility is currently on display at the Pence. Director Natalie Nelson will facilitate the conversation on their respective processes\, layers of meaning in the work\, and the balance between art and life. \nThis exhibit is sponsored by Nancy Roe. \nImages: Maryann Steinert-Foley\, “My Choice Not Yours No. 3” (left); Diane Williams\, “Drifting Sirens” (right)
URL:https://thedirt.online/event/maryann-steinert-foley-diane-williams-the-realm-of-possibility/
LOCATION:Pence Gallery\, 212 D Street\, Davis\, CA\, 95616\, United States
CATEGORIES:Art
ATTACH;FMTTYPE=image/png:https://thedirt.online/wp-content/uploads/2025/11/Steinert-Foley-and-Williams.png
ORGANIZER;CN="Pence Gallery":MAILTO:pencegallery@gmail.com
END:VEVENT
END:VCALENDAR